BEGIN:VCALENDAR
VERSION:2.0
PRODID:-//Joyce L. Sobel Family Resource Center - ECPv6.15.17.1//NONSGML v1.0//EN
CALSCALE:GREGORIAN
METHOD:PUBLISH
X-ORIGINAL-URL:https://jlsfrc.org
X-WR-CALDESC:Events for Joyce L. Sobel Family Resource Center
REFRESH-INTERVAL;VALUE=DURATION:PT1H
X-Robots-Tag:noindex
X-PUBLISHED-TTL:PT1H
BEGIN:VTIMEZONE
TZID:America/Los_Angeles
BEGIN:DAYLIGHT
TZOFFSETFROM:-0800
TZOFFSETTO:-0700
TZNAME:PDT
DTSTART:20240310T100000
END:DAYLIGHT
BEGIN:STANDARD
TZOFFSETFROM:-0700
TZOFFSETTO:-0800
TZNAME:PST
DTSTART:20241103T090000
END:STANDARD
BEGIN:DAYLIGHT
TZOFFSETFROM:-0800
TZOFFSETTO:-0700
TZNAME:PDT
DTSTART:20250309T100000
END:DAYLIGHT
BEGIN:STANDARD
TZOFFSETFROM:-0700
TZOFFSETTO:-0800
TZNAME:PST
DTSTART:20251102T090000
END:STANDARD
BEGIN:DAYLIGHT
TZOFFSETFROM:-0800
TZOFFSETTO:-0700
TZNAME:PDT
DTSTART:20260308T100000
END:DAYLIGHT
BEGIN:STANDARD
TZOFFSETFROM:-0700
TZOFFSETTO:-0800
TZNAME:PST
DTSTART:20261101T090000
END:STANDARD
END:VTIMEZONE
BEGIN:VEVENT
DTSTART;TZID=America/Los_Angeles:20251015T140000
DTEND;TZID=America/Los_Angeles:20251015T190000
DTSTAMP:20260425T033928
CREATED:20241216T195347Z
LAST-MODIFIED:20260108T222703Z
UID:10006417-1760536800-1760554800@jlsfrc.org
SUMMARY:New Day Recovery Café
DESCRIPTION:Join us for a cup of coffee and a warm meal in a safe space. The Café provides the kind of resources and relationships that provide stability and healing. We recognize that recovery is at the root of growth and healing. \nHours\nTuesday – Friday\n2:00pm – 7:00pm \n🍲 Dinner is served at 5pm on Tuesdays through Fridays. \nSpecial Events\n\nNew member introductions are Wednesdays at 2pm and 6pm.\nJoin Gabriel from the library every other Wednesday from 4-5:30\n\nOur Guiding Principles\n\nTo create a safe community in which all are valued\, we will strive to:\nConnect with love in ourselves and others\nShow respect\nCultivate compassion\nPractice forgiveness\nEncourage growth\nGive back\n\nMember Agreements\n\nDrug and alcohol free space\nAttend a Recovery circle once a week\nHelp Out
URL:https://jlsfrc.org/event/new-day-recovery-cafe-2/2025-10-15/
LOCATION:New Day Recovery Café\, 485 Elsworth Ave\, Friday Harbor\, WA\, 98250\, United States
CATEGORIES:New Day Recovery Café
ATTACH;FMTTYPE=image/jpeg:https://jlsfrc.org/wp-content/uploads/2024/12/New-Day-Recovery-Cafe.jpg
ORGANIZER;CN="New Day Recovery Cafe":MAILTO:newdaycafe@jlsfrc.org
END:VEVENT
BEGIN:VEVENT
DTSTART;TZID=America/Los_Angeles:20251015T160000
DTEND;TZID=America/Los_Angeles:20251015T173000
DTSTAMP:20260425T033928
CREATED:20250108T200057Z
LAST-MODIFIED:20250522T212736Z
UID:10006626-1760544000-1760549400@jlsfrc.org
SUMMARY:Library Services
DESCRIPTION:Join Gabriel\, a Spanish and English speaker\, at the New Day Recovery Café  every other Wednesday from 4:00pm – 5:30pm. He will help people sign up for library cards and answer questions about the library and their services. Additionally\, he brings books\, games\, and videos that people may borrow and take home\, if they have a library card.
URL:https://jlsfrc.org/event/library-services-2/2025-10-15/
LOCATION:New Day Recovery Café\, 485 Elsworth Ave\, Friday Harbor\, WA\, 98250\, United States
CATEGORIES:New Day Recovery Café
ATTACH;FMTTYPE=image/png:https://jlsfrc.org/wp-content/uploads/2024/05/Library-Services.png
ORGANIZER;CN="New Day Recovery Cafe":MAILTO:newdaycafe@jlsfrc.org
END:VEVENT
BEGIN:VEVENT
DTSTART;TZID=America/Los_Angeles:20251015T190000
DTEND;TZID=America/Los_Angeles:20251015T200000
DTSTAMP:20260425T033928
CREATED:20251013T174907Z
LAST-MODIFIED:20251013T175018Z
UID:10007107-1760554800-1760558400@jlsfrc.org
SUMMARY:Global Wave of Light
DESCRIPTION:On October 15th\, join us at the Port from 7–8 PM as part of the global Wave of Light\, a remembrance event for pregnancy and infant loss.\n\n\nWe’ll gather in quiet reflection\, lighting candles together to honor their memory. Participants are invited to take a candle\, walk the circle\, light it at the center flame\, and place it along the way back—a moving gesture of love and connection.\n\n\nThis evening is about creating space for awareness\, remembrance\, and community. Whether you choose to light a candle\, share a name\, or simply stand in support\, all are welcome.
URL:https://jlsfrc.org/event/global-wave-of-light/
LOCATION:Joyce L. Sobel Family Resource Center\, 476 Market Street\, Friday Harbor\, WA\, 98250\, United States
CATEGORIES:Adults
ATTACH;FMTTYPE=image/jpeg:https://jlsfrc.org/wp-content/uploads/2025/10/JLSFRC-Events-Calendar-Images-640-x-360-px-3.jpg
END:VEVENT
END:VCALENDAR