BEGIN:VCALENDAR
VERSION:2.0
PRODID:-//Joyce L. Sobel Family Resource Center - ECPv6.15.17.1//NONSGML v1.0//EN
CALSCALE:GREGORIAN
METHOD:PUBLISH
X-ORIGINAL-URL:https://jlsfrc.org
X-WR-CALDESC:Events for Joyce L. Sobel Family Resource Center
REFRESH-INTERVAL;VALUE=DURATION:PT1H
X-Robots-Tag:noindex
X-PUBLISHED-TTL:PT1H
BEGIN:VTIMEZONE
TZID:America/Los_Angeles
BEGIN:DAYLIGHT
TZOFFSETFROM:-0800
TZOFFSETTO:-0700
TZNAME:PDT
DTSTART:20240310T100000
END:DAYLIGHT
BEGIN:STANDARD
TZOFFSETFROM:-0700
TZOFFSETTO:-0800
TZNAME:PST
DTSTART:20241103T090000
END:STANDARD
BEGIN:DAYLIGHT
TZOFFSETFROM:-0800
TZOFFSETTO:-0700
TZNAME:PDT
DTSTART:20250309T100000
END:DAYLIGHT
BEGIN:STANDARD
TZOFFSETFROM:-0700
TZOFFSETTO:-0800
TZNAME:PST
DTSTART:20251102T090000
END:STANDARD
BEGIN:DAYLIGHT
TZOFFSETFROM:-0800
TZOFFSETTO:-0700
TZNAME:PDT
DTSTART:20260308T100000
END:DAYLIGHT
BEGIN:STANDARD
TZOFFSETFROM:-0700
TZOFFSETTO:-0800
TZNAME:PST
DTSTART:20261101T090000
END:STANDARD
END:VTIMEZONE
BEGIN:VEVENT
DTSTART;TZID=America/Los_Angeles:20251117T103000
DTEND;TZID=America/Los_Angeles:20251117T113000
DTSTAMP:20260425T094356
CREATED:20250828T225149Z
LAST-MODIFIED:20251103T180907Z
UID:10006979-1763375400-1763379000@jlsfrc.org
SUMMARY:Rain or Shine Outdoor Playgroup
DESCRIPTION:Let’s get outside and have some fun! Join our Rain or Shine Outdoor Playgroups for Tots! These playgroups are for little islanders from ages 0-3 years of age and their siblings are welcome\, of course! Caregivers join together to play with their littles and to enjoy the camaraderie and fun that accompanies getting outside. \nAll playgroups happen on Mondays from 10:30am – 11:30am. \nAt Linde Park:\n November 3\, 10\, 17\, 24\nWe hope to see you there!
URL:https://jlsfrc.org/event/rain-or-shine-outdoor-playgroup-7/2025-11-17/
LOCATION:Linde Park\, 565 Carter Ave\, Friday Harbor\, WA\, 98250\, United States
CATEGORIES:Birth-5
ATTACH;FMTTYPE=image/jpeg:https://jlsfrc.org/wp-content/uploads/2025/08/Rain-or-Shine-Outdoor-Playgroup.jpg
END:VEVENT
END:VCALENDAR