BEGIN:VCALENDAR
VERSION:2.0
PRODID:-//Joyce L. Sobel Family Resource Center - ECPv6.15.17.1//NONSGML v1.0//EN
CALSCALE:GREGORIAN
METHOD:PUBLISH
X-WR-CALNAME:Joyce L. Sobel Family Resource Center
X-ORIGINAL-URL:https://jlsfrc.org
X-WR-CALDESC:Events for Joyce L. Sobel Family Resource Center
REFRESH-INTERVAL;VALUE=DURATION:PT1H
X-Robots-Tag:noindex
X-PUBLISHED-TTL:PT1H
BEGIN:VTIMEZONE
TZID:America/Los_Angeles
BEGIN:DAYLIGHT
TZOFFSETFROM:-0800
TZOFFSETTO:-0700
TZNAME:PDT
DTSTART:20240310T100000
END:DAYLIGHT
BEGIN:STANDARD
TZOFFSETFROM:-0700
TZOFFSETTO:-0800
TZNAME:PST
DTSTART:20241103T090000
END:STANDARD
BEGIN:DAYLIGHT
TZOFFSETFROM:-0800
TZOFFSETTO:-0700
TZNAME:PDT
DTSTART:20250309T100000
END:DAYLIGHT
BEGIN:STANDARD
TZOFFSETFROM:-0700
TZOFFSETTO:-0800
TZNAME:PST
DTSTART:20251102T090000
END:STANDARD
BEGIN:DAYLIGHT
TZOFFSETFROM:-0800
TZOFFSETTO:-0700
TZNAME:PDT
DTSTART:20260308T100000
END:DAYLIGHT
BEGIN:STANDARD
TZOFFSETFROM:-0700
TZOFFSETTO:-0800
TZNAME:PST
DTSTART:20261101T090000
END:STANDARD
END:VTIMEZONE
BEGIN:VEVENT
DTSTART;TZID=America/Los_Angeles:20251203T080000
DTEND;TZID=America/Los_Angeles:20251203T110000
DTSTAMP:20260424T032440
CREATED:20250310T181657Z
LAST-MODIFIED:20260218T193213Z
UID:10007128-1764748800-1764759600@jlsfrc.org
SUMMARY:DSHS Mobile Van
DESCRIPTION:The DSHS Mobile van is returning to Friday Harbor on December 1st & 3rd! \nApply for:\n✅ Cash Assistance\n✅ Food Assistance\n✅ Medical Assistance\n✅ Medicare Savings Program \nYou can also:\n✔️Drop off paperwork\n✔️Complete an Eligibility Review\n✔️Complete a Mid-Certification Review\n✔️Make Changes to an Existing Case \n🗓️Times:\nMONDAY 12/01/2025: 12:30PM – 4:30PM\nWEDNESDAY 12/03/2025: 8:00AM – 11:00AM \n📍Location:\nJoyce L. Sobel Family Resource Center\n476 Market Street\, Friday Harbor
URL:https://jlsfrc.org/event/dshs-mobile-van/2025-12-03/
LOCATION:Joyce L. Sobel Family Resource Center\, 476 Market Street\, Friday Harbor\, WA\, 98250\, United States
CATEGORIES:All
ATTACH;FMTTYPE=image/jpeg:https://jlsfrc.org/wp-content/uploads/2025/03/DSHS-Mobile-Office-Event.jpg
END:VEVENT
BEGIN:VEVENT
DTSTART;TZID=America/Los_Angeles:20251203T080000
DTEND;TZID=America/Los_Angeles:20251203T110000
DTSTAMP:20260424T032440
CREATED:20251008T213543Z
LAST-MODIFIED:20260218T192916Z
UID:10007129-1764748800-1764759600@jlsfrc.org
SUMMARY:Care-a-Van Free Health Screening
DESCRIPTION:Free Walk-In Community Health Screenings at the Care-a-Van! No appointment needed — just stop by! Patients will be seen on a first come\, first served basis.\n\n\n\n 03/11/2026\n 10:00AM – 2:00PM\n Joyce L. Sobel Family Resource Center- Baby Room: 476 Market Street\, Friday Harbor\, WA 98250\n\n\n\nHere’s what’s available:\n Blood pressure & vision screenings (ages 3+)\n Blood glucose (ages 12+)\n A1C testing (ages 35+)\n BMI & telehealth (ages 2+)\n Mental health screenings (ages 12+)\n Health & vaccine education for all ages\n\n\n\n Care-a-Van services are available to anyone\, regardless of whether you have insurance….but if you do have insurance please bring proof.
URL:https://jlsfrc.org/event/care-a-van-free-health-screening/2025-12-03/
LOCATION:Joyce L. Sobel Family Resource Center\, 476 Market Street\, Friday Harbor\, WA\, 98250\, United States
CATEGORIES:All
ATTACH;FMTTYPE=image/jpeg:https://jlsfrc.org/wp-content/uploads/2025/10/JLSFRC-Events-Calendar-Images-640-x-360-px-1-1.jpg
END:VEVENT
BEGIN:VEVENT
DTSTART;TZID=America/Los_Angeles:20251203T140000
DTEND;TZID=America/Los_Angeles:20251203T190000
DTSTAMP:20260424T032440
CREATED:20241216T195347Z
LAST-MODIFIED:20260108T222703Z
UID:10006424-1764770400-1764788400@jlsfrc.org
SUMMARY:New Day Recovery Café
DESCRIPTION:Join us for a cup of coffee and a warm meal in a safe space. The Café provides the kind of resources and relationships that provide stability and healing. We recognize that recovery is at the root of growth and healing. \nHours\nTuesday – Friday\n2:00pm – 7:00pm \n🍲 Dinner is served at 5pm on Tuesdays through Fridays. \nSpecial Events\n\nNew member introductions are Wednesdays at 2pm and 6pm.\nJoin Gabriel from the library every other Wednesday from 4-5:30\n\nOur Guiding Principles\n\nTo create a safe community in which all are valued\, we will strive to:\nConnect with love in ourselves and others\nShow respect\nCultivate compassion\nPractice forgiveness\nEncourage growth\nGive back\n\nMember Agreements\n\nDrug and alcohol free space\nAttend a Recovery circle once a week\nHelp Out
URL:https://jlsfrc.org/event/new-day-recovery-cafe-2/2025-12-03/
LOCATION:New Day Recovery Café\, 485 Elsworth Ave\, Friday Harbor\, WA\, 98250\, United States
CATEGORIES:New Day Recovery Café
ATTACH;FMTTYPE=image/jpeg:https://jlsfrc.org/wp-content/uploads/2024/12/New-Day-Recovery-Cafe.jpg
ORGANIZER;CN="New Day Recovery Cafe":MAILTO:newdaycafe@jlsfrc.org
END:VEVENT
END:VCALENDAR