BEGIN:VCALENDAR
VERSION:2.0
PRODID:-//Joyce L. Sobel Family Resource Center - ECPv6.15.17.1//NONSGML v1.0//EN
CALSCALE:GREGORIAN
METHOD:PUBLISH
X-WR-CALNAME:Joyce L. Sobel Family Resource Center
X-ORIGINAL-URL:https://jlsfrc.org
X-WR-CALDESC:Events for Joyce L. Sobel Family Resource Center
REFRESH-INTERVAL;VALUE=DURATION:PT1H
X-Robots-Tag:noindex
X-PUBLISHED-TTL:PT1H
BEGIN:VTIMEZONE
TZID:America/Los_Angeles
BEGIN:DAYLIGHT
TZOFFSETFROM:-0800
TZOFFSETTO:-0700
TZNAME:PDT
DTSTART:20250309T100000
END:DAYLIGHT
BEGIN:STANDARD
TZOFFSETFROM:-0700
TZOFFSETTO:-0800
TZNAME:PST
DTSTART:20251102T090000
END:STANDARD
BEGIN:DAYLIGHT
TZOFFSETFROM:-0800
TZOFFSETTO:-0700
TZNAME:PDT
DTSTART:20260308T100000
END:DAYLIGHT
BEGIN:STANDARD
TZOFFSETFROM:-0700
TZOFFSETTO:-0800
TZNAME:PST
DTSTART:20261101T090000
END:STANDARD
BEGIN:DAYLIGHT
TZOFFSETFROM:-0800
TZOFFSETTO:-0700
TZNAME:PDT
DTSTART:20270314T100000
END:DAYLIGHT
BEGIN:STANDARD
TZOFFSETFROM:-0700
TZOFFSETTO:-0800
TZNAME:PST
DTSTART:20271107T090000
END:STANDARD
END:VTIMEZONE
BEGIN:VEVENT
DTSTART;TZID=America/Los_Angeles:20260214T090000
DTEND;TZID=America/Los_Angeles:20260214T110000
DTSTAMP:20260423T161905
CREATED:20260130T192043Z
LAST-MODIFIED:20260130T192921Z
UID:10007467-1771059600-1771066800@jlsfrc.org
SUMMARY:Little Loves Valentine’s Party
DESCRIPTION:💖 You’re Invited to the Little Loves Valentine’s Party! Bring your little ones for a morning full of hugs\, crafts\, and fun to help support the San Juan Island Childcare Cooperative! \n📅 February 14 from 9–11am.\n📍 Where: SJICC | 425 Spring St \nEnjoy:\n📸 Photo booth fun with Valentine’s props\n🎨 Face painting & take-home crafts\n🎈 Open playtime for little loves (ideal for ages 1–5\, all ages welcome!) \n💰 Pay What You Can — all proceeds benefit the Joyce L. Sobel Family Resource Center & SJICC\, supporting island families!
URL:https://jlsfrc.org/event/little-loves-valentines-party/
CATEGORIES:Birth-5
ATTACH;FMTTYPE=image/jpeg:https://jlsfrc.org/wp-content/uploads/2026/01/JLSFRC-Events-Calendar-Images-640-x-360-px-1-1.jpg
END:VEVENT
BEGIN:VEVENT
DTSTART;TZID=America/Los_Angeles:20260214T090000
DTEND;TZID=America/Los_Angeles:20260214T110000
DTSTAMP:20260423T161905
CREATED:20260211T022000Z
LAST-MODIFIED:20260211T022000Z
UID:10007474-1771059600-1771066800@jlsfrc.org
SUMMARY:Screen-Free 2nd Saturdays
DESCRIPTION:Step away from the screen and into the wild! Join us for February’s Screen-Free Saturday and take part in the Great Backyard Bird Count! \n📅 Saturday\, Feb. 14 | 9–11 AM\n📍 Zylstra Lake Preserve\n👨‍👩‍👧‍👦 Islanders of all ages welcome! \nShona Aitken will be leading the guided bird walk. \nPlease dress appropriately\, and bring binoculars if you have them (we will have some to loan out). \nIt’s a group guided walk\, so arrive promptly at 9am. Trade your screen time for sky time — grab your binoculars\, spot some feathered friends\, and connect with nature and community. Thank you to our community partner\, San Juan County Conservation Land Bank.
URL:https://jlsfrc.org/event/screen-free-2nd-saturdays-2/
LOCATION:Joyce L. Sobel Family Resource Center\, 476 Market Street\, Friday Harbor\, WA\, 98250\, United States
CATEGORIES:Kids,Tweens
ATTACH;FMTTYPE=image/jpeg:https://jlsfrc.org/wp-content/uploads/2026/02/JLSFRC-Events-Calendar-Images-640-x-360-px.jpg
END:VEVENT
END:VCALENDAR