BEGIN:VCALENDAR
VERSION:2.0
PRODID:-//Joyce L. Sobel Family Resource Center - ECPv6.15.17.1//NONSGML v1.0//EN
CALSCALE:GREGORIAN
METHOD:PUBLISH
X-WR-CALNAME:Joyce L. Sobel Family Resource Center
X-ORIGINAL-URL:https://jlsfrc.org
X-WR-CALDESC:Events for Joyce L. Sobel Family Resource Center
REFRESH-INTERVAL;VALUE=DURATION:PT1H
X-Robots-Tag:noindex
X-PUBLISHED-TTL:PT1H
BEGIN:VTIMEZONE
TZID:America/Los_Angeles
BEGIN:DAYLIGHT
TZOFFSETFROM:-0800
TZOFFSETTO:-0700
TZNAME:PDT
DTSTART:20250309T100000
END:DAYLIGHT
BEGIN:STANDARD
TZOFFSETFROM:-0700
TZOFFSETTO:-0800
TZNAME:PST
DTSTART:20251102T090000
END:STANDARD
BEGIN:DAYLIGHT
TZOFFSETFROM:-0800
TZOFFSETTO:-0700
TZNAME:PDT
DTSTART:20260308T100000
END:DAYLIGHT
BEGIN:STANDARD
TZOFFSETFROM:-0700
TZOFFSETTO:-0800
TZNAME:PST
DTSTART:20261101T090000
END:STANDARD
BEGIN:DAYLIGHT
TZOFFSETFROM:-0800
TZOFFSETTO:-0700
TZNAME:PDT
DTSTART:20270314T100000
END:DAYLIGHT
BEGIN:STANDARD
TZOFFSETFROM:-0700
TZOFFSETTO:-0800
TZNAME:PST
DTSTART:20271107T090000
END:STANDARD
END:VTIMEZONE
BEGIN:VEVENT
DTSTART;TZID=America/Los_Angeles:20260314T103000
DTEND;TZID=America/Los_Angeles:20260314T113000
DTSTAMP:20260423T132125
CREATED:20260303T221250Z
LAST-MODIFIED:20260303T223117Z
UID:10007508-1773484200-1773487800@jlsfrc.org
SUMMARY:Screen Free 2nd Saturday
DESCRIPTION:Screen-Free Saturday is Back! Join us for our next Screen-Free Saturday\, this time hosted by the Whale Museum! Swap screens for sea life and real-life connection. 🐳💙 \n📅 Saturday\, March 14\, 2026\n⏰ 10:30–11:30 AM\n📍 The Whale Museum | 62 1st St N.\, Friday Harbor\n👨‍👩‍👧‍👦 Islanders of all ages welcome! \nEnjoy organized activities together — then stick around for free time to explore the museum with family and friends. \nQuestions?\n📞 (360) 378-5246\n📧 emmajeanc@jlsfrc.org
URL:https://jlsfrc.org/event/screen-free-2nd-saturday/
LOCATION:The Whale Museum\, 62 1st St N.\, Friday Harbor\, 98250\, United States
CATEGORIES:Kids
ATTACH;FMTTYPE=image/jpeg:https://jlsfrc.org/wp-content/uploads/2026/03/Screen-Free-Saturdays.jpg
END:VEVENT
END:VCALENDAR