BEGIN:VCALENDAR
VERSION:2.0
PRODID:-//Joyce L. Sobel Family Resource Center - ECPv6.15.17.1//NONSGML v1.0//EN
CALSCALE:GREGORIAN
METHOD:PUBLISH
X-WR-CALNAME:Joyce L. Sobel Family Resource Center
X-ORIGINAL-URL:https://jlsfrc.org
X-WR-CALDESC:Events for Joyce L. Sobel Family Resource Center
REFRESH-INTERVAL;VALUE=DURATION:PT1H
X-Robots-Tag:noindex
X-PUBLISHED-TTL:PT1H
BEGIN:VTIMEZONE
TZID:America/Los_Angeles
BEGIN:DAYLIGHT
TZOFFSETFROM:-0800
TZOFFSETTO:-0700
TZNAME:PDT
DTSTART:20240310T100000
END:DAYLIGHT
BEGIN:STANDARD
TZOFFSETFROM:-0700
TZOFFSETTO:-0800
TZNAME:PST
DTSTART:20241103T090000
END:STANDARD
BEGIN:DAYLIGHT
TZOFFSETFROM:-0800
TZOFFSETTO:-0700
TZNAME:PDT
DTSTART:20250309T100000
END:DAYLIGHT
BEGIN:STANDARD
TZOFFSETFROM:-0700
TZOFFSETTO:-0800
TZNAME:PST
DTSTART:20251102T090000
END:STANDARD
BEGIN:DAYLIGHT
TZOFFSETFROM:-0800
TZOFFSETTO:-0700
TZNAME:PDT
DTSTART:20260308T100000
END:DAYLIGHT
BEGIN:STANDARD
TZOFFSETFROM:-0700
TZOFFSETTO:-0800
TZNAME:PST
DTSTART:20261101T090000
END:STANDARD
END:VTIMEZONE
BEGIN:VEVENT
DTSTART;TZID=America/Los_Angeles:20251015T190000
DTEND;TZID=America/Los_Angeles:20251015T200000
DTSTAMP:20260424T210508
CREATED:20251013T174907Z
LAST-MODIFIED:20251013T175018Z
UID:10007107-1760554800-1760558400@jlsfrc.org
SUMMARY:Global Wave of Light
DESCRIPTION:On October 15th\, join us at the Port from 7–8 PM as part of the global Wave of Light\, a remembrance event for pregnancy and infant loss.\n\n\nWe’ll gather in quiet reflection\, lighting candles together to honor their memory. Participants are invited to take a candle\, walk the circle\, light it at the center flame\, and place it along the way back—a moving gesture of love and connection.\n\n\nThis evening is about creating space for awareness\, remembrance\, and community. Whether you choose to light a candle\, share a name\, or simply stand in support\, all are welcome.
URL:https://jlsfrc.org/event/global-wave-of-light/
LOCATION:Joyce L. Sobel Family Resource Center\, 476 Market Street\, Friday Harbor\, WA\, 98250\, United States
CATEGORIES:Adults
ATTACH;FMTTYPE=image/jpeg:https://jlsfrc.org/wp-content/uploads/2025/10/JLSFRC-Events-Calendar-Images-640-x-360-px-3.jpg
END:VEVENT
BEGIN:VEVENT
DTSTART;TZID=America/Los_Angeles:20251021T120000
DTEND;TZID=America/Los_Angeles:20251021T130000
DTSTAMP:20260424T210508
CREATED:20240306T000715Z
LAST-MODIFIED:20251121T201922Z
UID:10006910-1761048000-1761051600@jlsfrc.org
SUMMARY:Grandparent Support Group
DESCRIPTION:Are you a grandparent raising your grandchildren? The Family Resource Center has a support group for grandparents raising their grandchildren. Meet with other grandparents who have the same concerns\, needs\, and experiences that you have. It is a great place to meet and learn from other grandparents in similar situations. \nJoin us as we grow the program that seeks to provide access to local and state resources. It gives you a chance to talk with others and explore solutions. \nWe will meet on the third Tuesday of the month from 12:00pm to 1:00pm. Lunch is provided and is free of charge. \nLocation:\nNew Day Recovery Café\n485 Elsworth Ave\nFriday Harbor\, WA 98250 \nIf you or someone you know is interested\, please contact Jen DeShon at p2p@jlsfrc.org or call 360-378-5246; 360-622-0326 (cell) \n 
URL:https://jlsfrc.org/event/grandparent-support-group-2/2025-10-21/
LOCATION:New Day Recovery Café\, 485 Elsworth Ave\, Friday Harbor\, WA\, 98250\, United States
CATEGORIES:Adults,New Day Recovery Café
ATTACH;FMTTYPE=image/jpeg:https://jlsfrc.org/wp-content/uploads/2024/03/Grandparent-Support-Group-Event.jpg
END:VEVENT
END:VCALENDAR