BEGIN:VCALENDAR
VERSION:2.0
PRODID:-//Joyce L. Sobel Family Resource Center - ECPv6.15.17.1//NONSGML v1.0//EN
CALSCALE:GREGORIAN
METHOD:PUBLISH
X-ORIGINAL-URL:https://jlsfrc.org
X-WR-CALDESC:Events for Joyce L. Sobel Family Resource Center
REFRESH-INTERVAL;VALUE=DURATION:PT1H
X-Robots-Tag:noindex
X-PUBLISHED-TTL:PT1H
BEGIN:VTIMEZONE
TZID:America/Los_Angeles
BEGIN:DAYLIGHT
TZOFFSETFROM:-0800
TZOFFSETTO:-0700
TZNAME:PDT
DTSTART:20250309T100000
END:DAYLIGHT
BEGIN:STANDARD
TZOFFSETFROM:-0700
TZOFFSETTO:-0800
TZNAME:PST
DTSTART:20251102T090000
END:STANDARD
BEGIN:DAYLIGHT
TZOFFSETFROM:-0800
TZOFFSETTO:-0700
TZNAME:PDT
DTSTART:20260308T100000
END:DAYLIGHT
BEGIN:STANDARD
TZOFFSETFROM:-0700
TZOFFSETTO:-0800
TZNAME:PST
DTSTART:20261101T090000
END:STANDARD
BEGIN:DAYLIGHT
TZOFFSETFROM:-0800
TZOFFSETTO:-0700
TZNAME:PDT
DTSTART:20270314T100000
END:DAYLIGHT
BEGIN:STANDARD
TZOFFSETFROM:-0700
TZOFFSETTO:-0800
TZNAME:PST
DTSTART:20271107T090000
END:STANDARD
END:VTIMEZONE
BEGIN:VEVENT
DTSTART;TZID=America/Los_Angeles:20260317T120000
DTEND;TZID=America/Los_Angeles:20260317T130000
DTSTAMP:20260423T132653
CREATED:20240306T000715Z
LAST-MODIFIED:20251121T201922Z
UID:10007116-1773748800-1773752400@jlsfrc.org
SUMMARY:Grandparent Support Group
DESCRIPTION:Are you a grandparent raising your grandchildren? The Family Resource Center has a support group for grandparents raising their grandchildren. Meet with other grandparents who have the same concerns\, needs\, and experiences that you have. It is a great place to meet and learn from other grandparents in similar situations. \nJoin us as we grow the program that seeks to provide access to local and state resources. It gives you a chance to talk with others and explore solutions. \nWe will meet on the third Tuesday of the month from 12:00pm to 1:00pm. Lunch is provided and is free of charge. \nLocation:\nNew Day Recovery Café\n485 Elsworth Ave\nFriday Harbor\, WA 98250 \nIf you or someone you know is interested\, please contact Jen DeShon at p2p@jlsfrc.org or call 360-378-5246; 360-622-0326 (cell) \n 
URL:https://jlsfrc.org/event/grandparent-support-group-2/2026-03-17/
LOCATION:New Day Recovery Café\, 485 Elsworth Ave\, Friday Harbor\, WA\, 98250\, United States
CATEGORIES:Adults,New Day Recovery Café
ATTACH;FMTTYPE=image/jpeg:https://jlsfrc.org/wp-content/uploads/2024/03/Grandparent-Support-Group-Event.jpg
END:VEVENT
BEGIN:VEVENT
DTSTART;TZID=America/Los_Angeles:20260319T180000
DTEND;TZID=America/Los_Angeles:20260319T190000
DTSTAMP:20260423T132654
CREATED:20260130T195859Z
LAST-MODIFIED:20260211T022613Z
UID:10007469-1773943200-1773946800@jlsfrc.org
SUMMARY:Realities of Otherhood: a group for Dads and Non-Birthing Parents
DESCRIPTION:Join Realities of Otherhood: A group for Dads and Non-Birthing Parents. This is a welcoming space for self-identifying dads\, foster/kinship parents\, guardians\, and parents-to-be to connect\, learn\, and grow together. \n🗓 3rd Thursday of each month\n🕕 6 PM\n📍 Joyce L. Sobel Family Resource Center \nWhether you’re expecting your first baby or parenting a five-year-old\, this group offers support\, education\, and community around perinatal mental health and parenting. \n💚 Questions?\n📩 info@jlsfrc.org\n| ☎️ (360) 378-5246
URL:https://jlsfrc.org/event/dads-and-non-birthing-parents-group/2026-03-19/
LOCATION:Joyce L. Sobel Family Resource Center\, 476 Market Street\, Friday Harbor\, WA\, 98250\, United States
CATEGORIES:Adults
ATTACH;FMTTYPE=image/jpeg:https://jlsfrc.org/wp-content/uploads/2026/01/JLSFRC-Events-Calendar-Images-640-x-360-px-3.jpg
END:VEVENT
END:VCALENDAR