BEGIN:VCALENDAR
VERSION:2.0
PRODID:-//Joyce L. Sobel Family Resource Center - ECPv6.15.17.1//NONSGML v1.0//EN
CALSCALE:GREGORIAN
METHOD:PUBLISH
X-ORIGINAL-URL:https://jlsfrc.org
X-WR-CALDESC:Events for Joyce L. Sobel Family Resource Center
REFRESH-INTERVAL;VALUE=DURATION:PT1H
X-Robots-Tag:noindex
X-PUBLISHED-TTL:PT1H
BEGIN:VTIMEZONE
TZID:America/Los_Angeles
BEGIN:DAYLIGHT
TZOFFSETFROM:-0800
TZOFFSETTO:-0700
TZNAME:PDT
DTSTART:20240310T100000
END:DAYLIGHT
BEGIN:STANDARD
TZOFFSETFROM:-0700
TZOFFSETTO:-0800
TZNAME:PST
DTSTART:20241103T090000
END:STANDARD
BEGIN:DAYLIGHT
TZOFFSETFROM:-0800
TZOFFSETTO:-0700
TZNAME:PDT
DTSTART:20250309T100000
END:DAYLIGHT
BEGIN:STANDARD
TZOFFSETFROM:-0700
TZOFFSETTO:-0800
TZNAME:PST
DTSTART:20251102T090000
END:STANDARD
BEGIN:DAYLIGHT
TZOFFSETFROM:-0800
TZOFFSETTO:-0700
TZNAME:PDT
DTSTART:20260308T100000
END:DAYLIGHT
BEGIN:STANDARD
TZOFFSETFROM:-0700
TZOFFSETTO:-0800
TZNAME:PST
DTSTART:20261101T090000
END:STANDARD
END:VTIMEZONE
BEGIN:VEVENT
DTSTART;TZID=America/Los_Angeles:20250814T100000
DTEND;TZID=America/Los_Angeles:20250817T210000
DTSTAMP:20260425T082234
CREATED:20250808T222441Z
LAST-MODIFIED:20250808T222441Z
UID:10006914-1755165600-1755464400@jlsfrc.org
SUMMARY:YAAS! at the San Juan County Fair
DESCRIPTION:🎡YAAS! is headed back to the San Juan County Fair—and this year’s theme is: True to Our Roots and Into the Future! Don’t miss this year’s awesome raffle! Tickets are $5 and the proceeds support YAAS!’s annual trip to Camp Horizon. \n🎟️ Raffle Prizes:\n🐟 25 lbs of wild-caught salmon from Bristol Bay\, donated by James Crichton\n🧖‍♀️ A 2-night stay + 60-minute massage at Earthbox Inn & Spa donated by Laura Saccio \nCome visit our booth to see a one-of-a-kind family tree featuring island pioneer families at the roots and today’s youth branching into the future. You can even add your name and photo to the tree! 🌳 \n🎒 Free school supply bags will be handed out\, including a mini notebook\, pencil\, eraser\, sharpener\, and ruler—just what you need to kick off the school year! Snap a pic with your bag and stick your picture on the big tree!
URL:https://jlsfrc.org/event/yaas-at-the-san-juan-county-fair/
LOCATION:San Juan County Fairgrounds\, 849 Argyle Ave\, Friday Harbor\, 98250\, United States
CATEGORIES:All
ATTACH;FMTTYPE=image/jpeg:https://jlsfrc.org/wp-content/uploads/2025/08/JLSFRC-Events-Calendar-Images-640-x-360-px.jpg
END:VEVENT
END:VCALENDAR