BEGIN:VCALENDAR
VERSION:2.0
PRODID:-//Joyce L. Sobel Family Resource Center - ECPv6.15.17.1//NONSGML v1.0//EN
CALSCALE:GREGORIAN
METHOD:PUBLISH
X-WR-CALNAME:Joyce L. Sobel Family Resource Center
X-ORIGINAL-URL:https://jlsfrc.org
X-WR-CALDESC:Events for Joyce L. Sobel Family Resource Center
REFRESH-INTERVAL;VALUE=DURATION:PT1H
X-Robots-Tag:noindex
X-PUBLISHED-TTL:PT1H
BEGIN:VTIMEZONE
TZID:America/Los_Angeles
BEGIN:DAYLIGHT
TZOFFSETFROM:-0800
TZOFFSETTO:-0700
TZNAME:PDT
DTSTART:20240310T100000
END:DAYLIGHT
BEGIN:STANDARD
TZOFFSETFROM:-0700
TZOFFSETTO:-0800
TZNAME:PST
DTSTART:20241103T090000
END:STANDARD
BEGIN:DAYLIGHT
TZOFFSETFROM:-0800
TZOFFSETTO:-0700
TZNAME:PDT
DTSTART:20250309T100000
END:DAYLIGHT
BEGIN:STANDARD
TZOFFSETFROM:-0700
TZOFFSETTO:-0800
TZNAME:PST
DTSTART:20251102T090000
END:STANDARD
BEGIN:DAYLIGHT
TZOFFSETFROM:-0800
TZOFFSETTO:-0700
TZNAME:PDT
DTSTART:20260308T100000
END:DAYLIGHT
BEGIN:STANDARD
TZOFFSETFROM:-0700
TZOFFSETTO:-0800
TZNAME:PST
DTSTART:20261101T090000
END:STANDARD
END:VTIMEZONE
BEGIN:VEVENT
DTSTART;TZID=America/Los_Angeles:20251029T100000
DTEND;TZID=America/Los_Angeles:20251029T140000
DTSTAMP:20260424T013936
CREATED:20251008T213543Z
LAST-MODIFIED:20260218T192916Z
UID:10007105-1761732000-1761746400@jlsfrc.org
SUMMARY:Care-a-Van Free Health Screening
DESCRIPTION:Free Walk-In Community Health Screenings at the Care-a-Van! No appointment needed — just stop by! Patients will be seen on a first come\, first served basis.\n\n\n\n 03/11/2026\n 10:00AM – 2:00PM\n Joyce L. Sobel Family Resource Center- Baby Room: 476 Market Street\, Friday Harbor\, WA 98250\n\n\n\nHere’s what’s available:\n Blood pressure & vision screenings (ages 3+)\n Blood glucose (ages 12+)\n A1C testing (ages 35+)\n BMI & telehealth (ages 2+)\n Mental health screenings (ages 12+)\n Health & vaccine education for all ages\n\n\n\n Care-a-Van services are available to anyone\, regardless of whether you have insurance….but if you do have insurance please bring proof.
URL:https://jlsfrc.org/event/care-a-van-free-health-screening/2025-10-29/
LOCATION:Joyce L. Sobel Family Resource Center\, 476 Market Street\, Friday Harbor\, WA\, 98250\, United States
CATEGORIES:All
ATTACH;FMTTYPE=image/jpeg:https://jlsfrc.org/wp-content/uploads/2025/10/JLSFRC-Events-Calendar-Images-640-x-360-px-1-1.jpg
END:VEVENT
END:VCALENDAR