BEGIN:VCALENDAR
VERSION:2.0
PRODID:-//Joyce L. Sobel Family Resource Center - ECPv6.15.17.1//NONSGML v1.0//EN
CALSCALE:GREGORIAN
METHOD:PUBLISH
X-ORIGINAL-URL:https://jlsfrc.org
X-WR-CALDESC:Events for Joyce L. Sobel Family Resource Center
REFRESH-INTERVAL;VALUE=DURATION:PT1H
X-Robots-Tag:noindex
X-PUBLISHED-TTL:PT1H
BEGIN:VTIMEZONE
TZID:America/Los_Angeles
BEGIN:DAYLIGHT
TZOFFSETFROM:-0800
TZOFFSETTO:-0700
TZNAME:PDT
DTSTART:20250309T100000
END:DAYLIGHT
BEGIN:STANDARD
TZOFFSETFROM:-0700
TZOFFSETTO:-0800
TZNAME:PST
DTSTART:20251102T090000
END:STANDARD
BEGIN:DAYLIGHT
TZOFFSETFROM:-0800
TZOFFSETTO:-0700
TZNAME:PDT
DTSTART:20260308T100000
END:DAYLIGHT
BEGIN:STANDARD
TZOFFSETFROM:-0700
TZOFFSETTO:-0800
TZNAME:PST
DTSTART:20261101T090000
END:STANDARD
BEGIN:DAYLIGHT
TZOFFSETFROM:-0800
TZOFFSETTO:-0700
TZNAME:PDT
DTSTART:20270314T100000
END:DAYLIGHT
BEGIN:STANDARD
TZOFFSETFROM:-0700
TZOFFSETTO:-0800
TZNAME:PST
DTSTART:20271107T090000
END:STANDARD
END:VTIMEZONE
BEGIN:VEVENT
DTSTART;TZID=America/Los_Angeles:20260309T123000
DTEND;TZID=America/Los_Angeles:20260309T163000
DTSTAMP:20260423T155956
CREATED:20250310T181657Z
LAST-MODIFIED:20260218T193213Z
UID:10007477-1773059400-1773073800@jlsfrc.org
SUMMARY:DSHS Mobile Van
DESCRIPTION:The DSHS Mobile van is returning to Friday Harbor on December 1st & 3rd! \nApply for:\n✅ Cash Assistance\n✅ Food Assistance\n✅ Medical Assistance\n✅ Medicare Savings Program \nYou can also:\n✔️Drop off paperwork\n✔️Complete an Eligibility Review\n✔️Complete a Mid-Certification Review\n✔️Make Changes to an Existing Case \n🗓️Times:\nMONDAY 12/01/2025: 12:30PM – 4:30PM\nWEDNESDAY 12/03/2025: 8:00AM – 11:00AM \n📍Location:\nJoyce L. Sobel Family Resource Center\n476 Market Street\, Friday Harbor
URL:https://jlsfrc.org/event/dshs-mobile-van/2026-03-09/
LOCATION:Joyce L. Sobel Family Resource Center\, 476 Market Street\, Friday Harbor\, WA\, 98250\, United States
CATEGORIES:All
ATTACH;FMTTYPE=image/jpeg:https://jlsfrc.org/wp-content/uploads/2025/03/DSHS-Mobile-Office-Event.jpg
END:VEVENT
BEGIN:VEVENT
DTSTART;TZID=America/Los_Angeles:20260311T080000
DTEND;TZID=America/Los_Angeles:20260311T110000
DTSTAMP:20260423T155956
CREATED:20250310T181657Z
LAST-MODIFIED:20260218T193213Z
UID:10007478-1773216000-1773226800@jlsfrc.org
SUMMARY:DSHS Mobile Van
DESCRIPTION:The DSHS Mobile van is returning to Friday Harbor on December 1st & 3rd! \nApply for:\n✅ Cash Assistance\n✅ Food Assistance\n✅ Medical Assistance\n✅ Medicare Savings Program \nYou can also:\n✔️Drop off paperwork\n✔️Complete an Eligibility Review\n✔️Complete a Mid-Certification Review\n✔️Make Changes to an Existing Case \n🗓️Times:\nMONDAY 12/01/2025: 12:30PM – 4:30PM\nWEDNESDAY 12/03/2025: 8:00AM – 11:00AM \n📍Location:\nJoyce L. Sobel Family Resource Center\n476 Market Street\, Friday Harbor
URL:https://jlsfrc.org/event/dshs-mobile-van/2026-03-11/
LOCATION:Joyce L. Sobel Family Resource Center\, 476 Market Street\, Friday Harbor\, WA\, 98250\, United States
CATEGORIES:All
ATTACH;FMTTYPE=image/jpeg:https://jlsfrc.org/wp-content/uploads/2025/03/DSHS-Mobile-Office-Event.jpg
END:VEVENT
BEGIN:VEVENT
DTSTART;TZID=America/Los_Angeles:20260311T100000
DTEND;TZID=America/Los_Angeles:20260311T140000
DTSTAMP:20260423T155956
CREATED:20251008T213543Z
LAST-MODIFIED:20260218T192916Z
UID:10007476-1773223200-1773237600@jlsfrc.org
SUMMARY:Care-a-Van Free Health Screening
DESCRIPTION:Free Walk-In Community Health Screenings at the Care-a-Van! No appointment needed — just stop by! Patients will be seen on a first come\, first served basis.\n\n\n\n 03/11/2026\n 10:00AM – 2:00PM\n Joyce L. Sobel Family Resource Center- Baby Room: 476 Market Street\, Friday Harbor\, WA 98250\n\n\n\nHere’s what’s available:\n Blood pressure & vision screenings (ages 3+)\n Blood glucose (ages 12+)\n A1C testing (ages 35+)\n BMI & telehealth (ages 2+)\n Mental health screenings (ages 12+)\n Health & vaccine education for all ages\n\n\n\n Care-a-Van services are available to anyone\, regardless of whether you have insurance….but if you do have insurance please bring proof.
URL:https://jlsfrc.org/event/care-a-van-free-health-screening/2026-03-11/
LOCATION:Joyce L. Sobel Family Resource Center\, 476 Market Street\, Friday Harbor\, WA\, 98250\, United States
CATEGORIES:All
ATTACH;FMTTYPE=image/jpeg:https://jlsfrc.org/wp-content/uploads/2025/10/JLSFRC-Events-Calendar-Images-640-x-360-px-1-1.jpg
END:VEVENT
END:VCALENDAR