BEGIN:VCALENDAR
VERSION:2.0
PRODID:-//Joyce L. Sobel Family Resource Center - ECPv6.15.17.1//NONSGML v1.0//EN
CALSCALE:GREGORIAN
METHOD:PUBLISH
X-ORIGINAL-URL:https://jlsfrc.org
X-WR-CALDESC:Events for Joyce L. Sobel Family Resource Center
REFRESH-INTERVAL;VALUE=DURATION:PT1H
X-Robots-Tag:noindex
X-PUBLISHED-TTL:PT1H
BEGIN:VTIMEZONE
TZID:America/Los_Angeles
BEGIN:DAYLIGHT
TZOFFSETFROM:-0800
TZOFFSETTO:-0700
TZNAME:PDT
DTSTART:20250309T100000
END:DAYLIGHT
BEGIN:STANDARD
TZOFFSETFROM:-0700
TZOFFSETTO:-0800
TZNAME:PST
DTSTART:20251102T090000
END:STANDARD
BEGIN:DAYLIGHT
TZOFFSETFROM:-0800
TZOFFSETTO:-0700
TZNAME:PDT
DTSTART:20260308T100000
END:DAYLIGHT
BEGIN:STANDARD
TZOFFSETFROM:-0700
TZOFFSETTO:-0800
TZNAME:PST
DTSTART:20261101T090000
END:STANDARD
BEGIN:DAYLIGHT
TZOFFSETFROM:-0800
TZOFFSETTO:-0700
TZNAME:PDT
DTSTART:20270314T100000
END:DAYLIGHT
BEGIN:STANDARD
TZOFFSETFROM:-0700
TZOFFSETTO:-0800
TZNAME:PST
DTSTART:20271107T090000
END:STANDARD
END:VTIMEZONE
BEGIN:VEVENT
DTSTART;TZID=America/Los_Angeles:20260418T103000
DTEND;TZID=America/Los_Angeles:20260418T130000
DTSTAMP:20260423T162842
CREATED:20260402T181923Z
LAST-MODIFIED:20260402T181923Z
UID:10007578-1776508200-1776517200@jlsfrc.org
SUMMARY:Screen-Free Saturday: Great Nurdle Hunt & Great Islands Beach Clean Up
DESCRIPTION:Turn screen-free time into real-world impact! Join us for a special Screen-Free Saturday in partnership with Friends of the San Juans for a fun and meaningful community science event at Jackson Beach.\n\n🗓️ Saturday\, April 18 10:30 AM – 1:00 PM Jackson Beach Open to all islanders — families welcome! No registration required\n\nWe’ll be hosting a Great Nurdle Hunt — searching for and removing tiny plastic pellets (nurdles) that pollute our shorelines and harm marine life.\n\nWhat to expect: A short\, engaging intro to nurdles & microplastics Guided beach exploration All supplies provided A fun\, low-pressure way for kids and families to participate in community science\n\nJust dress for the weather and come ready to make a difference! \n\nFurther activities will be taking place at The Brewery from 2pm-5pm.
URL:https://jlsfrc.org/event/screen-free-saturday-great-nurdle-hunt-great-islands-beach-clean-up/
LOCATION:Jackson’s Beach\, Jackson Beach Rd\, Friday Harbor\, WA\, 98250\, United States
CATEGORIES:Kids
ATTACH;FMTTYPE=image/jpeg:https://jlsfrc.org/wp-content/uploads/2026/04/1.jpg
END:VEVENT
END:VCALENDAR