BEGIN:VCALENDAR
VERSION:2.0
PRODID:-//Joyce L. Sobel Family Resource Center - ECPv6.15.17.1//NONSGML v1.0//EN
CALSCALE:GREGORIAN
METHOD:PUBLISH
X-ORIGINAL-URL:https://jlsfrc.org
X-WR-CALDESC:Events for Joyce L. Sobel Family Resource Center
REFRESH-INTERVAL;VALUE=DURATION:PT1H
X-Robots-Tag:noindex
X-PUBLISHED-TTL:PT1H
BEGIN:VTIMEZONE
TZID:America/Los_Angeles
BEGIN:DAYLIGHT
TZOFFSETFROM:-0800
TZOFFSETTO:-0700
TZNAME:PDT
DTSTART:20230312T100000
END:DAYLIGHT
BEGIN:STANDARD
TZOFFSETFROM:-0700
TZOFFSETTO:-0800
TZNAME:PST
DTSTART:20231105T090000
END:STANDARD
BEGIN:DAYLIGHT
TZOFFSETFROM:-0800
TZOFFSETTO:-0700
TZNAME:PDT
DTSTART:20240310T100000
END:DAYLIGHT
BEGIN:STANDARD
TZOFFSETFROM:-0700
TZOFFSETTO:-0800
TZNAME:PST
DTSTART:20241103T090000
END:STANDARD
BEGIN:DAYLIGHT
TZOFFSETFROM:-0800
TZOFFSETTO:-0700
TZNAME:PDT
DTSTART:20250309T100000
END:DAYLIGHT
BEGIN:STANDARD
TZOFFSETFROM:-0700
TZOFFSETTO:-0800
TZNAME:PST
DTSTART:20251102T090000
END:STANDARD
BEGIN:DAYLIGHT
TZOFFSETFROM:-0800
TZOFFSETTO:-0700
TZNAME:PDT
DTSTART:20260308T100000
END:DAYLIGHT
BEGIN:STANDARD
TZOFFSETFROM:-0700
TZOFFSETTO:-0800
TZNAME:PST
DTSTART:20261101T090000
END:STANDARD
END:VTIMEZONE
BEGIN:VEVENT
DTSTART;TZID=America/Los_Angeles:20250506T080000
DTEND;TZID=America/Los_Angeles:20250506T200000
DTSTAMP:20260423T160710
CREATED:20250414T190201Z
LAST-MODIFIED:20250429T172346Z
UID:10006568-1746518400-1746561600@jlsfrc.org
SUMMARY:Screen-Free Week Challenge
DESCRIPTION:Be one of the first 35 families to sign up for the official “Friday Harbor Screen-Free Challenge” and you’ll get to participate in tons of fun\, no-cost screen-free activities from May 5th – May 10th! Sign up here: https://jlsfrc.org/screen-free-week \nSCHEDULE OF EVENTS: \n🔖📵Save this post for a full schedule of SCREEN FREE WEEK Activities! SIGN UP here: https://jlsfrc.org/screen-free-week/ \n📅 Monday\, May 5 \n☀️ Afterschool Activity: Cooking with Kristen – Tacos for Cinco de Mayo\n⌚3:30pm\n📍The Grange\nCelebrate Cinco de Mayo by making delicious tacos with Kristen! \n🌘 Evening Activity: Teen-Led Trivia Night\n⌚5:30pm\n📍Location TBA\nTest your knowledge with trivia created and hosted by local teens.\nSponsors: Whale Museum\, SJI Library \n📵📵📵📵📵📵📵📵📵📵📵 \n📅 Tuesday\, May 6 \n☀️Afterschool Activity: Survival Skills – Outdoor Shelter Building with Nathan\n⌚3:30pm\n📍Jackson’s Beach\nLearn to build a shelter using natural materials—perfect for adventurous kids! \n🌘 Evening Activity: Get Caught Reading\n⌚ 5:00pm-6:00pm\n📍Your Home\nA volunteer may stop by with fun prizes for kids who are caught reading at home!\nSponsors: NW Resilience\, JLSFRC\, SJI Library \n📵📵📵📵📵📵📵📵📵📵📵 \n📅 Wednesday\, May 7\n☀️Afterschool Activity: LEGO League at the Library\n⌚2:00pm–4:00pm\n📍SJI Library\nDrop in to build\, create\, and play with LEGOs! \n⭐ Bonus Activity: Bowling at JP’s\n⌚2:00pm–3:30pm\n📍JP’s Restaurant & Bar\nEnjoy some lanes and laughs with family bowling time.\nSponsors: SJI Library\, JP’s Restaurant & Bar\, JLSFRC \n🌘 Evening Activity: Community Reading Night\n⌚5:30pm\n📍 Friday Harbor Elementary School\nJoin friends and neighbors for read-alouds and book sharing. \n📵📵📵📵📵📵📵📵📵📵📵 \n📅 Thursday\, May 8 \n☀️Afterschool Activity: Learn About Echolocation\n⌚3:30pm\n📍Whale Museum\nDiscover how whales use sound to “see” underwater in this fun\, educational activity. \n🌘 Evening Activity: Nature Walk with the Land Bank\n⌚5:30pm\n📍Linde Park (Redtail Trail)\nEnjoy an easy nature walk guided by Margo from the Land Bank.\nSponsors: Skagit Valley College\, San Juan County Land Bank \n📵📵📵📵📵📵📵📵📵📵📵 \n📅 Friday\, May 9 \n☀️Community Potluck & Art Craft\n⌚2:00pm-4:00pm\n📍Location: Linde Park\nBring a dish and enjoy a meal with us!\nSponsors: JLSFRC\, Alchemy Arts Center \n📵📵📵📵📵📵📵📵📵📵📵 \n📅 Saturday\, May 10 \n☀️YAAS Family Fun Day\n⌚12:00pm-2:00pm\n📍Location: Linde Park\nJoin YAAS! for an afternoon of fun and games for the entire family! \n📵📵📵📵📵📵📵📵📵📵📵 \nThank you to our sponsors and community partners for making this event possible! \nSPONSORED IN PART BY: San Juan Island Prevention Coalition and Washington State Healthcare Authority \nCOMMUNITY PARTNERS: Alchemy Arts Center\, FHES PTO\, JP’s Restaurant & Bar\, Nathan Donnelly\, San Juan County Land Bank\, San Juan Island Library\, Skagit Valley College\, Stocker Foundation\, Whale Museum \n…………………………. \nHorario en Español \n📅Lunes 5 de mayo \nActividad después de la escuela: Cocinando con Kristen – Tacos por el Cinco de Mayo\n⌚3:30 pm\n📍Ubicación en el Grange.\n¡Celebra el Cinco de Mayo hacienda deliciosos tacos con Kristen! \n🌘 Actividad nocturna: Noche de trivia dirigida por adolescentes.\n⌚ 5:30 pm\nUbicación Por determinar. Ponga a prueba sus conocimientos con trivia creadas y presentadas por adolescentes locales.\nPatrocinadores: Museo de la Ballena\, Biblioteca SJI \n  \n📅 Martes 6 de mayo \n☀️Actividad después de la escuela: Habilidades de supervivencia – Construcción de refugios al aire libre con Nathan.\n⌚3:30 pm.\n📍Jackson’s Beach. Aprenda a construir un refugio con materiales naturales\, ¡perfecto para niños aventureros! \n⭐ Actividad adicional: ¡Déjate atrapar leyendo!\n📍En tu casa. Un voluntario puede pasar con divertidos premios para los niños que son atrapados leyendo en casa!\nPatrocinadores: NW Resilience\, JLSFRC\, Biblioteca SJI \n  \n📅 Miércoles 7 de mayo \n☀️Actividad extraescolar: Liga LEGO en la biblioteca\n⌚2:00 p.m. a 4:00 p.m\n📍. Biblioteca SJI ¡Acércate para construir\, crear y jugar con LEGO! \n⭐ Actividad adicional: Boliche en JP’s\n⌚2:00 p.m. a 3:30 p.m\n📍. JP’s Boliche. Disfrute de algunas pistas y risas con tiempo de bolos en familia.\nPatrocinadores: Biblioteca SJI\, JP’s Restaurant\, JLSFRC \n🌘 Actividad nocturna: Noche de lectura comunitaria.\n⌚ 5:30 pm.\n📍 Escuela Primaria.Únase a amigos y vecinos para leer en voz alta y compartir libros. \n  \n📅 Jueves 8 de mayo \n☀️Actividad después de la escuela: Aprenda sobre las ballenas.\n⌚3:30 pm\n📍Museo de Ballenas. Descubra cómo las ballenas usan el sonido para “ver” bajo el agua en esta actividad divertida y educativa. \n🌘 Actividad nocturna: Caminata por la naturaleza con Land Bank.\n⌚ 5:30 pm.\nOficina del Land Bank. Disfrute de una divertida exploración al aire libre.\nPatrocinadores: Skagit Valley College\, Land Bank del Condado de San Juan \n  \n📅 Viernes\, 9 de mayo \n☀️Comida comunitaria y actividad artística:\n⌚ 2:00 p.m.- 4:00 p.m\n📍 Ubicación: Linde Park ¡Traiga un platillo y disfrute de una comida con nosotros!\nPatrocinadores: JLSFRC y Alchemy Arts Center. \n  \n📅 Sábado 10 de mayo \n☀ Día de diversión familiar de YAAS.\n⌚12:00 pm – 2:00 pm.\n📍 Ubicación: Linde Park ¡Únase a YAAS! para una tarde de diversión y juegos para toda la familia. ️
URL:https://jlsfrc.org/event/11946/2025-05-06/
LOCATION:Joyce L. Sobel Family Resource Center\, 476 Market Street\, Friday Harbor\, WA\, 98250\, United States
CATEGORIES:All,Kids,P2P,Teens & Young Adults,Tweens,YAAS!
ATTACH;FMTTYPE=image/webp:https://jlsfrc.org/wp-content/uploads/2024/04/Screen-Free-Week-web.webp
END:VEVENT
BEGIN:VEVENT
DTSTART;TZID=America/Los_Angeles:20250505T080000
DTEND;TZID=America/Los_Angeles:20250505T200000
DTSTAMP:20260423T160710
CREATED:20250414T190201Z
LAST-MODIFIED:20250429T172346Z
UID:10006567-1746432000-1746475200@jlsfrc.org
SUMMARY:Screen-Free Week Challenge
DESCRIPTION:Be one of the first 35 families to sign up for the official “Friday Harbor Screen-Free Challenge” and you’ll get to participate in tons of fun\, no-cost screen-free activities from May 5th – May 10th! Sign up here: https://jlsfrc.org/screen-free-week \nSCHEDULE OF EVENTS: \n🔖📵Save this post for a full schedule of SCREEN FREE WEEK Activities! SIGN UP here: https://jlsfrc.org/screen-free-week/ \n📅 Monday\, May 5 \n☀️ Afterschool Activity: Cooking with Kristen – Tacos for Cinco de Mayo\n⌚3:30pm\n📍The Grange\nCelebrate Cinco de Mayo by making delicious tacos with Kristen! \n🌘 Evening Activity: Teen-Led Trivia Night\n⌚5:30pm\n📍Location TBA\nTest your knowledge with trivia created and hosted by local teens.\nSponsors: Whale Museum\, SJI Library \n📵📵📵📵📵📵📵📵📵📵📵 \n📅 Tuesday\, May 6 \n☀️Afterschool Activity: Survival Skills – Outdoor Shelter Building with Nathan\n⌚3:30pm\n📍Jackson’s Beach\nLearn to build a shelter using natural materials—perfect for adventurous kids! \n🌘 Evening Activity: Get Caught Reading\n⌚ 5:00pm-6:00pm\n📍Your Home\nA volunteer may stop by with fun prizes for kids who are caught reading at home!\nSponsors: NW Resilience\, JLSFRC\, SJI Library \n📵📵📵📵📵📵📵📵📵📵📵 \n📅 Wednesday\, May 7\n☀️Afterschool Activity: LEGO League at the Library\n⌚2:00pm–4:00pm\n📍SJI Library\nDrop in to build\, create\, and play with LEGOs! \n⭐ Bonus Activity: Bowling at JP’s\n⌚2:00pm–3:30pm\n📍JP’s Restaurant & Bar\nEnjoy some lanes and laughs with family bowling time.\nSponsors: SJI Library\, JP’s Restaurant & Bar\, JLSFRC \n🌘 Evening Activity: Community Reading Night\n⌚5:30pm\n📍 Friday Harbor Elementary School\nJoin friends and neighbors for read-alouds and book sharing. \n📵📵📵📵📵📵📵📵📵📵📵 \n📅 Thursday\, May 8 \n☀️Afterschool Activity: Learn About Echolocation\n⌚3:30pm\n📍Whale Museum\nDiscover how whales use sound to “see” underwater in this fun\, educational activity. \n🌘 Evening Activity: Nature Walk with the Land Bank\n⌚5:30pm\n📍Linde Park (Redtail Trail)\nEnjoy an easy nature walk guided by Margo from the Land Bank.\nSponsors: Skagit Valley College\, San Juan County Land Bank \n📵📵📵📵📵📵📵📵📵📵📵 \n📅 Friday\, May 9 \n☀️Community Potluck & Art Craft\n⌚2:00pm-4:00pm\n📍Location: Linde Park\nBring a dish and enjoy a meal with us!\nSponsors: JLSFRC\, Alchemy Arts Center \n📵📵📵📵📵📵📵📵📵📵📵 \n📅 Saturday\, May 10 \n☀️YAAS Family Fun Day\n⌚12:00pm-2:00pm\n📍Location: Linde Park\nJoin YAAS! for an afternoon of fun and games for the entire family! \n📵📵📵📵📵📵📵📵📵📵📵 \nThank you to our sponsors and community partners for making this event possible! \nSPONSORED IN PART BY: San Juan Island Prevention Coalition and Washington State Healthcare Authority \nCOMMUNITY PARTNERS: Alchemy Arts Center\, FHES PTO\, JP’s Restaurant & Bar\, Nathan Donnelly\, San Juan County Land Bank\, San Juan Island Library\, Skagit Valley College\, Stocker Foundation\, Whale Museum \n…………………………. \nHorario en Español \n📅Lunes 5 de mayo \nActividad después de la escuela: Cocinando con Kristen – Tacos por el Cinco de Mayo\n⌚3:30 pm\n📍Ubicación en el Grange.\n¡Celebra el Cinco de Mayo hacienda deliciosos tacos con Kristen! \n🌘 Actividad nocturna: Noche de trivia dirigida por adolescentes.\n⌚ 5:30 pm\nUbicación Por determinar. Ponga a prueba sus conocimientos con trivia creadas y presentadas por adolescentes locales.\nPatrocinadores: Museo de la Ballena\, Biblioteca SJI \n  \n📅 Martes 6 de mayo \n☀️Actividad después de la escuela: Habilidades de supervivencia – Construcción de refugios al aire libre con Nathan.\n⌚3:30 pm.\n📍Jackson’s Beach. Aprenda a construir un refugio con materiales naturales\, ¡perfecto para niños aventureros! \n⭐ Actividad adicional: ¡Déjate atrapar leyendo!\n📍En tu casa. Un voluntario puede pasar con divertidos premios para los niños que son atrapados leyendo en casa!\nPatrocinadores: NW Resilience\, JLSFRC\, Biblioteca SJI \n  \n📅 Miércoles 7 de mayo \n☀️Actividad extraescolar: Liga LEGO en la biblioteca\n⌚2:00 p.m. a 4:00 p.m\n📍. Biblioteca SJI ¡Acércate para construir\, crear y jugar con LEGO! \n⭐ Actividad adicional: Boliche en JP’s\n⌚2:00 p.m. a 3:30 p.m\n📍. JP’s Boliche. Disfrute de algunas pistas y risas con tiempo de bolos en familia.\nPatrocinadores: Biblioteca SJI\, JP’s Restaurant\, JLSFRC \n🌘 Actividad nocturna: Noche de lectura comunitaria.\n⌚ 5:30 pm.\n📍 Escuela Primaria.Únase a amigos y vecinos para leer en voz alta y compartir libros. \n  \n📅 Jueves 8 de mayo \n☀️Actividad después de la escuela: Aprenda sobre las ballenas.\n⌚3:30 pm\n📍Museo de Ballenas. Descubra cómo las ballenas usan el sonido para “ver” bajo el agua en esta actividad divertida y educativa. \n🌘 Actividad nocturna: Caminata por la naturaleza con Land Bank.\n⌚ 5:30 pm.\nOficina del Land Bank. Disfrute de una divertida exploración al aire libre.\nPatrocinadores: Skagit Valley College\, Land Bank del Condado de San Juan \n  \n📅 Viernes\, 9 de mayo \n☀️Comida comunitaria y actividad artística:\n⌚ 2:00 p.m.- 4:00 p.m\n📍 Ubicación: Linde Park ¡Traiga un platillo y disfrute de una comida con nosotros!\nPatrocinadores: JLSFRC y Alchemy Arts Center. \n  \n📅 Sábado 10 de mayo \n☀ Día de diversión familiar de YAAS.\n⌚12:00 pm – 2:00 pm.\n📍 Ubicación: Linde Park ¡Únase a YAAS! para una tarde de diversión y juegos para toda la familia. ️
URL:https://jlsfrc.org/event/11946/2025-05-05/
LOCATION:Joyce L. Sobel Family Resource Center\, 476 Market Street\, Friday Harbor\, WA\, 98250\, United States
CATEGORIES:All,Kids,P2P,Teens & Young Adults,Tweens,YAAS!
ATTACH;FMTTYPE=image/webp:https://jlsfrc.org/wp-content/uploads/2024/04/Screen-Free-Week-web.webp
END:VEVENT
BEGIN:VEVENT
DTSTART;TZID=America/Los_Angeles:20250305T173000
DTEND;TZID=America/Los_Angeles:20250305T190000
DTSTAMP:20260423T160710
CREATED:20250214T173455Z
LAST-MODIFIED:20250214T173455Z
UID:10006346-1741195800-1741201200@jlsfrc.org
SUMMARY:Community Reading Night
DESCRIPTION:Community Reading Night is BACK! Join us for FOOD\, GIVEAWAYS\, ACTIVITIES plus story and poem reading by some of your favorite community members. All elementary school families are welcome. \n📅 Wednesday\, March 5th\n🕒 Dinner at 5:30 pm\, Reading at 6:00 pm\n📍 Friday Harbor Elementary School \nFor more information call: 360-378-5246 \nBrought to you by the Joyce L. Sobel Family Resource Center and FHES PTO and thanks to generous funding from the Stocker Foundation.
URL:https://jlsfrc.org/event/community-reading-night-2/
LOCATION:Friday Harbor Elementary School\, 95 Grover St\, Friday Harbor\, 98250\, United States
CATEGORIES:Kids
ATTACH;FMTTYPE=image/jpeg:https://jlsfrc.org/wp-content/uploads/2025/02/Community-Reading-Night-Spring.jpg
END:VEVENT
BEGIN:VEVENT
DTSTART;TZID=America/Los_Angeles:20250122T173000
DTEND;TZID=America/Los_Angeles:20250122T190000
DTSTAMP:20260423T160710
CREATED:20250107T194031Z
LAST-MODIFIED:20250107T194031Z
UID:10006304-1737567000-1737572400@jlsfrc.org
SUMMARY:Community Reading Night
DESCRIPTION:Community Reading Night is BACK! Don’t miss out on all the fun! \nJoin us for FOOD\, GIVEAWAYS\, ACTIVITIES plus story and poem reading by some of your favorite community members. All elementary school families are welcome. \n📅 Wednesday\, January 22nd\n🕒 Dinner at 5:30 pm\, Reading at 6:00 pm\n📍 Friday Harbor Elementary School \nFor more information call: 360-378-5246 \nBrought to you by the Joyce L. Sobel Family Resource Center and FHES PTO and thanks to generous funding from the Stocker Family Foundation.
URL:https://jlsfrc.org/event/community-reading-night/
LOCATION:Friday Harbor Elementary School\, 95 Grover St\, Friday Harbor\, 98250\, United States
CATEGORIES:Kids
ATTACH;FMTTYPE=image/jpeg:https://jlsfrc.org/wp-content/uploads/2025/01/Community-Reading-Night-Winter-2025.jpg
END:VEVENT
BEGIN:VEVENT
DTSTART;VALUE=DATE:20240506
DTEND;VALUE=DATE:20240512
DTSTAMP:20260423T160710
CREATED:20240417T221129Z
LAST-MODIFIED:20240430T192923Z
UID:10005405-1714953600-1715471999@jlsfrc.org
SUMMARY:Friday Harbor Screen-Free Challenge
DESCRIPTION:National Screen-Free Week starts on May 6th and goes through May 11th! All across the country\, families are going “Screen-Free” in the afternoons and evenings. Registration deadline is Friday\, April 26th. \nBe one of the first 35 families to sign up for the official “Friday Harbor Screen-Free Challenge” and you’ll get to participate in tons of fun\, no-cost screen-free activities during Screen-Free Week:\n🏊 Swimming\n🎨 Arts & Crafts\n🎳 Bowling\n🧗 Rock Climbing\n🍳 Cooking Class\n💃 Dancing\n…and much more! \nQuestions? Email: Ashley Bashaw: ashleybashaw@gmail.com OR Camille DeYoung: writeconley@yahoo.com \nThank you San Juan Island Prevention Coalition for your continued support with Screen Free Week! \n 
URL:https://jlsfrc.org/event/friday-harbor-screen-free-challenge/
LOCATION:WA
CATEGORIES:All,Kids,Teens & Young Adults
ATTACH;FMTTYPE=image/jpeg:https://jlsfrc.org/wp-content/uploads/2024/04/Screen-Free-Week-1.jpg
END:VEVENT
END:VCALENDAR