BEGIN:VCALENDAR
VERSION:2.0
PRODID:-//Joyce L. Sobel Family Resource Center - ECPv6.15.17.1//NONSGML v1.0//EN
CALSCALE:GREGORIAN
METHOD:PUBLISH
X-WR-CALNAME:Joyce L. Sobel Family Resource Center
X-ORIGINAL-URL:https://jlsfrc.org
X-WR-CALDESC:Events for Joyce L. Sobel Family Resource Center
REFRESH-INTERVAL;VALUE=DURATION:PT1H
X-Robots-Tag:noindex
X-PUBLISHED-TTL:PT1H
BEGIN:VTIMEZONE
TZID:America/Los_Angeles
BEGIN:DAYLIGHT
TZOFFSETFROM:-0800
TZOFFSETTO:-0700
TZNAME:PDT
DTSTART:20250309T100000
END:DAYLIGHT
BEGIN:STANDARD
TZOFFSETFROM:-0700
TZOFFSETTO:-0800
TZNAME:PST
DTSTART:20251102T090000
END:STANDARD
BEGIN:DAYLIGHT
TZOFFSETFROM:-0800
TZOFFSETTO:-0700
TZNAME:PDT
DTSTART:20260308T100000
END:DAYLIGHT
BEGIN:STANDARD
TZOFFSETFROM:-0700
TZOFFSETTO:-0800
TZNAME:PST
DTSTART:20261101T090000
END:STANDARD
BEGIN:DAYLIGHT
TZOFFSETFROM:-0800
TZOFFSETTO:-0700
TZNAME:PDT
DTSTART:20270314T100000
END:DAYLIGHT
BEGIN:STANDARD
TZOFFSETFROM:-0700
TZOFFSETTO:-0800
TZNAME:PST
DTSTART:20271107T090000
END:STANDARD
END:VTIMEZONE
BEGIN:VEVENT
DTSTART;TZID=America/Los_Angeles:20260209T120000
DTEND;TZID=America/Los_Angeles:20260209T130000
DTSTAMP:20260423T131632
CREATED:20260126T170618Z
LAST-MODIFIED:20260209T172906Z
UID:10007472-1770638400-1770642000@jlsfrc.org
SUMMARY:P2P In-Person Support Group
DESCRIPTION:P2P (Parent to Parent) in-person support group. 12pm-1pm  at Bakery San Juan.
URL:https://jlsfrc.org/event/p2p-in-person-support-group-2/2026-02-09/
LOCATION:Bakery San Juan\, 775 Mullis St\, Friday Harbor\, 98250\, United States
CATEGORIES:P2P
ATTACH;FMTTYPE=image/webp:https://jlsfrc.org/wp-content/uploads/2025/12/JLSFRC-Events-Calendar-Images-640-x-360-px.webp
END:VEVENT
BEGIN:VEVENT
DTSTART;TZID=America/Los_Angeles:20260209T150000
DTEND;TZID=America/Los_Angeles:20260209T160000
DTSTAMP:20260423T131632
CREATED:20260124T205307Z
LAST-MODIFIED:20260124T205453Z
UID:10007465-1770649200-1770652800@jlsfrc.org
SUMMARY:P2P Valentine’s Craft Party
DESCRIPTION:Join P2P for a fun\, free Valentine’s crafting event for children with special needs and/or disabilities! \n🎨 When: Monday\, February 9 | 3–4 PM\n📍 Where: Price Street Building\, 265 Price Street\n👩‍👧 Who: Kids with special needs and their families\n💌 Info: Contact Jen DeShon at p2p@jlsfrc.org
URL:https://jlsfrc.org/event/p2p-valentines-craft-party/
LOCATION:Joyce L. Sobel Family Resource Center\, 476 Market Street\, Friday Harbor\, WA\, 98250\, United States
CATEGORIES:P2P
ATTACH;FMTTYPE=image/jpeg:https://jlsfrc.org/wp-content/uploads/2026/01/p2p-1.jpg
END:VEVENT
BEGIN:VEVENT
DTSTART;TZID=America/Los_Angeles:20260210T180000
DTEND;TZID=America/Los_Angeles:20260210T193000
DTSTAMP:20260423T131632
CREATED:20250207T165556Z
LAST-MODIFIED:20260303T185400Z
UID:10007182-1770746400-1770751800@jlsfrc.org
SUMMARY:P2P Tea Talk Evening Virtual Support Group
DESCRIPTION:Join us for our Parent to Parent (P2P) Tea Talk Evening Virtual Support Group! Occurs on the second Tuesday of every month\, from 6:00pm – 7:30pm. \nTo register for the zoom link\, contact Jen DeShon\, P2P Coordinator.\nEmail: p2p@jlsfrc.org or call/text: 360-622-0326. \n 
URL:https://jlsfrc.org/event/p2p-tea-talk-evening-virtual-support-group/2026-02-10/
LOCATION:Virtual
CATEGORIES:P2P
ATTACH;FMTTYPE=image/jpeg:https://jlsfrc.org/wp-content/uploads/2025/02/Tea-Talk-Evening-Virtual-Support-Group.jpg
END:VEVENT
BEGIN:VEVENT
DTSTART;TZID=America/Los_Angeles:20260211T093000
DTEND;TZID=America/Los_Angeles:20260211T110000
DTSTAMP:20260423T131632
CREATED:20250207T170049Z
LAST-MODIFIED:20260303T190236Z
UID:10007185-1770802200-1770807600@jlsfrc.org
SUMMARY:P2P Coffee Chat Morning Virtual Support Group
DESCRIPTION:Join us for our Parent to Parent (P2P) Coffee Chat Morning Virtual Support Group! Occurs on the second Wednesday of every month\, from 9:30am – 11:00am. \nTo register for the zoom link\, contact Jen DeShon\, P2P Coordinator.\nEmail: p2p@jlsfrc.org or call/text: 360-622-0326.
URL:https://jlsfrc.org/event/p2p-coffee-chat-morning-virtual-support-group/2026-02-11/
LOCATION:Virtual
CATEGORIES:P2P
ATTACH;FMTTYPE=image/jpeg:https://jlsfrc.org/wp-content/uploads/2025/02/Coffee-Chat-Morning-Virtual-Support-Group.jpg
END:VEVENT
BEGIN:VEVENT
DTSTART;TZID=America/Los_Angeles:20260223T120000
DTEND;TZID=America/Los_Angeles:20260223T130000
DTSTAMP:20260423T131632
CREATED:20260126T170618Z
LAST-MODIFIED:20260209T172906Z
UID:10007473-1771848000-1771851600@jlsfrc.org
SUMMARY:P2P In-Person Support Group
DESCRIPTION:P2P (Parent to Parent) in-person support group. 12pm-1pm  at Bakery San Juan.
URL:https://jlsfrc.org/event/p2p-in-person-support-group-2/2026-02-23/
LOCATION:Bakery San Juan\, 775 Mullis St\, Friday Harbor\, 98250\, United States
CATEGORIES:P2P
ATTACH;FMTTYPE=image/webp:https://jlsfrc.org/wp-content/uploads/2025/12/JLSFRC-Events-Calendar-Images-640-x-360-px.webp
END:VEVENT
END:VCALENDAR