BEGIN:VCALENDAR
VERSION:2.0
PRODID:-//Joyce L. Sobel Family Resource Center - ECPv6.15.17.1//NONSGML v1.0//EN
CALSCALE:GREGORIAN
METHOD:PUBLISH
X-ORIGINAL-URL:https://jlsfrc.org
X-WR-CALDESC:Events for Joyce L. Sobel Family Resource Center
REFRESH-INTERVAL;VALUE=DURATION:PT1H
X-Robots-Tag:noindex
X-PUBLISHED-TTL:PT1H
BEGIN:VTIMEZONE
TZID:America/Los_Angeles
BEGIN:DAYLIGHT
TZOFFSETFROM:-0800
TZOFFSETTO:-0700
TZNAME:PDT
DTSTART:20250309T100000
END:DAYLIGHT
BEGIN:STANDARD
TZOFFSETFROM:-0700
TZOFFSETTO:-0800
TZNAME:PST
DTSTART:20251102T090000
END:STANDARD
BEGIN:DAYLIGHT
TZOFFSETFROM:-0800
TZOFFSETTO:-0700
TZNAME:PDT
DTSTART:20260308T100000
END:DAYLIGHT
BEGIN:STANDARD
TZOFFSETFROM:-0700
TZOFFSETTO:-0800
TZNAME:PST
DTSTART:20261101T090000
END:STANDARD
BEGIN:DAYLIGHT
TZOFFSETFROM:-0800
TZOFFSETTO:-0700
TZNAME:PDT
DTSTART:20270314T100000
END:DAYLIGHT
BEGIN:STANDARD
TZOFFSETFROM:-0700
TZOFFSETTO:-0800
TZNAME:PST
DTSTART:20271107T090000
END:STANDARD
END:VTIMEZONE
BEGIN:VEVENT
DTSTART;TZID=America/Los_Angeles:20260427T120000
DTEND;TZID=America/Los_Angeles:20260427T130000
DTSTAMP:20260423T161342
CREATED:20250616T182227Z
LAST-MODIFIED:20251207T202026Z
UID:10007161-1777291200-1777294800@jlsfrc.org
SUMMARY:P2P Walking Support Group
DESCRIPTION:Join us from 12pm – 1pm for a P2P (Parent to Parent) Walking Support Group. Walk with us around the fields for a supportive\, fun\, & social outing. Everyone is Welcome!
URL:https://jlsfrc.org/event/p2p-summer-walking-support-group/2026-04-27/
LOCATION:Linde Park\, 565 Carter Ave\, Friday Harbor\, WA\, 98250\, United States
CATEGORIES:P2P
ATTACH;FMTTYPE=image/jpeg:https://jlsfrc.org/wp-content/uploads/2025/06/JLSFRC-Events-Calendar-Images-640-x-360-px-1-1.jpg
END:VEVENT
BEGIN:VEVENT
DTSTART;TZID=America/Los_Angeles:20260427T150000
DTEND;TZID=America/Los_Angeles:20260427T170000
DTSTAMP:20260423T161342
CREATED:20260303T223110Z
LAST-MODIFIED:20260303T223110Z
UID:10007509-1777302000-1777309200@jlsfrc.org
SUMMARY:P2P Bowling Party
DESCRIPTION:P2P Bowling Party! \nJoin us for an afternoon of fun\, connection\, and community at our upcoming P2P Bowling Party — created especially for families and caregivers of children with special needs and/or disabilities. \n📅 April 27⏰ 3–5 PM📍 JP’s Restaurant & Bar \nCome roll a few frames\, share some laughs\, and enjoy time together in a welcoming\, supportive space. \nFor details or questions\, contact Jen DeShon at p2p@jlsfrc.org
URL:https://jlsfrc.org/event/p2p-bowling-party/
LOCATION:JP’s\, 365 Spring St\, Friday Harbor\, 98250\, United States
CATEGORIES:P2P
ATTACH;FMTTYPE=image/jpeg:https://jlsfrc.org/wp-content/uploads/2026/03/JLSFRC-Events-Calendar-Images-640-x-360-px.jpg
END:VEVENT
BEGIN:VEVENT
DTSTART;TZID=America/Los_Angeles:20260511T120000
DTEND;TZID=America/Los_Angeles:20260511T130000
DTSTAMP:20260423T161342
CREATED:20250616T182227Z
LAST-MODIFIED:20251207T202026Z
UID:10007162-1778500800-1778504400@jlsfrc.org
SUMMARY:P2P Walking Support Group
DESCRIPTION:Join us from 12pm – 1pm for a P2P (Parent to Parent) Walking Support Group. Walk with us around the fields for a supportive\, fun\, & social outing. Everyone is Welcome!
URL:https://jlsfrc.org/event/p2p-summer-walking-support-group/2026-05-11/
LOCATION:Linde Park\, 565 Carter Ave\, Friday Harbor\, WA\, 98250\, United States
CATEGORIES:P2P
ATTACH;FMTTYPE=image/jpeg:https://jlsfrc.org/wp-content/uploads/2025/06/JLSFRC-Events-Calendar-Images-640-x-360-px-1-1.jpg
END:VEVENT
BEGIN:VEVENT
DTSTART;TZID=America/Los_Angeles:20260512T180000
DTEND;TZID=America/Los_Angeles:20260512T193000
DTSTAMP:20260423T161342
CREATED:20250207T165556Z
LAST-MODIFIED:20260303T185400Z
UID:10007491-1778608800-1778614200@jlsfrc.org
SUMMARY:P2P Tea Talk Evening Virtual Support Group
DESCRIPTION:Join us for our Parent to Parent (P2P) Tea Talk Evening Virtual Support Group! Occurs on the second Tuesday of every month\, from 6:00pm – 7:30pm. \nTo register for the zoom link\, contact Jen DeShon\, P2P Coordinator.\nEmail: p2p@jlsfrc.org or call/text: 360-622-0326. \n 
URL:https://jlsfrc.org/event/p2p-tea-talk-evening-virtual-support-group/2026-05-12/
LOCATION:Virtual
CATEGORIES:P2P
ATTACH;FMTTYPE=image/jpeg:https://jlsfrc.org/wp-content/uploads/2025/02/Tea-Talk-Evening-Virtual-Support-Group.jpg
END:VEVENT
BEGIN:VEVENT
DTSTART;TZID=America/Los_Angeles:20260513T093000
DTEND;TZID=America/Los_Angeles:20260513T110000
DTSTAMP:20260423T161342
CREATED:20250207T170049Z
LAST-MODIFIED:20260303T190236Z
UID:10007500-1778664600-1778670000@jlsfrc.org
SUMMARY:P2P Coffee Chat Morning Virtual Support Group
DESCRIPTION:Join us for our Parent to Parent (P2P) Coffee Chat Morning Virtual Support Group! Occurs on the second Wednesday of every month\, from 9:30am – 11:00am. \nTo register for the zoom link\, contact Jen DeShon\, P2P Coordinator.\nEmail: p2p@jlsfrc.org or call/text: 360-622-0326.
URL:https://jlsfrc.org/event/p2p-coffee-chat-morning-virtual-support-group/2026-05-13/
LOCATION:Virtual
CATEGORIES:P2P
ATTACH;FMTTYPE=image/jpeg:https://jlsfrc.org/wp-content/uploads/2025/02/Coffee-Chat-Morning-Virtual-Support-Group.jpg
END:VEVENT
BEGIN:VEVENT
DTSTART;TZID=America/Los_Angeles:20260525T120000
DTEND;TZID=America/Los_Angeles:20260525T130000
DTSTAMP:20260423T161342
CREATED:20250616T182227Z
LAST-MODIFIED:20251207T202026Z
UID:10007163-1779710400-1779714000@jlsfrc.org
SUMMARY:P2P Walking Support Group
DESCRIPTION:Join us from 12pm – 1pm for a P2P (Parent to Parent) Walking Support Group. Walk with us around the fields for a supportive\, fun\, & social outing. Everyone is Welcome!
URL:https://jlsfrc.org/event/p2p-summer-walking-support-group/2026-05-25/
LOCATION:Linde Park\, 565 Carter Ave\, Friday Harbor\, WA\, 98250\, United States
CATEGORIES:P2P
ATTACH;FMTTYPE=image/jpeg:https://jlsfrc.org/wp-content/uploads/2025/06/JLSFRC-Events-Calendar-Images-640-x-360-px-1-1.jpg
END:VEVENT
BEGIN:VEVENT
DTSTART;TZID=America/Los_Angeles:20260608T120000
DTEND;TZID=America/Los_Angeles:20260608T130000
DTSTAMP:20260423T161342
CREATED:20250616T182227Z
LAST-MODIFIED:20251207T202026Z
UID:10007164-1780920000-1780923600@jlsfrc.org
SUMMARY:P2P Walking Support Group
DESCRIPTION:Join us from 12pm – 1pm for a P2P (Parent to Parent) Walking Support Group. Walk with us around the fields for a supportive\, fun\, & social outing. Everyone is Welcome!
URL:https://jlsfrc.org/event/p2p-summer-walking-support-group/2026-06-08/
LOCATION:Linde Park\, 565 Carter Ave\, Friday Harbor\, WA\, 98250\, United States
CATEGORIES:P2P
ATTACH;FMTTYPE=image/jpeg:https://jlsfrc.org/wp-content/uploads/2025/06/JLSFRC-Events-Calendar-Images-640-x-360-px-1-1.jpg
END:VEVENT
BEGIN:VEVENT
DTSTART;TZID=America/Los_Angeles:20260609T180000
DTEND;TZID=America/Los_Angeles:20260609T193000
DTSTAMP:20260423T161342
CREATED:20250207T165556Z
LAST-MODIFIED:20260303T185400Z
UID:10007492-1781028000-1781033400@jlsfrc.org
SUMMARY:P2P Tea Talk Evening Virtual Support Group
DESCRIPTION:Join us for our Parent to Parent (P2P) Tea Talk Evening Virtual Support Group! Occurs on the second Tuesday of every month\, from 6:00pm – 7:30pm. \nTo register for the zoom link\, contact Jen DeShon\, P2P Coordinator.\nEmail: p2p@jlsfrc.org or call/text: 360-622-0326. \n 
URL:https://jlsfrc.org/event/p2p-tea-talk-evening-virtual-support-group/2026-06-09/
LOCATION:Virtual
CATEGORIES:P2P
ATTACH;FMTTYPE=image/jpeg:https://jlsfrc.org/wp-content/uploads/2025/02/Tea-Talk-Evening-Virtual-Support-Group.jpg
END:VEVENT
BEGIN:VEVENT
DTSTART;TZID=America/Los_Angeles:20260610T093000
DTEND;TZID=America/Los_Angeles:20260610T110000
DTSTAMP:20260423T161342
CREATED:20250207T170049Z
LAST-MODIFIED:20260303T190236Z
UID:10007501-1781083800-1781089200@jlsfrc.org
SUMMARY:P2P Coffee Chat Morning Virtual Support Group
DESCRIPTION:Join us for our Parent to Parent (P2P) Coffee Chat Morning Virtual Support Group! Occurs on the second Wednesday of every month\, from 9:30am – 11:00am. \nTo register for the zoom link\, contact Jen DeShon\, P2P Coordinator.\nEmail: p2p@jlsfrc.org or call/text: 360-622-0326.
URL:https://jlsfrc.org/event/p2p-coffee-chat-morning-virtual-support-group/2026-06-10/
LOCATION:Virtual
CATEGORIES:P2P
ATTACH;FMTTYPE=image/jpeg:https://jlsfrc.org/wp-content/uploads/2025/02/Coffee-Chat-Morning-Virtual-Support-Group.jpg
END:VEVENT
BEGIN:VEVENT
DTSTART;TZID=America/Los_Angeles:20260622T120000
DTEND;TZID=America/Los_Angeles:20260622T130000
DTSTAMP:20260423T161342
CREATED:20250616T182227Z
LAST-MODIFIED:20251207T202026Z
UID:10007165-1782129600-1782133200@jlsfrc.org
SUMMARY:P2P Walking Support Group
DESCRIPTION:Join us from 12pm – 1pm for a P2P (Parent to Parent) Walking Support Group. Walk with us around the fields for a supportive\, fun\, & social outing. Everyone is Welcome!
URL:https://jlsfrc.org/event/p2p-summer-walking-support-group/2026-06-22/
LOCATION:Linde Park\, 565 Carter Ave\, Friday Harbor\, WA\, 98250\, United States
CATEGORIES:P2P
ATTACH;FMTTYPE=image/jpeg:https://jlsfrc.org/wp-content/uploads/2025/06/JLSFRC-Events-Calendar-Images-640-x-360-px-1-1.jpg
END:VEVENT
BEGIN:VEVENT
DTSTART;TZID=America/Los_Angeles:20260708T093000
DTEND;TZID=America/Los_Angeles:20260708T110000
DTSTAMP:20260423T161342
CREATED:20250207T170049Z
LAST-MODIFIED:20260303T190236Z
UID:10007502-1783503000-1783508400@jlsfrc.org
SUMMARY:P2P Coffee Chat Morning Virtual Support Group
DESCRIPTION:Join us for our Parent to Parent (P2P) Coffee Chat Morning Virtual Support Group! Occurs on the second Wednesday of every month\, from 9:30am – 11:00am. \nTo register for the zoom link\, contact Jen DeShon\, P2P Coordinator.\nEmail: p2p@jlsfrc.org or call/text: 360-622-0326.
URL:https://jlsfrc.org/event/p2p-coffee-chat-morning-virtual-support-group/2026-07-08/
LOCATION:Virtual
CATEGORIES:P2P
ATTACH;FMTTYPE=image/jpeg:https://jlsfrc.org/wp-content/uploads/2025/02/Coffee-Chat-Morning-Virtual-Support-Group.jpg
END:VEVENT
BEGIN:VEVENT
DTSTART;TZID=America/Los_Angeles:20260713T120000
DTEND;TZID=America/Los_Angeles:20260713T130000
DTSTAMP:20260423T161342
CREATED:20250616T182227Z
LAST-MODIFIED:20251207T202026Z
UID:10007166-1783944000-1783947600@jlsfrc.org
SUMMARY:P2P Walking Support Group
DESCRIPTION:Join us from 12pm – 1pm for a P2P (Parent to Parent) Walking Support Group. Walk with us around the fields for a supportive\, fun\, & social outing. Everyone is Welcome!
URL:https://jlsfrc.org/event/p2p-summer-walking-support-group/2026-07-13/
LOCATION:Linde Park\, 565 Carter Ave\, Friday Harbor\, WA\, 98250\, United States
CATEGORIES:P2P
ATTACH;FMTTYPE=image/jpeg:https://jlsfrc.org/wp-content/uploads/2025/06/JLSFRC-Events-Calendar-Images-640-x-360-px-1-1.jpg
END:VEVENT
BEGIN:VEVENT
DTSTART;TZID=America/Los_Angeles:20260714T180000
DTEND;TZID=America/Los_Angeles:20260714T193000
DTSTAMP:20260423T161342
CREATED:20250207T165556Z
LAST-MODIFIED:20260303T185400Z
UID:10007493-1784052000-1784057400@jlsfrc.org
SUMMARY:P2P Tea Talk Evening Virtual Support Group
DESCRIPTION:Join us for our Parent to Parent (P2P) Tea Talk Evening Virtual Support Group! Occurs on the second Tuesday of every month\, from 6:00pm – 7:30pm. \nTo register for the zoom link\, contact Jen DeShon\, P2P Coordinator.\nEmail: p2p@jlsfrc.org or call/text: 360-622-0326. \n 
URL:https://jlsfrc.org/event/p2p-tea-talk-evening-virtual-support-group/2026-07-14/
LOCATION:Virtual
CATEGORIES:P2P
ATTACH;FMTTYPE=image/jpeg:https://jlsfrc.org/wp-content/uploads/2025/02/Tea-Talk-Evening-Virtual-Support-Group.jpg
END:VEVENT
BEGIN:VEVENT
DTSTART;TZID=America/Los_Angeles:20260727T120000
DTEND;TZID=America/Los_Angeles:20260727T130000
DTSTAMP:20260423T161342
CREATED:20250616T182227Z
LAST-MODIFIED:20251207T202026Z
UID:10007167-1785153600-1785157200@jlsfrc.org
SUMMARY:P2P Walking Support Group
DESCRIPTION:Join us from 12pm – 1pm for a P2P (Parent to Parent) Walking Support Group. Walk with us around the fields for a supportive\, fun\, & social outing. Everyone is Welcome!
URL:https://jlsfrc.org/event/p2p-summer-walking-support-group/2026-07-27/
LOCATION:Linde Park\, 565 Carter Ave\, Friday Harbor\, WA\, 98250\, United States
CATEGORIES:P2P
ATTACH;FMTTYPE=image/jpeg:https://jlsfrc.org/wp-content/uploads/2025/06/JLSFRC-Events-Calendar-Images-640-x-360-px-1-1.jpg
END:VEVENT
BEGIN:VEVENT
DTSTART;TZID=America/Los_Angeles:20260810T120000
DTEND;TZID=America/Los_Angeles:20260810T130000
DTSTAMP:20260423T161342
CREATED:20250616T182227Z
LAST-MODIFIED:20251207T202026Z
UID:10007168-1786363200-1786366800@jlsfrc.org
SUMMARY:P2P Walking Support Group
DESCRIPTION:Join us from 12pm – 1pm for a P2P (Parent to Parent) Walking Support Group. Walk with us around the fields for a supportive\, fun\, & social outing. Everyone is Welcome!
URL:https://jlsfrc.org/event/p2p-summer-walking-support-group/2026-08-10/
LOCATION:Linde Park\, 565 Carter Ave\, Friday Harbor\, WA\, 98250\, United States
CATEGORIES:P2P
ATTACH;FMTTYPE=image/jpeg:https://jlsfrc.org/wp-content/uploads/2025/06/JLSFRC-Events-Calendar-Images-640-x-360-px-1-1.jpg
END:VEVENT
BEGIN:VEVENT
DTSTART;TZID=America/Los_Angeles:20260811T180000
DTEND;TZID=America/Los_Angeles:20260811T193000
DTSTAMP:20260423T161342
CREATED:20250207T165556Z
LAST-MODIFIED:20260303T185400Z
UID:10007494-1786471200-1786476600@jlsfrc.org
SUMMARY:P2P Tea Talk Evening Virtual Support Group
DESCRIPTION:Join us for our Parent to Parent (P2P) Tea Talk Evening Virtual Support Group! Occurs on the second Tuesday of every month\, from 6:00pm – 7:30pm. \nTo register for the zoom link\, contact Jen DeShon\, P2P Coordinator.\nEmail: p2p@jlsfrc.org or call/text: 360-622-0326. \n 
URL:https://jlsfrc.org/event/p2p-tea-talk-evening-virtual-support-group/2026-08-11/
LOCATION:Virtual
CATEGORIES:P2P
ATTACH;FMTTYPE=image/jpeg:https://jlsfrc.org/wp-content/uploads/2025/02/Tea-Talk-Evening-Virtual-Support-Group.jpg
END:VEVENT
BEGIN:VEVENT
DTSTART;TZID=America/Los_Angeles:20260812T093000
DTEND;TZID=America/Los_Angeles:20260812T110000
DTSTAMP:20260423T161342
CREATED:20250207T170049Z
LAST-MODIFIED:20260303T190236Z
UID:10007503-1786527000-1786532400@jlsfrc.org
SUMMARY:P2P Coffee Chat Morning Virtual Support Group
DESCRIPTION:Join us for our Parent to Parent (P2P) Coffee Chat Morning Virtual Support Group! Occurs on the second Wednesday of every month\, from 9:30am – 11:00am. \nTo register for the zoom link\, contact Jen DeShon\, P2P Coordinator.\nEmail: p2p@jlsfrc.org or call/text: 360-622-0326.
URL:https://jlsfrc.org/event/p2p-coffee-chat-morning-virtual-support-group/2026-08-12/
LOCATION:Virtual
CATEGORIES:P2P
ATTACH;FMTTYPE=image/jpeg:https://jlsfrc.org/wp-content/uploads/2025/02/Coffee-Chat-Morning-Virtual-Support-Group.jpg
END:VEVENT
BEGIN:VEVENT
DTSTART;TZID=America/Los_Angeles:20260824T120000
DTEND;TZID=America/Los_Angeles:20260824T130000
DTSTAMP:20260423T161342
CREATED:20250616T182227Z
LAST-MODIFIED:20251207T202026Z
UID:10007169-1787572800-1787576400@jlsfrc.org
SUMMARY:P2P Walking Support Group
DESCRIPTION:Join us from 12pm – 1pm for a P2P (Parent to Parent) Walking Support Group. Walk with us around the fields for a supportive\, fun\, & social outing. Everyone is Welcome!
URL:https://jlsfrc.org/event/p2p-summer-walking-support-group/2026-08-24/
LOCATION:Linde Park\, 565 Carter Ave\, Friday Harbor\, WA\, 98250\, United States
CATEGORIES:P2P
ATTACH;FMTTYPE=image/jpeg:https://jlsfrc.org/wp-content/uploads/2025/06/JLSFRC-Events-Calendar-Images-640-x-360-px-1-1.jpg
END:VEVENT
BEGIN:VEVENT
DTSTART;TZID=America/Los_Angeles:20260908T180000
DTEND;TZID=America/Los_Angeles:20260908T193000
DTSTAMP:20260423T161342
CREATED:20250207T165556Z
LAST-MODIFIED:20260303T185400Z
UID:10007495-1788890400-1788895800@jlsfrc.org
SUMMARY:P2P Tea Talk Evening Virtual Support Group
DESCRIPTION:Join us for our Parent to Parent (P2P) Tea Talk Evening Virtual Support Group! Occurs on the second Tuesday of every month\, from 6:00pm – 7:30pm. \nTo register for the zoom link\, contact Jen DeShon\, P2P Coordinator.\nEmail: p2p@jlsfrc.org or call/text: 360-622-0326. \n 
URL:https://jlsfrc.org/event/p2p-tea-talk-evening-virtual-support-group/2026-09-08/
LOCATION:Virtual
CATEGORIES:P2P
ATTACH;FMTTYPE=image/jpeg:https://jlsfrc.org/wp-content/uploads/2025/02/Tea-Talk-Evening-Virtual-Support-Group.jpg
END:VEVENT
BEGIN:VEVENT
DTSTART;TZID=America/Los_Angeles:20260909T093000
DTEND;TZID=America/Los_Angeles:20260909T110000
DTSTAMP:20260423T161342
CREATED:20250207T170049Z
LAST-MODIFIED:20260303T190236Z
UID:10007504-1788946200-1788951600@jlsfrc.org
SUMMARY:P2P Coffee Chat Morning Virtual Support Group
DESCRIPTION:Join us for our Parent to Parent (P2P) Coffee Chat Morning Virtual Support Group! Occurs on the second Wednesday of every month\, from 9:30am – 11:00am. \nTo register for the zoom link\, contact Jen DeShon\, P2P Coordinator.\nEmail: p2p@jlsfrc.org or call/text: 360-622-0326.
URL:https://jlsfrc.org/event/p2p-coffee-chat-morning-virtual-support-group/2026-09-09/
LOCATION:Virtual
CATEGORIES:P2P
ATTACH;FMTTYPE=image/jpeg:https://jlsfrc.org/wp-content/uploads/2025/02/Coffee-Chat-Morning-Virtual-Support-Group.jpg
END:VEVENT
BEGIN:VEVENT
DTSTART;TZID=America/Los_Angeles:20260914T120000
DTEND;TZID=America/Los_Angeles:20260914T130000
DTSTAMP:20260423T161342
CREATED:20250616T182227Z
LAST-MODIFIED:20251207T202026Z
UID:10007170-1789387200-1789390800@jlsfrc.org
SUMMARY:P2P Walking Support Group
DESCRIPTION:Join us from 12pm – 1pm for a P2P (Parent to Parent) Walking Support Group. Walk with us around the fields for a supportive\, fun\, & social outing. Everyone is Welcome!
URL:https://jlsfrc.org/event/p2p-summer-walking-support-group/2026-09-14/
LOCATION:Linde Park\, 565 Carter Ave\, Friday Harbor\, WA\, 98250\, United States
CATEGORIES:P2P
ATTACH;FMTTYPE=image/jpeg:https://jlsfrc.org/wp-content/uploads/2025/06/JLSFRC-Events-Calendar-Images-640-x-360-px-1-1.jpg
END:VEVENT
BEGIN:VEVENT
DTSTART;TZID=America/Los_Angeles:20260928T120000
DTEND;TZID=America/Los_Angeles:20260928T130000
DTSTAMP:20260423T161342
CREATED:20250616T182227Z
LAST-MODIFIED:20251207T202026Z
UID:10007171-1790596800-1790600400@jlsfrc.org
SUMMARY:P2P Walking Support Group
DESCRIPTION:Join us from 12pm – 1pm for a P2P (Parent to Parent) Walking Support Group. Walk with us around the fields for a supportive\, fun\, & social outing. Everyone is Welcome!
URL:https://jlsfrc.org/event/p2p-summer-walking-support-group/2026-09-28/
LOCATION:Linde Park\, 565 Carter Ave\, Friday Harbor\, WA\, 98250\, United States
CATEGORIES:P2P
ATTACH;FMTTYPE=image/jpeg:https://jlsfrc.org/wp-content/uploads/2025/06/JLSFRC-Events-Calendar-Images-640-x-360-px-1-1.jpg
END:VEVENT
BEGIN:VEVENT
DTSTART;TZID=America/Los_Angeles:20261012T120000
DTEND;TZID=America/Los_Angeles:20261012T130000
DTSTAMP:20260423T161342
CREATED:20250616T182227Z
LAST-MODIFIED:20251207T202026Z
UID:10007172-1791806400-1791810000@jlsfrc.org
SUMMARY:P2P Walking Support Group
DESCRIPTION:Join us from 12pm – 1pm for a P2P (Parent to Parent) Walking Support Group. Walk with us around the fields for a supportive\, fun\, & social outing. Everyone is Welcome!
URL:https://jlsfrc.org/event/p2p-summer-walking-support-group/2026-10-12/
LOCATION:Linde Park\, 565 Carter Ave\, Friday Harbor\, WA\, 98250\, United States
CATEGORIES:P2P
ATTACH;FMTTYPE=image/jpeg:https://jlsfrc.org/wp-content/uploads/2025/06/JLSFRC-Events-Calendar-Images-640-x-360-px-1-1.jpg
END:VEVENT
BEGIN:VEVENT
DTSTART;TZID=America/Los_Angeles:20261013T180000
DTEND;TZID=America/Los_Angeles:20261013T193000
DTSTAMP:20260423T161342
CREATED:20250207T165556Z
LAST-MODIFIED:20260303T185400Z
UID:10007496-1791914400-1791919800@jlsfrc.org
SUMMARY:P2P Tea Talk Evening Virtual Support Group
DESCRIPTION:Join us for our Parent to Parent (P2P) Tea Talk Evening Virtual Support Group! Occurs on the second Tuesday of every month\, from 6:00pm – 7:30pm. \nTo register for the zoom link\, contact Jen DeShon\, P2P Coordinator.\nEmail: p2p@jlsfrc.org or call/text: 360-622-0326. \n 
URL:https://jlsfrc.org/event/p2p-tea-talk-evening-virtual-support-group/2026-10-13/
LOCATION:Virtual
CATEGORIES:P2P
ATTACH;FMTTYPE=image/jpeg:https://jlsfrc.org/wp-content/uploads/2025/02/Tea-Talk-Evening-Virtual-Support-Group.jpg
END:VEVENT
BEGIN:VEVENT
DTSTART;TZID=America/Los_Angeles:20261014T093000
DTEND;TZID=America/Los_Angeles:20261014T110000
DTSTAMP:20260423T161342
CREATED:20250207T170049Z
LAST-MODIFIED:20260303T190236Z
UID:10007505-1791970200-1791975600@jlsfrc.org
SUMMARY:P2P Coffee Chat Morning Virtual Support Group
DESCRIPTION:Join us for our Parent to Parent (P2P) Coffee Chat Morning Virtual Support Group! Occurs on the second Wednesday of every month\, from 9:30am – 11:00am. \nTo register for the zoom link\, contact Jen DeShon\, P2P Coordinator.\nEmail: p2p@jlsfrc.org or call/text: 360-622-0326.
URL:https://jlsfrc.org/event/p2p-coffee-chat-morning-virtual-support-group/2026-10-14/
LOCATION:Virtual
CATEGORIES:P2P
ATTACH;FMTTYPE=image/jpeg:https://jlsfrc.org/wp-content/uploads/2025/02/Coffee-Chat-Morning-Virtual-Support-Group.jpg
END:VEVENT
BEGIN:VEVENT
DTSTART;TZID=America/Los_Angeles:20261026T120000
DTEND;TZID=America/Los_Angeles:20261026T130000
DTSTAMP:20260423T161342
CREATED:20250616T182227Z
LAST-MODIFIED:20251207T202026Z
UID:10007173-1793016000-1793019600@jlsfrc.org
SUMMARY:P2P Walking Support Group
DESCRIPTION:Join us from 12pm – 1pm for a P2P (Parent to Parent) Walking Support Group. Walk with us around the fields for a supportive\, fun\, & social outing. Everyone is Welcome!
URL:https://jlsfrc.org/event/p2p-summer-walking-support-group/2026-10-26/
LOCATION:Linde Park\, 565 Carter Ave\, Friday Harbor\, WA\, 98250\, United States
CATEGORIES:P2P
ATTACH;FMTTYPE=image/jpeg:https://jlsfrc.org/wp-content/uploads/2025/06/JLSFRC-Events-Calendar-Images-640-x-360-px-1-1.jpg
END:VEVENT
BEGIN:VEVENT
DTSTART;TZID=America/Los_Angeles:20261110T180000
DTEND;TZID=America/Los_Angeles:20261110T193000
DTSTAMP:20260423T161342
CREATED:20250207T165556Z
LAST-MODIFIED:20260303T185400Z
UID:10007497-1794333600-1794339000@jlsfrc.org
SUMMARY:P2P Tea Talk Evening Virtual Support Group
DESCRIPTION:Join us for our Parent to Parent (P2P) Tea Talk Evening Virtual Support Group! Occurs on the second Tuesday of every month\, from 6:00pm – 7:30pm. \nTo register for the zoom link\, contact Jen DeShon\, P2P Coordinator.\nEmail: p2p@jlsfrc.org or call/text: 360-622-0326. \n 
URL:https://jlsfrc.org/event/p2p-tea-talk-evening-virtual-support-group/2026-11-10/
LOCATION:Virtual
CATEGORIES:P2P
ATTACH;FMTTYPE=image/jpeg:https://jlsfrc.org/wp-content/uploads/2025/02/Tea-Talk-Evening-Virtual-Support-Group.jpg
END:VEVENT
BEGIN:VEVENT
DTSTART;TZID=America/Los_Angeles:20261111T093000
DTEND;TZID=America/Los_Angeles:20261111T110000
DTSTAMP:20260423T161342
CREATED:20250207T170049Z
LAST-MODIFIED:20260303T190236Z
UID:10007506-1794389400-1794394800@jlsfrc.org
SUMMARY:P2P Coffee Chat Morning Virtual Support Group
DESCRIPTION:Join us for our Parent to Parent (P2P) Coffee Chat Morning Virtual Support Group! Occurs on the second Wednesday of every month\, from 9:30am – 11:00am. \nTo register for the zoom link\, contact Jen DeShon\, P2P Coordinator.\nEmail: p2p@jlsfrc.org or call/text: 360-622-0326.
URL:https://jlsfrc.org/event/p2p-coffee-chat-morning-virtual-support-group/2026-11-11/
LOCATION:Virtual
CATEGORIES:P2P
ATTACH;FMTTYPE=image/jpeg:https://jlsfrc.org/wp-content/uploads/2025/02/Coffee-Chat-Morning-Virtual-Support-Group.jpg
END:VEVENT
BEGIN:VEVENT
DTSTART;TZID=America/Los_Angeles:20261208T180000
DTEND;TZID=America/Los_Angeles:20261208T193000
DTSTAMP:20260423T161342
CREATED:20250207T165556Z
LAST-MODIFIED:20260303T185400Z
UID:10007498-1796752800-1796758200@jlsfrc.org
SUMMARY:P2P Tea Talk Evening Virtual Support Group
DESCRIPTION:Join us for our Parent to Parent (P2P) Tea Talk Evening Virtual Support Group! Occurs on the second Tuesday of every month\, from 6:00pm – 7:30pm. \nTo register for the zoom link\, contact Jen DeShon\, P2P Coordinator.\nEmail: p2p@jlsfrc.org or call/text: 360-622-0326. \n 
URL:https://jlsfrc.org/event/p2p-tea-talk-evening-virtual-support-group/2026-12-08/
LOCATION:Virtual
CATEGORIES:P2P
ATTACH;FMTTYPE=image/jpeg:https://jlsfrc.org/wp-content/uploads/2025/02/Tea-Talk-Evening-Virtual-Support-Group.jpg
END:VEVENT
BEGIN:VEVENT
DTSTART;TZID=America/Los_Angeles:20261209T093000
DTEND;TZID=America/Los_Angeles:20261209T110000
DTSTAMP:20260423T161342
CREATED:20250207T170049Z
LAST-MODIFIED:20260303T190236Z
UID:10007507-1796808600-1796814000@jlsfrc.org
SUMMARY:P2P Coffee Chat Morning Virtual Support Group
DESCRIPTION:Join us for our Parent to Parent (P2P) Coffee Chat Morning Virtual Support Group! Occurs on the second Wednesday of every month\, from 9:30am – 11:00am. \nTo register for the zoom link\, contact Jen DeShon\, P2P Coordinator.\nEmail: p2p@jlsfrc.org or call/text: 360-622-0326.
URL:https://jlsfrc.org/event/p2p-coffee-chat-morning-virtual-support-group/2026-12-09/
LOCATION:Virtual
CATEGORIES:P2P
ATTACH;FMTTYPE=image/jpeg:https://jlsfrc.org/wp-content/uploads/2025/02/Coffee-Chat-Morning-Virtual-Support-Group.jpg
END:VEVENT
END:VCALENDAR