BEGIN:VCALENDAR
VERSION:2.0
PRODID:-//Joyce L. Sobel Family Resource Center - ECPv6.15.17.1//NONSGML v1.0//EN
CALSCALE:GREGORIAN
METHOD:PUBLISH
X-WR-CALNAME:Joyce L. Sobel Family Resource Center
X-ORIGINAL-URL:https://jlsfrc.org
X-WR-CALDESC:Events for Joyce L. Sobel Family Resource Center
REFRESH-INTERVAL;VALUE=DURATION:PT1H
X-Robots-Tag:noindex
X-PUBLISHED-TTL:PT1H
BEGIN:VTIMEZONE
TZID:America/Los_Angeles
BEGIN:DAYLIGHT
TZOFFSETFROM:-0800
TZOFFSETTO:-0700
TZNAME:PDT
DTSTART:20240310T100000
END:DAYLIGHT
BEGIN:STANDARD
TZOFFSETFROM:-0700
TZOFFSETTO:-0800
TZNAME:PST
DTSTART:20241103T090000
END:STANDARD
BEGIN:DAYLIGHT
TZOFFSETFROM:-0800
TZOFFSETTO:-0700
TZNAME:PDT
DTSTART:20250309T100000
END:DAYLIGHT
BEGIN:STANDARD
TZOFFSETFROM:-0700
TZOFFSETTO:-0800
TZNAME:PST
DTSTART:20251102T090000
END:STANDARD
BEGIN:DAYLIGHT
TZOFFSETFROM:-0800
TZOFFSETTO:-0700
TZNAME:PDT
DTSTART:20260308T100000
END:DAYLIGHT
BEGIN:STANDARD
TZOFFSETFROM:-0700
TZOFFSETTO:-0800
TZNAME:PST
DTSTART:20261101T090000
END:STANDARD
END:VTIMEZONE
BEGIN:VEVENT
DTSTART;TZID=America/Los_Angeles:20250806T140000
DTEND;TZID=America/Los_Angeles:20250806T170000
DTSTAMP:20260425T091750
CREATED:20250624T171454Z
LAST-MODIFIED:20250625T151750Z
UID:10006852-1754488800-1754499600@jlsfrc.org
SUMMARY:Dream Big Outdoor Survivalist Course
DESCRIPTION:🌲The Dream Big Boys Group is back for a special summer adventure! Starting July 9\, the group will dive into a 6-week outdoor survivalist course led by Nathan Donnelly of NW Resilience. Registration is due by Sunday\, July 6th. Qualifying ages are 11-16. \nThe course will run from 2-5PM every Wednesday from July 9 through August 13. Learn how to: \n🔥 Build shelters\n🌿 Track wild edibles\n🛠️ Craft tools from nature\n🔥 Master fire starting and safety \nOpen to middle schoolers and older youth this summer! Space is limited—reach out to learn how to get involved.\nEmail Tim at: timc@jlsfrc.org
URL:https://jlsfrc.org/event/dream-big-outdoor-survivalist-course/2025-08-06/
LOCATION:Joyce L. Sobel Family Resource Center\, 476 Market Street\, Friday Harbor\, WA\, 98250\, United States
CATEGORIES:Teens & Young Adults,Tweens
ATTACH;FMTTYPE=image/jpeg:https://jlsfrc.org/wp-content/uploads/2025/06/JLSFRC-Dream-Big-outdoor-education-survivalist-course-Presentation.jpg
END:VEVENT
BEGIN:VEVENT
DTSTART;TZID=America/Los_Angeles:20250807T150000
DTEND;TZID=America/Los_Angeles:20250807T180000
DTSTAMP:20260425T091750
CREATED:20250418T152926Z
LAST-MODIFIED:20250728T224009Z
UID:10006585-1754578800-1754589600@jlsfrc.org
SUMMARY:Back to School Pop Up Medical Clinic
DESCRIPTION:Join us at the Mullis Center on Thursday\, August 7th from 3–6 PM for a community health event you won’t want to miss! Register for sports physicals here: https://docs.google.com/forms/d/e/1FAIpQLSfsVR29lpsDO06dS5tlE0vW-mJl0IiwTOUc5z3KROzraEQWOw/viewform \n✔️ Sports Physicals\n💪 Meet with a Personal Trainer\n🩺 Blood Pressure & Blood Glucose Screenings\n💉 Vaccines\n🎉 Raffles & Free Food! \nCome take care of your health\, grab a bite\, and connect with your community—all in one afternoon!
URL:https://jlsfrc.org/event/back-to-school-pop-up-medical-clinic/
LOCATION:Mullis Center\, 589 Nash Street\, Friday Harbor\, 98250\, United States
CATEGORIES:All,CHW / Promotores,Kids,Teens & Young Adults,Tweens
ATTACH;FMTTYPE=image/jpeg:https://jlsfrc.org/wp-content/uploads/2025/04/JLSFRC-Events-Calendar-Images-640-x-360-px.jpg
END:VEVENT
BEGIN:VEVENT
DTSTART;TZID=America/Los_Angeles:20250813T140000
DTEND;TZID=America/Los_Angeles:20250813T170000
DTSTAMP:20260425T091750
CREATED:20250624T171454Z
LAST-MODIFIED:20250625T151750Z
UID:10006853-1755093600-1755104400@jlsfrc.org
SUMMARY:Dream Big Outdoor Survivalist Course
DESCRIPTION:🌲The Dream Big Boys Group is back for a special summer adventure! Starting July 9\, the group will dive into a 6-week outdoor survivalist course led by Nathan Donnelly of NW Resilience. Registration is due by Sunday\, July 6th. Qualifying ages are 11-16. \nThe course will run from 2-5PM every Wednesday from July 9 through August 13. Learn how to: \n🔥 Build shelters\n🌿 Track wild edibles\n🛠️ Craft tools from nature\n🔥 Master fire starting and safety \nOpen to middle schoolers and older youth this summer! Space is limited—reach out to learn how to get involved.\nEmail Tim at: timc@jlsfrc.org
URL:https://jlsfrc.org/event/dream-big-outdoor-survivalist-course/2025-08-13/
LOCATION:Joyce L. Sobel Family Resource Center\, 476 Market Street\, Friday Harbor\, WA\, 98250\, United States
CATEGORIES:Teens & Young Adults,Tweens
ATTACH;FMTTYPE=image/jpeg:https://jlsfrc.org/wp-content/uploads/2025/06/JLSFRC-Dream-Big-outdoor-education-survivalist-course-Presentation.jpg
END:VEVENT
END:VCALENDAR