BEGIN:VCALENDAR
VERSION:2.0
PRODID:-//Joyce L. Sobel Family Resource Center - ECPv6.15.17.1//NONSGML v1.0//EN
CALSCALE:GREGORIAN
METHOD:PUBLISH
X-ORIGINAL-URL:https://jlsfrc.org
X-WR-CALDESC:Events for Joyce L. Sobel Family Resource Center
REFRESH-INTERVAL;VALUE=DURATION:PT1H
X-Robots-Tag:noindex
X-PUBLISHED-TTL:PT1H
BEGIN:VTIMEZONE
TZID:America/Los_Angeles
BEGIN:DAYLIGHT
TZOFFSETFROM:-0800
TZOFFSETTO:-0700
TZNAME:PDT
DTSTART:20240310T100000
END:DAYLIGHT
BEGIN:STANDARD
TZOFFSETFROM:-0700
TZOFFSETTO:-0800
TZNAME:PST
DTSTART:20241103T090000
END:STANDARD
BEGIN:DAYLIGHT
TZOFFSETFROM:-0800
TZOFFSETTO:-0700
TZNAME:PDT
DTSTART:20250309T100000
END:DAYLIGHT
BEGIN:STANDARD
TZOFFSETFROM:-0700
TZOFFSETTO:-0800
TZNAME:PST
DTSTART:20251102T090000
END:STANDARD
BEGIN:DAYLIGHT
TZOFFSETFROM:-0800
TZOFFSETTO:-0700
TZNAME:PDT
DTSTART:20260308T100000
END:DAYLIGHT
BEGIN:STANDARD
TZOFFSETFROM:-0700
TZOFFSETTO:-0800
TZNAME:PST
DTSTART:20261101T090000
END:STANDARD
END:VTIMEZONE
BEGIN:VEVENT
DTSTART;TZID=America/Los_Angeles:20250430T140000
DTEND;TZID=America/Los_Angeles:20250430T160000
DTSTAMP:20260424T014500
CREATED:20250325T161052Z
LAST-MODIFIED:20250623T171342Z
UID:10006496-1746021600-1746028800@jlsfrc.org
SUMMARY:Dream Big: Middle School Boys Group
DESCRIPTION:Dream Big Middle School Boys Group is a fun and supportive group just for middle school boys! Build friendships\, explore big ideas\, and learn new skills. Happens Wednesdays at 2:00 – 4:00 PM at JLSFRC. Questions? Contact Tim at timc@jlsfrc.org or call (360) 323-3613.
URL:https://jlsfrc.org/event/dream-big-middle-school-boys-group/2025-04-30/
LOCATION:Joyce L. Sobel Family Resource Center\, 476 Market Street\, Friday Harbor\, WA\, 98250\, United States
CATEGORIES:Teens & Young Adults,Tweens
ATTACH;FMTTYPE=image/jpeg:https://jlsfrc.org/wp-content/uploads/2025/03/Dream-Big-Middle-School-Boys-Group.jpg
END:VEVENT
BEGIN:VEVENT
DTSTART;TZID=America/Los_Angeles:20250423T140000
DTEND;TZID=America/Los_Angeles:20250423T160000
DTSTAMP:20260424T014500
CREATED:20250325T161052Z
LAST-MODIFIED:20250623T171342Z
UID:10006495-1745416800-1745424000@jlsfrc.org
SUMMARY:Dream Big: Middle School Boys Group
DESCRIPTION:Dream Big Middle School Boys Group is a fun and supportive group just for middle school boys! Build friendships\, explore big ideas\, and learn new skills. Happens Wednesdays at 2:00 – 4:00 PM at JLSFRC. Questions? Contact Tim at timc@jlsfrc.org or call (360) 323-3613.
URL:https://jlsfrc.org/event/dream-big-middle-school-boys-group/2025-04-23/
LOCATION:Joyce L. Sobel Family Resource Center\, 476 Market Street\, Friday Harbor\, WA\, 98250\, United States
CATEGORIES:Teens & Young Adults,Tweens
ATTACH;FMTTYPE=image/jpeg:https://jlsfrc.org/wp-content/uploads/2025/03/Dream-Big-Middle-School-Boys-Group.jpg
END:VEVENT
BEGIN:VEVENT
DTSTART;TZID=America/Los_Angeles:20250416T140000
DTEND;TZID=America/Los_Angeles:20250416T160000
DTSTAMP:20260424T014500
CREATED:20250325T161052Z
LAST-MODIFIED:20250623T171342Z
UID:10006494-1744812000-1744819200@jlsfrc.org
SUMMARY:Dream Big: Middle School Boys Group
DESCRIPTION:Dream Big Middle School Boys Group is a fun and supportive group just for middle school boys! Build friendships\, explore big ideas\, and learn new skills. Happens Wednesdays at 2:00 – 4:00 PM at JLSFRC. Questions? Contact Tim at timc@jlsfrc.org or call (360) 323-3613.
URL:https://jlsfrc.org/event/dream-big-middle-school-boys-group/2025-04-16/
LOCATION:Joyce L. Sobel Family Resource Center\, 476 Market Street\, Friday Harbor\, WA\, 98250\, United States
CATEGORIES:Teens & Young Adults,Tweens
ATTACH;FMTTYPE=image/jpeg:https://jlsfrc.org/wp-content/uploads/2025/03/Dream-Big-Middle-School-Boys-Group.jpg
END:VEVENT
END:VCALENDAR