BEGIN:VCALENDAR
VERSION:2.0
PRODID:-//Joyce L. Sobel Family Resource Center - ECPv6.15.17.1//NONSGML v1.0//EN
CALSCALE:GREGORIAN
METHOD:PUBLISH
X-WR-CALNAME:Joyce L. Sobel Family Resource Center
X-ORIGINAL-URL:https://jlsfrc.org
X-WR-CALDESC:Events for Joyce L. Sobel Family Resource Center
REFRESH-INTERVAL;VALUE=DURATION:PT1H
X-Robots-Tag:noindex
X-PUBLISHED-TTL:PT1H
BEGIN:VTIMEZONE
TZID:America/Los_Angeles
BEGIN:DAYLIGHT
TZOFFSETFROM:-0800
TZOFFSETTO:-0700
TZNAME:PDT
DTSTART:20250309T100000
END:DAYLIGHT
BEGIN:STANDARD
TZOFFSETFROM:-0700
TZOFFSETTO:-0800
TZNAME:PST
DTSTART:20251102T090000
END:STANDARD
BEGIN:DAYLIGHT
TZOFFSETFROM:-0800
TZOFFSETTO:-0700
TZNAME:PDT
DTSTART:20260308T100000
END:DAYLIGHT
BEGIN:STANDARD
TZOFFSETFROM:-0700
TZOFFSETTO:-0800
TZNAME:PST
DTSTART:20261101T090000
END:STANDARD
BEGIN:DAYLIGHT
TZOFFSETFROM:-0800
TZOFFSETTO:-0700
TZNAME:PDT
DTSTART:20270314T100000
END:DAYLIGHT
BEGIN:STANDARD
TZOFFSETFROM:-0700
TZOFFSETTO:-0800
TZNAME:PST
DTSTART:20271107T090000
END:STANDARD
END:VTIMEZONE
BEGIN:VEVENT
DTSTART;TZID=America/Los_Angeles:20260113T140000
DTEND;TZID=America/Los_Angeles:20260113T190000
DTSTAMP:20260424T014829
CREATED:20241216T195347Z
LAST-MODIFIED:20260108T222703Z
UID:10007199-1768312800-1768330800@jlsfrc.org
SUMMARY:New Day Recovery Café
DESCRIPTION:Join us for a cup of coffee and a warm meal in a safe space. The Café provides the kind of resources and relationships that provide stability and healing. We recognize that recovery is at the root of growth and healing. \nHours\nTuesday – Friday\n2:00pm – 7:00pm \n🍲 Dinner is served at 5pm on Tuesdays through Fridays. \nSpecial Events\n\nNew member introductions are Wednesdays at 2pm and 6pm.\nJoin Gabriel from the library every other Wednesday from 4-5:30\n\nOur Guiding Principles\n\nTo create a safe community in which all are valued\, we will strive to:\nConnect with love in ourselves and others\nShow respect\nCultivate compassion\nPractice forgiveness\nEncourage growth\nGive back\n\nMember Agreements\n\nDrug and alcohol free space\nAttend a Recovery circle once a week\nHelp Out
URL:https://jlsfrc.org/event/new-day-recovery-cafe-2/2026-01-13/
LOCATION:New Day Recovery Café\, 485 Elsworth Ave\, Friday Harbor\, WA\, 98250\, United States
CATEGORIES:New Day Recovery Café
ATTACH;FMTTYPE=image/jpeg:https://jlsfrc.org/wp-content/uploads/2024/12/New-Day-Recovery-Cafe.jpg
ORGANIZER;CN="New Day Recovery Cafe":MAILTO:newdaycafe@jlsfrc.org
END:VEVENT
BEGIN:VEVENT
DTSTART;TZID=America/Los_Angeles:20260113T180000
DTEND;TZID=America/Los_Angeles:20260113T193000
DTSTAMP:20260424T014829
CREATED:20250207T165556Z
LAST-MODIFIED:20260303T185400Z
UID:10007181-1768327200-1768332600@jlsfrc.org
SUMMARY:P2P Tea Talk Evening Virtual Support Group
DESCRIPTION:Join us for our Parent to Parent (P2P) Tea Talk Evening Virtual Support Group! Occurs on the second Tuesday of every month\, from 6:00pm – 7:30pm. \nTo register for the zoom link\, contact Jen DeShon\, P2P Coordinator.\nEmail: p2p@jlsfrc.org or call/text: 360-622-0326. \n 
URL:https://jlsfrc.org/event/p2p-tea-talk-evening-virtual-support-group/2026-01-13/
LOCATION:Virtual
CATEGORIES:P2P
ATTACH;FMTTYPE=image/jpeg:https://jlsfrc.org/wp-content/uploads/2025/02/Tea-Talk-Evening-Virtual-Support-Group.jpg
END:VEVENT
BEGIN:VEVENT
DTSTART;TZID=America/Los_Angeles:20260114T093000
DTEND;TZID=America/Los_Angeles:20260114T110000
DTSTAMP:20260424T014829
CREATED:20250207T170049Z
LAST-MODIFIED:20260303T190236Z
UID:10007184-1768383000-1768388400@jlsfrc.org
SUMMARY:P2P Coffee Chat Morning Virtual Support Group
DESCRIPTION:Join us for our Parent to Parent (P2P) Coffee Chat Morning Virtual Support Group! Occurs on the second Wednesday of every month\, from 9:30am – 11:00am. \nTo register for the zoom link\, contact Jen DeShon\, P2P Coordinator.\nEmail: p2p@jlsfrc.org or call/text: 360-622-0326.
URL:https://jlsfrc.org/event/p2p-coffee-chat-morning-virtual-support-group/2026-01-14/
LOCATION:Virtual
CATEGORIES:P2P
ATTACH;FMTTYPE=image/jpeg:https://jlsfrc.org/wp-content/uploads/2025/02/Coffee-Chat-Morning-Virtual-Support-Group.jpg
END:VEVENT
BEGIN:VEVENT
DTSTART;TZID=America/Los_Angeles:20260114T140000
DTEND;TZID=America/Los_Angeles:20260114T190000
DTSTAMP:20260424T014829
CREATED:20241216T195347Z
LAST-MODIFIED:20260108T222703Z
UID:10007200-1768399200-1768417200@jlsfrc.org
SUMMARY:New Day Recovery Café
DESCRIPTION:Join us for a cup of coffee and a warm meal in a safe space. The Café provides the kind of resources and relationships that provide stability and healing. We recognize that recovery is at the root of growth and healing. \nHours\nTuesday – Friday\n2:00pm – 7:00pm \n🍲 Dinner is served at 5pm on Tuesdays through Fridays. \nSpecial Events\n\nNew member introductions are Wednesdays at 2pm and 6pm.\nJoin Gabriel from the library every other Wednesday from 4-5:30\n\nOur Guiding Principles\n\nTo create a safe community in which all are valued\, we will strive to:\nConnect with love in ourselves and others\nShow respect\nCultivate compassion\nPractice forgiveness\nEncourage growth\nGive back\n\nMember Agreements\n\nDrug and alcohol free space\nAttend a Recovery circle once a week\nHelp Out
URL:https://jlsfrc.org/event/new-day-recovery-cafe-2/2026-01-14/
LOCATION:New Day Recovery Café\, 485 Elsworth Ave\, Friday Harbor\, WA\, 98250\, United States
CATEGORIES:New Day Recovery Café
ATTACH;FMTTYPE=image/jpeg:https://jlsfrc.org/wp-content/uploads/2024/12/New-Day-Recovery-Cafe.jpg
ORGANIZER;CN="New Day Recovery Cafe":MAILTO:newdaycafe@jlsfrc.org
END:VEVENT
BEGIN:VEVENT
DTSTART;TZID=America/Los_Angeles:20260115T100000
DTEND;TZID=America/Los_Angeles:20260115T100000
DTSTAMP:20260424T014829
CREATED:20250804T163916Z
LAST-MODIFIED:20260304T220207Z
UID:10007149-1768471200-1768471200@jlsfrc.org
SUMMARY:Baby Toddler Time
DESCRIPTION:Join us every Thursday from 10:00am – 11:30am in the San Juan Island Library meeting room. Each week\, we dive into fun activities like playing\, reading\, rhyming\, and singing\, all while enjoying some social time and play. It’s a fantastic opportunity to support your little one’s development in a lively and engaging environment. See you there! \n 
URL:https://jlsfrc.org/event/baby-toddler-time-3-2/2026-01-15/
LOCATION:San Juan Island Library\, 1010 Guard St\, Friday Harbor\, WA\, 98250\, United States
CATEGORIES:Birth-5
ATTACH;FMTTYPE=image/jpeg:https://jlsfrc.org/wp-content/uploads/2025/03/Baby-Toddler-Time-Event-1.jpg
END:VEVENT
BEGIN:VEVENT
DTSTART;TZID=America/Los_Angeles:20260115T140000
DTEND;TZID=America/Los_Angeles:20260115T190000
DTSTAMP:20260424T014829
CREATED:20241216T195347Z
LAST-MODIFIED:20260108T222703Z
UID:10007201-1768485600-1768503600@jlsfrc.org
SUMMARY:New Day Recovery Café
DESCRIPTION:Join us for a cup of coffee and a warm meal in a safe space. The Café provides the kind of resources and relationships that provide stability and healing. We recognize that recovery is at the root of growth and healing. \nHours\nTuesday – Friday\n2:00pm – 7:00pm \n🍲 Dinner is served at 5pm on Tuesdays through Fridays. \nSpecial Events\n\nNew member introductions are Wednesdays at 2pm and 6pm.\nJoin Gabriel from the library every other Wednesday from 4-5:30\n\nOur Guiding Principles\n\nTo create a safe community in which all are valued\, we will strive to:\nConnect with love in ourselves and others\nShow respect\nCultivate compassion\nPractice forgiveness\nEncourage growth\nGive back\n\nMember Agreements\n\nDrug and alcohol free space\nAttend a Recovery circle once a week\nHelp Out
URL:https://jlsfrc.org/event/new-day-recovery-cafe-2/2026-01-15/
LOCATION:New Day Recovery Café\, 485 Elsworth Ave\, Friday Harbor\, WA\, 98250\, United States
CATEGORIES:New Day Recovery Café
ATTACH;FMTTYPE=image/jpeg:https://jlsfrc.org/wp-content/uploads/2024/12/New-Day-Recovery-Cafe.jpg
ORGANIZER;CN="New Day Recovery Cafe":MAILTO:newdaycafe@jlsfrc.org
END:VEVENT
BEGIN:VEVENT
DTSTART;TZID=America/Los_Angeles:20260116T140000
DTEND;TZID=America/Los_Angeles:20260116T190000
DTSTAMP:20260424T014829
CREATED:20241216T195347Z
LAST-MODIFIED:20260108T222703Z
UID:10007202-1768572000-1768590000@jlsfrc.org
SUMMARY:New Day Recovery Café
DESCRIPTION:Join us for a cup of coffee and a warm meal in a safe space. The Café provides the kind of resources and relationships that provide stability and healing. We recognize that recovery is at the root of growth and healing. \nHours\nTuesday – Friday\n2:00pm – 7:00pm \n🍲 Dinner is served at 5pm on Tuesdays through Fridays. \nSpecial Events\n\nNew member introductions are Wednesdays at 2pm and 6pm.\nJoin Gabriel from the library every other Wednesday from 4-5:30\n\nOur Guiding Principles\n\nTo create a safe community in which all are valued\, we will strive to:\nConnect with love in ourselves and others\nShow respect\nCultivate compassion\nPractice forgiveness\nEncourage growth\nGive back\n\nMember Agreements\n\nDrug and alcohol free space\nAttend a Recovery circle once a week\nHelp Out
URL:https://jlsfrc.org/event/new-day-recovery-cafe-2/2026-01-16/
LOCATION:New Day Recovery Café\, 485 Elsworth Ave\, Friday Harbor\, WA\, 98250\, United States
CATEGORIES:New Day Recovery Café
ATTACH;FMTTYPE=image/jpeg:https://jlsfrc.org/wp-content/uploads/2024/12/New-Day-Recovery-Cafe.jpg
ORGANIZER;CN="New Day Recovery Cafe":MAILTO:newdaycafe@jlsfrc.org
END:VEVENT
END:VCALENDAR