BEGIN:VCALENDAR
VERSION:2.0
PRODID:-//Joyce L. Sobel Family Resource Center - ECPv6.15.17.1//NONSGML v1.0//EN
CALSCALE:GREGORIAN
METHOD:PUBLISH
X-WR-CALNAME:Joyce L. Sobel Family Resource Center
X-ORIGINAL-URL:https://jlsfrc.org
X-WR-CALDESC:Events for Joyce L. Sobel Family Resource Center
REFRESH-INTERVAL;VALUE=DURATION:PT1H
X-Robots-Tag:noindex
X-PUBLISHED-TTL:PT1H
BEGIN:VTIMEZONE
TZID:America/Los_Angeles
BEGIN:DAYLIGHT
TZOFFSETFROM:-0800
TZOFFSETTO:-0700
TZNAME:PDT
DTSTART:20250309T100000
END:DAYLIGHT
BEGIN:STANDARD
TZOFFSETFROM:-0700
TZOFFSETTO:-0800
TZNAME:PST
DTSTART:20251102T090000
END:STANDARD
BEGIN:DAYLIGHT
TZOFFSETFROM:-0800
TZOFFSETTO:-0700
TZNAME:PDT
DTSTART:20260308T100000
END:DAYLIGHT
BEGIN:STANDARD
TZOFFSETFROM:-0700
TZOFFSETTO:-0800
TZNAME:PST
DTSTART:20261101T090000
END:STANDARD
BEGIN:DAYLIGHT
TZOFFSETFROM:-0800
TZOFFSETTO:-0700
TZNAME:PDT
DTSTART:20270314T100000
END:DAYLIGHT
BEGIN:STANDARD
TZOFFSETFROM:-0700
TZOFFSETTO:-0800
TZNAME:PST
DTSTART:20271107T090000
END:STANDARD
END:VTIMEZONE
BEGIN:VEVENT
DTSTART;TZID=America/Los_Angeles:20260217T093000
DTEND;TZID=America/Los_Angeles:20260217T110000
DTSTAMP:20260423T161629
CREATED:20241211T193458Z
LAST-MODIFIED:20260304T220425Z
UID:10007446-1771320600-1771326000@jlsfrc.org
SUMMARY:Toddler Tea Time
DESCRIPTION:Join us on Tuesdays from 9:30 -11am at the JLSFRC for “Toddler Tea Time”\, an integrated community playgroup for children 18 months up to 36 months of age. Registration is required. In the playgroup we: \n🔹Learn age-appropriate social skills such as turn taking\, self-control\, empathy\, and listening to others.\n🔹Join our friends in learning simple songs with gestures to support our receptive and expressive language skills.\n🔹Explore activities that encourage fine motor and gross motor skill development.\n🔹Be offered a nutritious snack where we can practice our self-help skills such as drinking from an open cup and eating food with a spoon. \n✅ To register\, contact Jen\, DeShon\, 0-5 Family Support Specialist/Coord. at (360) 622-0326 or p2p@jlsfrc.org\nfor more information.
URL:https://jlsfrc.org/event/toddler-tea-time-2/2026-02-17/
LOCATION:Joyce L. Sobel Family Resource Center\, 476 Market Street\, Friday Harbor\, WA\, 98250\, United States
CATEGORIES:Birth-5
ATTACH;FMTTYPE=image/jpeg:https://jlsfrc.org/wp-content/uploads/2024/12/Toddler-Tea-Time.jpg
END:VEVENT
BEGIN:VEVENT
DTSTART;TZID=America/Los_Angeles:20260217T120000
DTEND;TZID=America/Los_Angeles:20260217T130000
DTSTAMP:20260423T161629
CREATED:20240306T000715Z
LAST-MODIFIED:20251121T201922Z
UID:10007115-1771329600-1771333200@jlsfrc.org
SUMMARY:Grandparent Support Group
DESCRIPTION:Are you a grandparent raising your grandchildren? The Family Resource Center has a support group for grandparents raising their grandchildren. Meet with other grandparents who have the same concerns\, needs\, and experiences that you have. It is a great place to meet and learn from other grandparents in similar situations. \nJoin us as we grow the program that seeks to provide access to local and state resources. It gives you a chance to talk with others and explore solutions. \nWe will meet on the third Tuesday of the month from 12:00pm to 1:00pm. Lunch is provided and is free of charge. \nLocation:\nNew Day Recovery Café\n485 Elsworth Ave\nFriday Harbor\, WA 98250 \nIf you or someone you know is interested\, please contact Jen DeShon at p2p@jlsfrc.org or call 360-378-5246; 360-622-0326 (cell) \n 
URL:https://jlsfrc.org/event/grandparent-support-group-2/2026-02-17/
LOCATION:New Day Recovery Café\, 485 Elsworth Ave\, Friday Harbor\, WA\, 98250\, United States
CATEGORIES:Adults,New Day Recovery Café
ATTACH;FMTTYPE=image/jpeg:https://jlsfrc.org/wp-content/uploads/2024/03/Grandparent-Support-Group-Event.jpg
END:VEVENT
BEGIN:VEVENT
DTSTART;TZID=America/Los_Angeles:20260217T140000
DTEND;TZID=America/Los_Angeles:20260217T190000
DTSTAMP:20260423T161629
CREATED:20241216T195347Z
LAST-MODIFIED:20260108T222703Z
UID:10007219-1771336800-1771354800@jlsfrc.org
SUMMARY:New Day Recovery Café
DESCRIPTION:Join us for a cup of coffee and a warm meal in a safe space. The Café provides the kind of resources and relationships that provide stability and healing. We recognize that recovery is at the root of growth and healing. \nHours\nTuesday – Friday\n2:00pm – 7:00pm \n🍲 Dinner is served at 5pm on Tuesdays through Fridays. \nSpecial Events\n\nNew member introductions are Wednesdays at 2pm and 6pm.\nJoin Gabriel from the library every other Wednesday from 4-5:30\n\nOur Guiding Principles\n\nTo create a safe community in which all are valued\, we will strive to:\nConnect with love in ourselves and others\nShow respect\nCultivate compassion\nPractice forgiveness\nEncourage growth\nGive back\n\nMember Agreements\n\nDrug and alcohol free space\nAttend a Recovery circle once a week\nHelp Out
URL:https://jlsfrc.org/event/new-day-recovery-cafe-2/2026-02-17/
LOCATION:New Day Recovery Café\, 485 Elsworth Ave\, Friday Harbor\, WA\, 98250\, United States
CATEGORIES:New Day Recovery Café
ATTACH;FMTTYPE=image/jpeg:https://jlsfrc.org/wp-content/uploads/2024/12/New-Day-Recovery-Cafe.jpg
ORGANIZER;CN="New Day Recovery Cafe":MAILTO:newdaycafe@jlsfrc.org
END:VEVENT
BEGIN:VEVENT
DTSTART;TZID=America/Los_Angeles:20260217T163000
DTEND;TZID=America/Los_Angeles:20260217T171000
DTSTAMP:20260423T161629
CREATED:20251108T180821Z
LAST-MODIFIED:20260204T182339Z
UID:10007471-1771345800-1771348200@jlsfrc.org
SUMMARY:EDC at the Café
DESCRIPTION:Liam from the EDC will be at the café talking about their services and answering questions.
URL:https://jlsfrc.org/event/edc-at-the-cafe/2026-02-17/
LOCATION:New Day Recovery Café\, 485 Elsworth Ave\, Friday Harbor\, WA\, 98250\, United States
CATEGORIES:New Day Recovery Café
ATTACH;FMTTYPE=image/jpeg:https://jlsfrc.org/wp-content/uploads/2025/11/JLSFRC-Events-Calendar-Images-640-x-360-px-2.jpg
ORGANIZER;CN="New Day Recovery Cafe":MAILTO:newdaycafe@jlsfrc.org
END:VEVENT
BEGIN:VEVENT
DTSTART;TZID=America/Los_Angeles:20260218T140000
DTEND;TZID=America/Los_Angeles:20260218T190000
DTSTAMP:20260423T161629
CREATED:20241216T195347Z
LAST-MODIFIED:20260108T222703Z
UID:10007220-1771423200-1771441200@jlsfrc.org
SUMMARY:New Day Recovery Café
DESCRIPTION:Join us for a cup of coffee and a warm meal in a safe space. The Café provides the kind of resources and relationships that provide stability and healing. We recognize that recovery is at the root of growth and healing. \nHours\nTuesday – Friday\n2:00pm – 7:00pm \n🍲 Dinner is served at 5pm on Tuesdays through Fridays. \nSpecial Events\n\nNew member introductions are Wednesdays at 2pm and 6pm.\nJoin Gabriel from the library every other Wednesday from 4-5:30\n\nOur Guiding Principles\n\nTo create a safe community in which all are valued\, we will strive to:\nConnect with love in ourselves and others\nShow respect\nCultivate compassion\nPractice forgiveness\nEncourage growth\nGive back\n\nMember Agreements\n\nDrug and alcohol free space\nAttend a Recovery circle once a week\nHelp Out
URL:https://jlsfrc.org/event/new-day-recovery-cafe-2/2026-02-18/
LOCATION:New Day Recovery Café\, 485 Elsworth Ave\, Friday Harbor\, WA\, 98250\, United States
CATEGORIES:New Day Recovery Café
ATTACH;FMTTYPE=image/jpeg:https://jlsfrc.org/wp-content/uploads/2024/12/New-Day-Recovery-Cafe.jpg
ORGANIZER;CN="New Day Recovery Cafe":MAILTO:newdaycafe@jlsfrc.org
END:VEVENT
BEGIN:VEVENT
DTSTART;TZID=America/Los_Angeles:20260218T153000
DTEND;TZID=America/Los_Angeles:20260218T173000
DTSTAMP:20260423T161629
CREATED:20240510T162001Z
LAST-MODIFIED:20260108T223559Z
UID:10007404-1771428600-1771435800@jlsfrc.org
SUMMARY:Library Services
DESCRIPTION:Join Gabriel\, a Spanish and English speaker\, at the New Day Recovery Café  every other Wednesday from 4:00pm – 5:30pm. He will help people sign up for library cards and answer questions about the library and their services. Additionally\, he brings books\, games\, and videos that people may borrow and take home\, if they have a library card.
URL:https://jlsfrc.org/event/library-services/2026-02-18/
LOCATION:New Day Recovery Café\, 485 Elsworth Ave\, Friday Harbor\, WA\, 98250\, United States
CATEGORIES:New Day Recovery Café
ATTACH;FMTTYPE=image/png:https://jlsfrc.org/wp-content/uploads/2024/05/Library-Services.png
END:VEVENT
BEGIN:VEVENT
DTSTART;TZID=America/Los_Angeles:20260219T100000
DTEND;TZID=America/Los_Angeles:20260219T100000
DTSTAMP:20260423T161629
CREATED:20250804T163916Z
LAST-MODIFIED:20260304T220207Z
UID:10007154-1771495200-1771495200@jlsfrc.org
SUMMARY:Baby Toddler Time
DESCRIPTION:Join us every Thursday from 10:00am – 11:30am in the San Juan Island Library meeting room. Each week\, we dive into fun activities like playing\, reading\, rhyming\, and singing\, all while enjoying some social time and play. It’s a fantastic opportunity to support your little one’s development in a lively and engaging environment. See you there! \n 
URL:https://jlsfrc.org/event/baby-toddler-time-3-2/2026-02-19/
LOCATION:San Juan Island Library\, 1010 Guard St\, Friday Harbor\, WA\, 98250\, United States
CATEGORIES:Birth-5
ATTACH;FMTTYPE=image/jpeg:https://jlsfrc.org/wp-content/uploads/2025/03/Baby-Toddler-Time-Event-1.jpg
END:VEVENT
BEGIN:VEVENT
DTSTART;TZID=America/Los_Angeles:20260219T140000
DTEND;TZID=America/Los_Angeles:20260219T190000
DTSTAMP:20260423T161629
CREATED:20241216T195347Z
LAST-MODIFIED:20260108T222703Z
UID:10007221-1771509600-1771527600@jlsfrc.org
SUMMARY:New Day Recovery Café
DESCRIPTION:Join us for a cup of coffee and a warm meal in a safe space. The Café provides the kind of resources and relationships that provide stability and healing. We recognize that recovery is at the root of growth and healing. \nHours\nTuesday – Friday\n2:00pm – 7:00pm \n🍲 Dinner is served at 5pm on Tuesdays through Fridays. \nSpecial Events\n\nNew member introductions are Wednesdays at 2pm and 6pm.\nJoin Gabriel from the library every other Wednesday from 4-5:30\n\nOur Guiding Principles\n\nTo create a safe community in which all are valued\, we will strive to:\nConnect with love in ourselves and others\nShow respect\nCultivate compassion\nPractice forgiveness\nEncourage growth\nGive back\n\nMember Agreements\n\nDrug and alcohol free space\nAttend a Recovery circle once a week\nHelp Out
URL:https://jlsfrc.org/event/new-day-recovery-cafe-2/2026-02-19/
LOCATION:New Day Recovery Café\, 485 Elsworth Ave\, Friday Harbor\, WA\, 98250\, United States
CATEGORIES:New Day Recovery Café
ATTACH;FMTTYPE=image/jpeg:https://jlsfrc.org/wp-content/uploads/2024/12/New-Day-Recovery-Cafe.jpg
ORGANIZER;CN="New Day Recovery Cafe":MAILTO:newdaycafe@jlsfrc.org
END:VEVENT
BEGIN:VEVENT
DTSTART;TZID=America/Los_Angeles:20260220T140000
DTEND;TZID=America/Los_Angeles:20260220T190000
DTSTAMP:20260423T161629
CREATED:20241216T195347Z
LAST-MODIFIED:20260108T222703Z
UID:10007222-1771596000-1771614000@jlsfrc.org
SUMMARY:New Day Recovery Café
DESCRIPTION:Join us for a cup of coffee and a warm meal in a safe space. The Café provides the kind of resources and relationships that provide stability and healing. We recognize that recovery is at the root of growth and healing. \nHours\nTuesday – Friday\n2:00pm – 7:00pm \n🍲 Dinner is served at 5pm on Tuesdays through Fridays. \nSpecial Events\n\nNew member introductions are Wednesdays at 2pm and 6pm.\nJoin Gabriel from the library every other Wednesday from 4-5:30\n\nOur Guiding Principles\n\nTo create a safe community in which all are valued\, we will strive to:\nConnect with love in ourselves and others\nShow respect\nCultivate compassion\nPractice forgiveness\nEncourage growth\nGive back\n\nMember Agreements\n\nDrug and alcohol free space\nAttend a Recovery circle once a week\nHelp Out
URL:https://jlsfrc.org/event/new-day-recovery-cafe-2/2026-02-20/
LOCATION:New Day Recovery Café\, 485 Elsworth Ave\, Friday Harbor\, WA\, 98250\, United States
CATEGORIES:New Day Recovery Café
ATTACH;FMTTYPE=image/jpeg:https://jlsfrc.org/wp-content/uploads/2024/12/New-Day-Recovery-Cafe.jpg
ORGANIZER;CN="New Day Recovery Cafe":MAILTO:newdaycafe@jlsfrc.org
END:VEVENT
END:VCALENDAR