BEGIN:VCALENDAR
VERSION:2.0
PRODID:-//Joyce L. Sobel Family Resource Center - ECPv6.15.17.1//NONSGML v1.0//EN
CALSCALE:GREGORIAN
METHOD:PUBLISH
X-ORIGINAL-URL:https://jlsfrc.org
X-WR-CALDESC:Events for Joyce L. Sobel Family Resource Center
REFRESH-INTERVAL;VALUE=DURATION:PT1H
X-Robots-Tag:noindex
X-PUBLISHED-TTL:PT1H
BEGIN:VTIMEZONE
TZID:America/Los_Angeles
BEGIN:DAYLIGHT
TZOFFSETFROM:-0800
TZOFFSETTO:-0700
TZNAME:PDT
DTSTART:20250309T100000
END:DAYLIGHT
BEGIN:STANDARD
TZOFFSETFROM:-0700
TZOFFSETTO:-0800
TZNAME:PST
DTSTART:20251102T090000
END:STANDARD
BEGIN:DAYLIGHT
TZOFFSETFROM:-0800
TZOFFSETTO:-0700
TZNAME:PDT
DTSTART:20260308T100000
END:DAYLIGHT
BEGIN:STANDARD
TZOFFSETFROM:-0700
TZOFFSETTO:-0800
TZNAME:PST
DTSTART:20261101T090000
END:STANDARD
BEGIN:DAYLIGHT
TZOFFSETFROM:-0800
TZOFFSETTO:-0700
TZNAME:PDT
DTSTART:20270314T100000
END:DAYLIGHT
BEGIN:STANDARD
TZOFFSETFROM:-0700
TZOFFSETTO:-0800
TZNAME:PST
DTSTART:20271107T090000
END:STANDARD
END:VTIMEZONE
BEGIN:VEVENT
DTSTART;TZID=America/Los_Angeles:20260413T103000
DTEND;TZID=America/Los_Angeles:20260413T113000
DTSTAMP:20260423T114939
CREATED:20260303T180558Z
LAST-MODIFIED:20260303T180558Z
UID:10007479-1776076200-1776079800@jlsfrc.org
SUMMARY:Rain or Shine Outdoor Playgroup
DESCRIPTION:Let’s get outside and have some fun! Join our Rain or Shine Outdoor Playgroups! These playgroups are for little islanders from ages 0-5 years of age and their siblings are welcome\, of course! Caregivers join together to play with their littles and to enjoy the camaraderie and fun that accompanies getting outside. \nAll playgroups happen on Mondays from 10:30am – 11:30am. \nWe hope to see you there!
URL:https://jlsfrc.org/event/rain-or-shine-outdoor-playgroup-2/2026-04-13/
LOCATION:Linde Park\, 565 Carter Ave\, Friday Harbor\, WA\, 98250\, United States
CATEGORIES:Birth-5
ATTACH;FMTTYPE=image/jpeg:https://jlsfrc.org/wp-content/uploads/2024/02/Rain-or-Shine-Outdoor-Playgroup-for-Tots-Event-1.jpg
END:VEVENT
BEGIN:VEVENT
DTSTART;TZID=America/Los_Angeles:20260413T120000
DTEND;TZID=America/Los_Angeles:20260413T130000
DTSTAMP:20260423T114939
CREATED:20250616T182227Z
LAST-MODIFIED:20251207T202026Z
UID:10007160-1776081600-1776085200@jlsfrc.org
SUMMARY:P2P Walking Support Group
DESCRIPTION:Join us from 12pm – 1pm for a P2P (Parent to Parent) Walking Support Group. Walk with us around the fields for a supportive\, fun\, & social outing. Everyone is Welcome!
URL:https://jlsfrc.org/event/p2p-summer-walking-support-group/2026-04-13/
LOCATION:Linde Park\, 565 Carter Ave\, Friday Harbor\, WA\, 98250\, United States
CATEGORIES:P2P
ATTACH;FMTTYPE=image/jpeg:https://jlsfrc.org/wp-content/uploads/2025/06/JLSFRC-Events-Calendar-Images-640-x-360-px-1-1.jpg
END:VEVENT
BEGIN:VEVENT
DTSTART;TZID=America/Los_Angeles:20260414T093000
DTEND;TZID=America/Los_Angeles:20260414T110000
DTSTAMP:20260423T114939
CREATED:20241211T193458Z
LAST-MODIFIED:20260304T220425Z
UID:10007454-1776159000-1776164400@jlsfrc.org
SUMMARY:Toddler Tea Time
DESCRIPTION:Join us on Tuesdays from 9:30 -11am at the JLSFRC for “Toddler Tea Time”\, an integrated community playgroup for children 18 months up to 36 months of age. Registration is required. In the playgroup we: \n🔹Learn age-appropriate social skills such as turn taking\, self-control\, empathy\, and listening to others.\n🔹Join our friends in learning simple songs with gestures to support our receptive and expressive language skills.\n🔹Explore activities that encourage fine motor and gross motor skill development.\n🔹Be offered a nutritious snack where we can practice our self-help skills such as drinking from an open cup and eating food with a spoon. \n✅ To register\, contact Jen\, DeShon\, 0-5 Family Support Specialist/Coord. at (360) 622-0326 or p2p@jlsfrc.org\nfor more information.
URL:https://jlsfrc.org/event/toddler-tea-time-2/2026-04-14/
LOCATION:Joyce L. Sobel Family Resource Center\, 476 Market Street\, Friday Harbor\, WA\, 98250\, United States
CATEGORIES:Birth-5
ATTACH;FMTTYPE=image/jpeg:https://jlsfrc.org/wp-content/uploads/2024/12/Toddler-Tea-Time.jpg
END:VEVENT
BEGIN:VEVENT
DTSTART;TZID=America/Los_Angeles:20260414T140000
DTEND;TZID=America/Los_Angeles:20260414T190000
DTSTAMP:20260423T114939
CREATED:20241216T195347Z
LAST-MODIFIED:20260108T222703Z
UID:10007251-1776175200-1776193200@jlsfrc.org
SUMMARY:New Day Recovery Café
DESCRIPTION:Join us for a cup of coffee and a warm meal in a safe space. The Café provides the kind of resources and relationships that provide stability and healing. We recognize that recovery is at the root of growth and healing. \nHours\nTuesday – Friday\n2:00pm – 7:00pm \n🍲 Dinner is served at 5pm on Tuesdays through Fridays. \nSpecial Events\n\nNew member introductions are Wednesdays at 2pm and 6pm.\nJoin Gabriel from the library every other Wednesday from 4-5:30\n\nOur Guiding Principles\n\nTo create a safe community in which all are valued\, we will strive to:\nConnect with love in ourselves and others\nShow respect\nCultivate compassion\nPractice forgiveness\nEncourage growth\nGive back\n\nMember Agreements\n\nDrug and alcohol free space\nAttend a Recovery circle once a week\nHelp Out
URL:https://jlsfrc.org/event/new-day-recovery-cafe-2/2026-04-14/
LOCATION:New Day Recovery Café\, 485 Elsworth Ave\, Friday Harbor\, WA\, 98250\, United States
CATEGORIES:New Day Recovery Café
ATTACH;FMTTYPE=image/jpeg:https://jlsfrc.org/wp-content/uploads/2024/12/New-Day-Recovery-Cafe.jpg
ORGANIZER;CN="New Day Recovery Cafe":MAILTO:newdaycafe@jlsfrc.org
END:VEVENT
BEGIN:VEVENT
DTSTART;TZID=America/Los_Angeles:20260414T180000
DTEND;TZID=America/Los_Angeles:20260414T193000
DTSTAMP:20260423T114939
CREATED:20250207T165556Z
LAST-MODIFIED:20260303T185400Z
UID:10007490-1776189600-1776195000@jlsfrc.org
SUMMARY:P2P Tea Talk Evening Virtual Support Group
DESCRIPTION:Join us for our Parent to Parent (P2P) Tea Talk Evening Virtual Support Group! Occurs on the second Tuesday of every month\, from 6:00pm – 7:30pm. \nTo register for the zoom link\, contact Jen DeShon\, P2P Coordinator.\nEmail: p2p@jlsfrc.org or call/text: 360-622-0326. \n 
URL:https://jlsfrc.org/event/p2p-tea-talk-evening-virtual-support-group/2026-04-14/
LOCATION:Virtual
CATEGORIES:P2P
ATTACH;FMTTYPE=image/jpeg:https://jlsfrc.org/wp-content/uploads/2025/02/Tea-Talk-Evening-Virtual-Support-Group.jpg
END:VEVENT
BEGIN:VEVENT
DTSTART;TZID=America/Los_Angeles:20260415T140000
DTEND;TZID=America/Los_Angeles:20260415T190000
DTSTAMP:20260423T114939
CREATED:20241216T195347Z
LAST-MODIFIED:20260108T222703Z
UID:10007252-1776261600-1776279600@jlsfrc.org
SUMMARY:New Day Recovery Café
DESCRIPTION:Join us for a cup of coffee and a warm meal in a safe space. The Café provides the kind of resources and relationships that provide stability and healing. We recognize that recovery is at the root of growth and healing. \nHours\nTuesday – Friday\n2:00pm – 7:00pm \n🍲 Dinner is served at 5pm on Tuesdays through Fridays. \nSpecial Events\n\nNew member introductions are Wednesdays at 2pm and 6pm.\nJoin Gabriel from the library every other Wednesday from 4-5:30\n\nOur Guiding Principles\n\nTo create a safe community in which all are valued\, we will strive to:\nConnect with love in ourselves and others\nShow respect\nCultivate compassion\nPractice forgiveness\nEncourage growth\nGive back\n\nMember Agreements\n\nDrug and alcohol free space\nAttend a Recovery circle once a week\nHelp Out
URL:https://jlsfrc.org/event/new-day-recovery-cafe-2/2026-04-15/
LOCATION:New Day Recovery Café\, 485 Elsworth Ave\, Friday Harbor\, WA\, 98250\, United States
CATEGORIES:New Day Recovery Café
ATTACH;FMTTYPE=image/jpeg:https://jlsfrc.org/wp-content/uploads/2024/12/New-Day-Recovery-Cafe.jpg
ORGANIZER;CN="New Day Recovery Cafe":MAILTO:newdaycafe@jlsfrc.org
END:VEVENT
BEGIN:VEVENT
DTSTART;TZID=America/Los_Angeles:20260416T100000
DTEND;TZID=America/Los_Angeles:20260416T100000
DTSTAMP:20260423T114939
CREATED:20250804T163916Z
LAST-MODIFIED:20260304T220207Z
UID:10007512-1776333600-1776333600@jlsfrc.org
SUMMARY:Baby Toddler Time
DESCRIPTION:Join us every Thursday from 10:00am – 11:30am in the San Juan Island Library meeting room. Each week\, we dive into fun activities like playing\, reading\, rhyming\, and singing\, all while enjoying some social time and play. It’s a fantastic opportunity to support your little one’s development in a lively and engaging environment. See you there! \n 
URL:https://jlsfrc.org/event/baby-toddler-time-3-2/2026-04-16/
LOCATION:San Juan Island Library\, 1010 Guard St\, Friday Harbor\, WA\, 98250\, United States
CATEGORIES:Birth-5
ATTACH;FMTTYPE=image/jpeg:https://jlsfrc.org/wp-content/uploads/2025/03/Baby-Toddler-Time-Event-1.jpg
END:VEVENT
BEGIN:VEVENT
DTSTART;TZID=America/Los_Angeles:20260416T140000
DTEND;TZID=America/Los_Angeles:20260416T190000
DTSTAMP:20260423T114939
CREATED:20241216T195347Z
LAST-MODIFIED:20260108T222703Z
UID:10007253-1776348000-1776366000@jlsfrc.org
SUMMARY:New Day Recovery Café
DESCRIPTION:Join us for a cup of coffee and a warm meal in a safe space. The Café provides the kind of resources and relationships that provide stability and healing. We recognize that recovery is at the root of growth and healing. \nHours\nTuesday – Friday\n2:00pm – 7:00pm \n🍲 Dinner is served at 5pm on Tuesdays through Fridays. \nSpecial Events\n\nNew member introductions are Wednesdays at 2pm and 6pm.\nJoin Gabriel from the library every other Wednesday from 4-5:30\n\nOur Guiding Principles\n\nTo create a safe community in which all are valued\, we will strive to:\nConnect with love in ourselves and others\nShow respect\nCultivate compassion\nPractice forgiveness\nEncourage growth\nGive back\n\nMember Agreements\n\nDrug and alcohol free space\nAttend a Recovery circle once a week\nHelp Out
URL:https://jlsfrc.org/event/new-day-recovery-cafe-2/2026-04-16/
LOCATION:New Day Recovery Café\, 485 Elsworth Ave\, Friday Harbor\, WA\, 98250\, United States
CATEGORIES:New Day Recovery Café
ATTACH;FMTTYPE=image/jpeg:https://jlsfrc.org/wp-content/uploads/2024/12/New-Day-Recovery-Cafe.jpg
ORGANIZER;CN="New Day Recovery Cafe":MAILTO:newdaycafe@jlsfrc.org
END:VEVENT
BEGIN:VEVENT
DTSTART;TZID=America/Los_Angeles:20260416T163000
DTEND;TZID=America/Los_Angeles:20260416T173000
DTSTAMP:20260423T114939
CREATED:20260402T182413Z
LAST-MODIFIED:20260402T182413Z
UID:10007579-1776357000-1776360600@jlsfrc.org
SUMMARY:Music & Movement for Family Event at SJICC
DESCRIPTION:Join us for an hour of music\, movement\, and fun with your little ones! This joyful family event is perfect for connecting\, playing\, and making memories together. \n📅 April 16 & May 14\n⏰ 4:30 PM – 5:30 PM\n📍 San Juan Island Childcare Cooperative \n👶 Ideal for ages 1–5 (all ages welcome!)\n🎵 Featuring rotating musicians\, movement teachers\, child educators\, and more from our amazing island community. \n💛 Pay what you can — all proceeds support SJICC programs and the families we serve. \nCome sing\, dance\, and move with us — we can’t wait to see you there!
URL:https://jlsfrc.org/event/music-movement-for-family-event-at-sjicc/2026-04-16/
LOCATION:San Juan Island Childcare Cooperative
CATEGORIES:Birth-5
ATTACH;FMTTYPE=image/jpeg:https://jlsfrc.org/wp-content/uploads/2026/04/3.jpg
END:VEVENT
BEGIN:VEVENT
DTSTART;TZID=America/Los_Angeles:20260416T180000
DTEND;TZID=America/Los_Angeles:20260416T190000
DTSTAMP:20260423T114940
CREATED:20260130T195859Z
LAST-MODIFIED:20260211T022613Z
UID:10007470-1776362400-1776366000@jlsfrc.org
SUMMARY:Realities of Otherhood: a group for Dads and Non-Birthing Parents
DESCRIPTION:Join Realities of Otherhood: A group for Dads and Non-Birthing Parents. This is a welcoming space for self-identifying dads\, foster/kinship parents\, guardians\, and parents-to-be to connect\, learn\, and grow together. \n🗓 3rd Thursday of each month\n🕕 6 PM\n📍 Joyce L. Sobel Family Resource Center \nWhether you’re expecting your first baby or parenting a five-year-old\, this group offers support\, education\, and community around perinatal mental health and parenting. \n💚 Questions?\n📩 info@jlsfrc.org\n| ☎️ (360) 378-5246
URL:https://jlsfrc.org/event/dads-and-non-birthing-parents-group/2026-04-16/
LOCATION:Joyce L. Sobel Family Resource Center\, 476 Market Street\, Friday Harbor\, WA\, 98250\, United States
CATEGORIES:Adults
ATTACH;FMTTYPE=image/jpeg:https://jlsfrc.org/wp-content/uploads/2026/01/JLSFRC-Events-Calendar-Images-640-x-360-px-3.jpg
END:VEVENT
BEGIN:VEVENT
DTSTART;TZID=America/Los_Angeles:20260417T140000
DTEND;TZID=America/Los_Angeles:20260417T190000
DTSTAMP:20260423T114940
CREATED:20241216T195347Z
LAST-MODIFIED:20260108T222703Z
UID:10007254-1776434400-1776452400@jlsfrc.org
SUMMARY:New Day Recovery Café
DESCRIPTION:Join us for a cup of coffee and a warm meal in a safe space. The Café provides the kind of resources and relationships that provide stability and healing. We recognize that recovery is at the root of growth and healing. \nHours\nTuesday – Friday\n2:00pm – 7:00pm \n🍲 Dinner is served at 5pm on Tuesdays through Fridays. \nSpecial Events\n\nNew member introductions are Wednesdays at 2pm and 6pm.\nJoin Gabriel from the library every other Wednesday from 4-5:30\n\nOur Guiding Principles\n\nTo create a safe community in which all are valued\, we will strive to:\nConnect with love in ourselves and others\nShow respect\nCultivate compassion\nPractice forgiveness\nEncourage growth\nGive back\n\nMember Agreements\n\nDrug and alcohol free space\nAttend a Recovery circle once a week\nHelp Out
URL:https://jlsfrc.org/event/new-day-recovery-cafe-2/2026-04-17/
LOCATION:New Day Recovery Café\, 485 Elsworth Ave\, Friday Harbor\, WA\, 98250\, United States
CATEGORIES:New Day Recovery Café
ATTACH;FMTTYPE=image/jpeg:https://jlsfrc.org/wp-content/uploads/2024/12/New-Day-Recovery-Cafe.jpg
ORGANIZER;CN="New Day Recovery Cafe":MAILTO:newdaycafe@jlsfrc.org
END:VEVENT
BEGIN:VEVENT
DTSTART;TZID=America/Los_Angeles:20260417T190000
DTEND;TZID=America/Los_Angeles:20260417T210000
DTSTAMP:20260423T114940
CREATED:20260326T212301Z
LAST-MODIFIED:20260326T212301Z
UID:10007577-1776452400-1776459600@jlsfrc.org
SUMMARY:Where to Wear It Dance Party!
DESCRIPTION:Break out the ballgowns\, tuxedos\, sequins\, and capes — this is your excuse to dress up and hit the dance floor! \n📅 Friday\, April 17 \n📍265 Price Street\n⏰ 7–9 PM \n🎶 Live music by The Jukebox Boys (7–8 PM)\n🎧 YAAS DJ Dance Playlist (8–9 PM)\n🍰 Refreshments & desserts included \n💛 $15 suggested donation \nAll proceeds support disability inclusion on our island — expanding peer connection\, education\, and access to services. Come dressed to impress (or express!) and dance for a cause that strengthens our whole community.
URL:https://jlsfrc.org/event/where-to-wear-it-dance-party/
LOCATION:Price Building\, 265 Price Street\, Friday Harbor\, 98250\, United States
CATEGORIES:All
ATTACH;FMTTYPE=image/jpeg:https://jlsfrc.org/wp-content/uploads/2026/03/JLSFRC-Events-Calendar-Images-640-x-360-px-1.jpg
END:VEVENT
BEGIN:VEVENT
DTSTART;TZID=America/Los_Angeles:20260418T103000
DTEND;TZID=America/Los_Angeles:20260418T130000
DTSTAMP:20260423T114940
CREATED:20260402T181923Z
LAST-MODIFIED:20260402T181923Z
UID:10007578-1776508200-1776517200@jlsfrc.org
SUMMARY:Screen-Free Saturday: Great Nurdle Hunt & Great Islands Beach Clean Up
DESCRIPTION:Turn screen-free time into real-world impact! Join us for a special Screen-Free Saturday in partnership with Friends of the San Juans for a fun and meaningful community science event at Jackson Beach.\n\n🗓️ Saturday\, April 18 10:30 AM – 1:00 PM Jackson Beach Open to all islanders — families welcome! No registration required\n\nWe’ll be hosting a Great Nurdle Hunt — searching for and removing tiny plastic pellets (nurdles) that pollute our shorelines and harm marine life.\n\nWhat to expect: A short\, engaging intro to nurdles & microplastics Guided beach exploration All supplies provided A fun\, low-pressure way for kids and families to participate in community science\n\nJust dress for the weather and come ready to make a difference! \n\nFurther activities will be taking place at The Brewery from 2pm-5pm.
URL:https://jlsfrc.org/event/screen-free-saturday-great-nurdle-hunt-great-islands-beach-clean-up/
LOCATION:Jackson’s Beach\, Jackson Beach Rd\, Friday Harbor\, WA\, 98250\, United States
CATEGORIES:Kids
ATTACH;FMTTYPE=image/jpeg:https://jlsfrc.org/wp-content/uploads/2026/04/1.jpg
END:VEVENT
END:VCALENDAR