BEGIN:VCALENDAR
VERSION:2.0
PRODID:-//Joyce L. Sobel Family Resource Center - ECPv6.15.17.1//NONSGML v1.0//EN
CALSCALE:GREGORIAN
METHOD:PUBLISH
X-ORIGINAL-URL:https://jlsfrc.org
X-WR-CALDESC:Events for Joyce L. Sobel Family Resource Center
REFRESH-INTERVAL;VALUE=DURATION:PT1H
X-Robots-Tag:noindex
X-PUBLISHED-TTL:PT1H
BEGIN:VTIMEZONE
TZID:America/Los_Angeles
BEGIN:DAYLIGHT
TZOFFSETFROM:-0800
TZOFFSETTO:-0700
TZNAME:PDT
DTSTART:20250309T100000
END:DAYLIGHT
BEGIN:STANDARD
TZOFFSETFROM:-0700
TZOFFSETTO:-0800
TZNAME:PST
DTSTART:20251102T090000
END:STANDARD
BEGIN:DAYLIGHT
TZOFFSETFROM:-0800
TZOFFSETTO:-0700
TZNAME:PDT
DTSTART:20260308T100000
END:DAYLIGHT
BEGIN:STANDARD
TZOFFSETFROM:-0700
TZOFFSETTO:-0800
TZNAME:PST
DTSTART:20261101T090000
END:STANDARD
BEGIN:DAYLIGHT
TZOFFSETFROM:-0800
TZOFFSETTO:-0700
TZNAME:PDT
DTSTART:20270314T100000
END:DAYLIGHT
BEGIN:STANDARD
TZOFFSETFROM:-0700
TZOFFSETTO:-0800
TZNAME:PST
DTSTART:20271107T090000
END:STANDARD
END:VTIMEZONE
BEGIN:VEVENT
DTSTART;TZID=America/Los_Angeles:20260223T120000
DTEND;TZID=America/Los_Angeles:20260223T130000
DTSTAMP:20260423T205251
CREATED:20260126T170618Z
LAST-MODIFIED:20260209T172906Z
UID:10007473-1771848000-1771851600@jlsfrc.org
SUMMARY:P2P In-Person Support Group
DESCRIPTION:P2P (Parent to Parent) in-person support group. 12pm-1pm  at Bakery San Juan.
URL:https://jlsfrc.org/event/p2p-in-person-support-group-2/2026-02-23/
LOCATION:Bakery San Juan\, 775 Mullis St\, Friday Harbor\, 98250\, United States
CATEGORIES:P2P
ATTACH;FMTTYPE=image/webp:https://jlsfrc.org/wp-content/uploads/2025/12/JLSFRC-Events-Calendar-Images-640-x-360-px.webp
END:VEVENT
BEGIN:VEVENT
DTSTART;TZID=America/Los_Angeles:20260209T120000
DTEND;TZID=America/Los_Angeles:20260209T130000
DTSTAMP:20260423T205251
CREATED:20260126T170618Z
LAST-MODIFIED:20260209T172906Z
UID:10007472-1770638400-1770642000@jlsfrc.org
SUMMARY:P2P In-Person Support Group
DESCRIPTION:P2P (Parent to Parent) in-person support group. 12pm-1pm  at Bakery San Juan.
URL:https://jlsfrc.org/event/p2p-in-person-support-group-2/2026-02-09/
LOCATION:Bakery San Juan\, 775 Mullis St\, Friday Harbor\, 98250\, United States
CATEGORIES:P2P
ATTACH;FMTTYPE=image/webp:https://jlsfrc.org/wp-content/uploads/2025/12/JLSFRC-Events-Calendar-Images-640-x-360-px.webp
END:VEVENT
BEGIN:VEVENT
DTSTART;TZID=America/Los_Angeles:20260126T120000
DTEND;TZID=America/Los_Angeles:20260126T130000
DTSTAMP:20260423T205251
CREATED:20260126T170618Z
LAST-MODIFIED:20260209T172906Z
UID:10007466-1769428800-1769432400@jlsfrc.org
SUMMARY:P2P In-Person Support Group
DESCRIPTION:P2P (Parent to Parent) in-person support group. 12pm-1pm  at Bakery San Juan.
URL:https://jlsfrc.org/event/p2p-in-person-support-group-2/2026-01-26/
LOCATION:Bakery San Juan\, 775 Mullis St\, Friday Harbor\, 98250\, United States
CATEGORIES:P2P
ATTACH;FMTTYPE=image/webp:https://jlsfrc.org/wp-content/uploads/2025/12/JLSFRC-Events-Calendar-Images-640-x-360-px.webp
END:VEVENT
END:VCALENDAR