BEGIN:VCALENDAR
VERSION:2.0
PRODID:-//Joyce L. Sobel Family Resource Center - ECPv6.15.17.1//NONSGML v1.0//EN
CALSCALE:GREGORIAN
METHOD:PUBLISH
X-WR-CALNAME:Joyce L. Sobel Family Resource Center
X-ORIGINAL-URL:https://jlsfrc.org
X-WR-CALDESC:Events for Joyce L. Sobel Family Resource Center
REFRESH-INTERVAL;VALUE=DURATION:PT1H
X-Robots-Tag:noindex
X-PUBLISHED-TTL:PT1H
BEGIN:VTIMEZONE
TZID:America/Los_Angeles
BEGIN:DAYLIGHT
TZOFFSETFROM:-0800
TZOFFSETTO:-0700
TZNAME:PDT
DTSTART:20240310T100000
END:DAYLIGHT
BEGIN:STANDARD
TZOFFSETFROM:-0700
TZOFFSETTO:-0800
TZNAME:PST
DTSTART:20241103T090000
END:STANDARD
BEGIN:DAYLIGHT
TZOFFSETFROM:-0800
TZOFFSETTO:-0700
TZNAME:PDT
DTSTART:20250309T100000
END:DAYLIGHT
BEGIN:STANDARD
TZOFFSETFROM:-0700
TZOFFSETTO:-0800
TZNAME:PST
DTSTART:20251102T090000
END:STANDARD
BEGIN:DAYLIGHT
TZOFFSETFROM:-0800
TZOFFSETTO:-0700
TZNAME:PDT
DTSTART:20260308T100000
END:DAYLIGHT
BEGIN:STANDARD
TZOFFSETFROM:-0700
TZOFFSETTO:-0800
TZNAME:PST
DTSTART:20261101T090000
END:STANDARD
END:VTIMEZONE
BEGIN:VEVENT
DTSTART;TZID=America/Los_Angeles:20251113T173000
DTEND;TZID=America/Los_Angeles:20251113T190000
DTSTAMP:20260424T014752
CREATED:20251006T201224Z
LAST-MODIFIED:20251006T201224Z
UID:10007104-1763055000-1763060400@jlsfrc.org
SUMMARY:Community Reading Night
DESCRIPTION:📖Community Reading Night is BACK! Don’t miss out on all the fun! \nJoin us for FOOD\, GIVEAWAYS\, ACTIVITIES plus story and poem reading by some of your favorite community members. All elementary school families are welcome. \n📅 Thursday\, November 13th\n🕒 Dinner at 5:30 pm\, Reading at 6:00 pm\n📍 Friday Harbor Elementary School \nFor more information call: 360-378-5246 \nBrought to you by the Joyce L. Sobel Family Resource Center and FHES PTO and thanks to generous funding from the Stocker Family Foundation.
URL:https://jlsfrc.org/event/community-reading-night-4/
LOCATION:Friday Harbor Elementary School\, 95 Grover St\, Friday Harbor\, 98250\, United States
CATEGORIES:Birth-5
ATTACH;FMTTYPE=image/jpeg:https://jlsfrc.org/wp-content/uploads/2025/10/Community-Reading-Night-Event.jpg
END:VEVENT
BEGIN:VEVENT
DTSTART;TZID=America/Los_Angeles:20250515T173000
DTEND;TZID=America/Los_Angeles:20250515T193000
DTSTAMP:20260424T014752
CREATED:20250429T221330Z
LAST-MODIFIED:20250430T153929Z
UID:10006598-1747330200-1747337400@jlsfrc.org
SUMMARY:Kindergarten Kickoff
DESCRIPTION:Please join us for the 2025 Kindergarten Kickoff! Dinner will be served in the FHES cafeteria to incoming kindergartners and their parents and/or their primary caregivers. \n🗓️ When: Thursday\, May 15th from 5:30 PM – 7:30 PM \nAfter dinner\, parents and kindergartners will have the opportunity to meet with school staff and learn “everything they need to know” about this exciting first step in their child’s educational adventure. The evening ends with a fun ride on the school bus for our future FHES students. \nThank you to FHES Principal\, Kindergarten teachers\, and Special Services staff\, and a special thank you to The SJI Community Foundation for the funding which enabled us to present this program.
URL:https://jlsfrc.org/event/kindergarten-kickoff/
LOCATION:Friday Harbor Elementary School\, 95 Grover St\, Friday Harbor\, 98250\, United States
CATEGORIES:Kids
ATTACH;FMTTYPE=image/jpeg:https://jlsfrc.org/wp-content/uploads/2025/04/JLSFRC-Events-Calendar-Images-640-x-360-px-1.jpg
END:VEVENT
BEGIN:VEVENT
DTSTART;TZID=America/Los_Angeles:20250507T173000
DTEND;TZID=America/Los_Angeles:20250507T190000
DTSTAMP:20260424T014752
CREATED:20250407T200923Z
LAST-MODIFIED:20250407T201500Z
UID:10006559-1746639000-1746644400@jlsfrc.org
SUMMARY:Community Reading Night
DESCRIPTION:Community Reading Night is BACK! Don’t miss out on all the fun! \nJoin us for FOOD\, GIVEAWAYS\, ACTIVITIES plus story and poem reading by some of your favorite community members. All elementary school families are welcome. \n📅 Wednesday\, May 7th\n🕒 Dinner at 5:30 pm\, Reading at 6:00 pm\n📍 Friday Harbor Elementary School \nFor more information call: 360-378-5246 \nBrought to you by the Joyce L. Sobel Family Resource Center and FHES PTO and thanks to generous funding from the Stocker Foundation.
URL:https://jlsfrc.org/event/community-reading-night-3/
LOCATION:Friday Harbor Elementary School\, 95 Grover St\, Friday Harbor\, 98250\, United States
CATEGORIES:Kids
ATTACH;FMTTYPE=image/webp:https://jlsfrc.org/wp-content/uploads/2025/04/JLSFRC-Events-Calendar-Images-640-x-360-px-1.webp
END:VEVENT
BEGIN:VEVENT
DTSTART;TZID=America/Los_Angeles:20250305T173000
DTEND;TZID=America/Los_Angeles:20250305T190000
DTSTAMP:20260424T014752
CREATED:20250214T173455Z
LAST-MODIFIED:20250214T173455Z
UID:10006346-1741195800-1741201200@jlsfrc.org
SUMMARY:Community Reading Night
DESCRIPTION:Community Reading Night is BACK! Join us for FOOD\, GIVEAWAYS\, ACTIVITIES plus story and poem reading by some of your favorite community members. All elementary school families are welcome. \n📅 Wednesday\, March 5th\n🕒 Dinner at 5:30 pm\, Reading at 6:00 pm\n📍 Friday Harbor Elementary School \nFor more information call: 360-378-5246 \nBrought to you by the Joyce L. Sobel Family Resource Center and FHES PTO and thanks to generous funding from the Stocker Foundation.
URL:https://jlsfrc.org/event/community-reading-night-2/
LOCATION:Friday Harbor Elementary School\, 95 Grover St\, Friday Harbor\, 98250\, United States
CATEGORIES:Kids
ATTACH;FMTTYPE=image/jpeg:https://jlsfrc.org/wp-content/uploads/2025/02/Community-Reading-Night-Spring.jpg
END:VEVENT
BEGIN:VEVENT
DTSTART;TZID=America/Los_Angeles:20250122T173000
DTEND;TZID=America/Los_Angeles:20250122T190000
DTSTAMP:20260424T014752
CREATED:20250107T194031Z
LAST-MODIFIED:20250107T194031Z
UID:10006304-1737567000-1737572400@jlsfrc.org
SUMMARY:Community Reading Night
DESCRIPTION:Community Reading Night is BACK! Don’t miss out on all the fun! \nJoin us for FOOD\, GIVEAWAYS\, ACTIVITIES plus story and poem reading by some of your favorite community members. All elementary school families are welcome. \n📅 Wednesday\, January 22nd\n🕒 Dinner at 5:30 pm\, Reading at 6:00 pm\n📍 Friday Harbor Elementary School \nFor more information call: 360-378-5246 \nBrought to you by the Joyce L. Sobel Family Resource Center and FHES PTO and thanks to generous funding from the Stocker Family Foundation.
URL:https://jlsfrc.org/event/community-reading-night/
LOCATION:Friday Harbor Elementary School\, 95 Grover St\, Friday Harbor\, 98250\, United States
CATEGORIES:Kids
ATTACH;FMTTYPE=image/jpeg:https://jlsfrc.org/wp-content/uploads/2025/01/Community-Reading-Night-Winter-2025.jpg
END:VEVENT
END:VCALENDAR