BEGIN:VCALENDAR
VERSION:2.0
PRODID:-//Joyce L. Sobel Family Resource Center - ECPv6.15.17.1//NONSGML v1.0//EN
CALSCALE:GREGORIAN
METHOD:PUBLISH
X-WR-CALNAME:Joyce L. Sobel Family Resource Center
X-ORIGINAL-URL:https://jlsfrc.org
X-WR-CALDESC:Events for Joyce L. Sobel Family Resource Center
REFRESH-INTERVAL;VALUE=DURATION:PT1H
X-Robots-Tag:noindex
X-PUBLISHED-TTL:PT1H
BEGIN:VTIMEZONE
TZID:America/Los_Angeles
BEGIN:DAYLIGHT
TZOFFSETFROM:-0800
TZOFFSETTO:-0700
TZNAME:PDT
DTSTART:20240310T100000
END:DAYLIGHT
BEGIN:STANDARD
TZOFFSETFROM:-0700
TZOFFSETTO:-0800
TZNAME:PST
DTSTART:20241103T090000
END:STANDARD
BEGIN:DAYLIGHT
TZOFFSETFROM:-0800
TZOFFSETTO:-0700
TZNAME:PDT
DTSTART:20250309T100000
END:DAYLIGHT
BEGIN:STANDARD
TZOFFSETFROM:-0700
TZOFFSETTO:-0800
TZNAME:PST
DTSTART:20251102T090000
END:STANDARD
BEGIN:DAYLIGHT
TZOFFSETFROM:-0800
TZOFFSETTO:-0700
TZNAME:PDT
DTSTART:20260308T100000
END:DAYLIGHT
BEGIN:STANDARD
TZOFFSETFROM:-0700
TZOFFSETTO:-0800
TZNAME:PST
DTSTART:20261101T090000
END:STANDARD
BEGIN:DAYLIGHT
TZOFFSETFROM:-0800
TZOFFSETTO:-0700
TZNAME:PDT
DTSTART:20270314T100000
END:DAYLIGHT
BEGIN:STANDARD
TZOFFSETFROM:-0700
TZOFFSETTO:-0800
TZNAME:PST
DTSTART:20271107T090000
END:STANDARD
END:VTIMEZONE
BEGIN:VEVENT
DTSTART;TZID=America/Los_Angeles:20260129T100000
DTEND;TZID=America/Los_Angeles:20260129T100000
DTSTAMP:20260424T075738
CREATED:20250804T163916Z
LAST-MODIFIED:20260304T220207Z
UID:10007151-1769680800-1769680800@jlsfrc.org
SUMMARY:Baby Toddler Time
DESCRIPTION:Join us every Thursday from 10:00am – 11:30am in the San Juan Island Library meeting room. Each week\, we dive into fun activities like playing\, reading\, rhyming\, and singing\, all while enjoying some social time and play. It’s a fantastic opportunity to support your little one’s development in a lively and engaging environment. See you there! \n 
URL:https://jlsfrc.org/event/baby-toddler-time-3-2/2026-01-29/
LOCATION:San Juan Island Library\, 1010 Guard St\, Friday Harbor\, WA\, 98250\, United States
CATEGORIES:Birth-5
ATTACH;FMTTYPE=image/jpeg:https://jlsfrc.org/wp-content/uploads/2025/03/Baby-Toddler-Time-Event-1.jpg
END:VEVENT
BEGIN:VEVENT
DTSTART;TZID=America/Los_Angeles:20260122T100000
DTEND;TZID=America/Los_Angeles:20260122T100000
DTSTAMP:20260424T075738
CREATED:20250804T163916Z
LAST-MODIFIED:20260304T220207Z
UID:10007150-1769076000-1769076000@jlsfrc.org
SUMMARY:Baby Toddler Time
DESCRIPTION:Join us every Thursday from 10:00am – 11:30am in the San Juan Island Library meeting room. Each week\, we dive into fun activities like playing\, reading\, rhyming\, and singing\, all while enjoying some social time and play. It’s a fantastic opportunity to support your little one’s development in a lively and engaging environment. See you there! \n 
URL:https://jlsfrc.org/event/baby-toddler-time-3-2/2026-01-22/
LOCATION:San Juan Island Library\, 1010 Guard St\, Friday Harbor\, WA\, 98250\, United States
CATEGORIES:Birth-5
ATTACH;FMTTYPE=image/jpeg:https://jlsfrc.org/wp-content/uploads/2025/03/Baby-Toddler-Time-Event-1.jpg
END:VEVENT
BEGIN:VEVENT
DTSTART;TZID=America/Los_Angeles:20260115T100000
DTEND;TZID=America/Los_Angeles:20260115T100000
DTSTAMP:20260424T075738
CREATED:20250804T163916Z
LAST-MODIFIED:20260304T220207Z
UID:10007149-1768471200-1768471200@jlsfrc.org
SUMMARY:Baby Toddler Time
DESCRIPTION:Join us every Thursday from 10:00am – 11:30am in the San Juan Island Library meeting room. Each week\, we dive into fun activities like playing\, reading\, rhyming\, and singing\, all while enjoying some social time and play. It’s a fantastic opportunity to support your little one’s development in a lively and engaging environment. See you there! \n 
URL:https://jlsfrc.org/event/baby-toddler-time-3-2/2026-01-15/
LOCATION:San Juan Island Library\, 1010 Guard St\, Friday Harbor\, WA\, 98250\, United States
CATEGORIES:Birth-5
ATTACH;FMTTYPE=image/jpeg:https://jlsfrc.org/wp-content/uploads/2025/03/Baby-Toddler-Time-Event-1.jpg
END:VEVENT
BEGIN:VEVENT
DTSTART;TZID=America/Los_Angeles:20260108T100000
DTEND;TZID=America/Los_Angeles:20260108T100000
DTSTAMP:20260424T075738
CREATED:20250804T163916Z
LAST-MODIFIED:20260304T220207Z
UID:10007148-1767866400-1767866400@jlsfrc.org
SUMMARY:Baby Toddler Time
DESCRIPTION:Join us every Thursday from 10:00am – 11:30am in the San Juan Island Library meeting room. Each week\, we dive into fun activities like playing\, reading\, rhyming\, and singing\, all while enjoying some social time and play. It’s a fantastic opportunity to support your little one’s development in a lively and engaging environment. See you there! \n 
URL:https://jlsfrc.org/event/baby-toddler-time-3-2/2026-01-08/
LOCATION:San Juan Island Library\, 1010 Guard St\, Friday Harbor\, WA\, 98250\, United States
CATEGORIES:Birth-5
ATTACH;FMTTYPE=image/jpeg:https://jlsfrc.org/wp-content/uploads/2025/03/Baby-Toddler-Time-Event-1.jpg
END:VEVENT
BEGIN:VEVENT
DTSTART;TZID=America/Los_Angeles:20260101T100000
DTEND;TZID=America/Los_Angeles:20260101T100000
DTSTAMP:20260424T075738
CREATED:20250804T163916Z
LAST-MODIFIED:20260304T220207Z
UID:10007147-1767261600-1767261600@jlsfrc.org
SUMMARY:Baby Toddler Time
DESCRIPTION:Join us every Thursday from 10:00am – 11:30am in the San Juan Island Library meeting room. Each week\, we dive into fun activities like playing\, reading\, rhyming\, and singing\, all while enjoying some social time and play. It’s a fantastic opportunity to support your little one’s development in a lively and engaging environment. See you there! \n 
URL:https://jlsfrc.org/event/baby-toddler-time-3-2/2026-01-01/
LOCATION:San Juan Island Library\, 1010 Guard St\, Friday Harbor\, WA\, 98250\, United States
CATEGORIES:Birth-5
ATTACH;FMTTYPE=image/jpeg:https://jlsfrc.org/wp-content/uploads/2025/03/Baby-Toddler-Time-Event-1.jpg
END:VEVENT
BEGIN:VEVENT
DTSTART;TZID=America/Los_Angeles:20251225T100000
DTEND;TZID=America/Los_Angeles:20251225T100000
DTSTAMP:20260424T075738
CREATED:20250804T163916Z
LAST-MODIFIED:20260304T220207Z
UID:10006738-1766656800-1766656800@jlsfrc.org
SUMMARY:Baby Toddler Time
DESCRIPTION:Join us every Thursday from 10:00am – 11:30am in the San Juan Island Library meeting room. Each week\, we dive into fun activities like playing\, reading\, rhyming\, and singing\, all while enjoying some social time and play. It’s a fantastic opportunity to support your little one’s development in a lively and engaging environment. See you there! \n 
URL:https://jlsfrc.org/event/baby-toddler-time-3-2/2025-12-25/
LOCATION:San Juan Island Library\, 1010 Guard St\, Friday Harbor\, WA\, 98250\, United States
CATEGORIES:Birth-5
ATTACH;FMTTYPE=image/jpeg:https://jlsfrc.org/wp-content/uploads/2025/03/Baby-Toddler-Time-Event-1.jpg
END:VEVENT
BEGIN:VEVENT
DTSTART;TZID=America/Los_Angeles:20251218T100000
DTEND;TZID=America/Los_Angeles:20251218T100000
DTSTAMP:20260424T075738
CREATED:20250804T163916Z
LAST-MODIFIED:20260304T220207Z
UID:10006737-1766052000-1766052000@jlsfrc.org
SUMMARY:Baby Toddler Time
DESCRIPTION:Join us every Thursday from 10:00am – 11:30am in the San Juan Island Library meeting room. Each week\, we dive into fun activities like playing\, reading\, rhyming\, and singing\, all while enjoying some social time and play. It’s a fantastic opportunity to support your little one’s development in a lively and engaging environment. See you there! \n 
URL:https://jlsfrc.org/event/baby-toddler-time-3-2/2025-12-18/
LOCATION:San Juan Island Library\, 1010 Guard St\, Friday Harbor\, WA\, 98250\, United States
CATEGORIES:Birth-5
ATTACH;FMTTYPE=image/jpeg:https://jlsfrc.org/wp-content/uploads/2025/03/Baby-Toddler-Time-Event-1.jpg
END:VEVENT
BEGIN:VEVENT
DTSTART;TZID=America/Los_Angeles:20251211T100000
DTEND;TZID=America/Los_Angeles:20251211T100000
DTSTAMP:20260424T075738
CREATED:20250804T163916Z
LAST-MODIFIED:20260304T220207Z
UID:10006736-1765447200-1765447200@jlsfrc.org
SUMMARY:Baby Toddler Time
DESCRIPTION:Join us every Thursday from 10:00am – 11:30am in the San Juan Island Library meeting room. Each week\, we dive into fun activities like playing\, reading\, rhyming\, and singing\, all while enjoying some social time and play. It’s a fantastic opportunity to support your little one’s development in a lively and engaging environment. See you there! \n 
URL:https://jlsfrc.org/event/baby-toddler-time-3-2/2025-12-11/
LOCATION:San Juan Island Library\, 1010 Guard St\, Friday Harbor\, WA\, 98250\, United States
CATEGORIES:Birth-5
ATTACH;FMTTYPE=image/jpeg:https://jlsfrc.org/wp-content/uploads/2025/03/Baby-Toddler-Time-Event-1.jpg
END:VEVENT
BEGIN:VEVENT
DTSTART;TZID=America/Los_Angeles:20251204T100000
DTEND;TZID=America/Los_Angeles:20251204T100000
DTSTAMP:20260424T075738
CREATED:20250804T163916Z
LAST-MODIFIED:20260304T220207Z
UID:10006735-1764842400-1764842400@jlsfrc.org
SUMMARY:Baby Toddler Time
DESCRIPTION:Join us every Thursday from 10:00am – 11:30am in the San Juan Island Library meeting room. Each week\, we dive into fun activities like playing\, reading\, rhyming\, and singing\, all while enjoying some social time and play. It’s a fantastic opportunity to support your little one’s development in a lively and engaging environment. See you there! \n 
URL:https://jlsfrc.org/event/baby-toddler-time-3-2/2025-12-04/
LOCATION:San Juan Island Library\, 1010 Guard St\, Friday Harbor\, WA\, 98250\, United States
CATEGORIES:Birth-5
ATTACH;FMTTYPE=image/jpeg:https://jlsfrc.org/wp-content/uploads/2025/03/Baby-Toddler-Time-Event-1.jpg
END:VEVENT
BEGIN:VEVENT
DTSTART;TZID=America/Los_Angeles:20251120T100000
DTEND;TZID=America/Los_Angeles:20251120T100000
DTSTAMP:20260424T075738
CREATED:20250804T163916Z
LAST-MODIFIED:20260304T220207Z
UID:10006733-1763632800-1763632800@jlsfrc.org
SUMMARY:Baby Toddler Time
DESCRIPTION:Join us every Thursday from 10:00am – 11:30am in the San Juan Island Library meeting room. Each week\, we dive into fun activities like playing\, reading\, rhyming\, and singing\, all while enjoying some social time and play. It’s a fantastic opportunity to support your little one’s development in a lively and engaging environment. See you there! \n 
URL:https://jlsfrc.org/event/baby-toddler-time-3-2/2025-11-20/
LOCATION:San Juan Island Library\, 1010 Guard St\, Friday Harbor\, WA\, 98250\, United States
CATEGORIES:Birth-5
ATTACH;FMTTYPE=image/jpeg:https://jlsfrc.org/wp-content/uploads/2025/03/Baby-Toddler-Time-Event-1.jpg
END:VEVENT
BEGIN:VEVENT
DTSTART;TZID=America/Los_Angeles:20251113T100000
DTEND;TZID=America/Los_Angeles:20251113T100000
DTSTAMP:20260424T075738
CREATED:20250804T163916Z
LAST-MODIFIED:20260304T220207Z
UID:10006732-1763028000-1763028000@jlsfrc.org
SUMMARY:Baby Toddler Time
DESCRIPTION:Join us every Thursday from 10:00am – 11:30am in the San Juan Island Library meeting room. Each week\, we dive into fun activities like playing\, reading\, rhyming\, and singing\, all while enjoying some social time and play. It’s a fantastic opportunity to support your little one’s development in a lively and engaging environment. See you there! \n 
URL:https://jlsfrc.org/event/baby-toddler-time-3-2/2025-11-13/
LOCATION:San Juan Island Library\, 1010 Guard St\, Friday Harbor\, WA\, 98250\, United States
CATEGORIES:Birth-5
ATTACH;FMTTYPE=image/jpeg:https://jlsfrc.org/wp-content/uploads/2025/03/Baby-Toddler-Time-Event-1.jpg
END:VEVENT
BEGIN:VEVENT
DTSTART;TZID=America/Los_Angeles:20251106T100000
DTEND;TZID=America/Los_Angeles:20251106T100000
DTSTAMP:20260424T075738
CREATED:20250804T163916Z
LAST-MODIFIED:20260304T220207Z
UID:10006731-1762423200-1762423200@jlsfrc.org
SUMMARY:Baby Toddler Time
DESCRIPTION:Join us every Thursday from 10:00am – 11:30am in the San Juan Island Library meeting room. Each week\, we dive into fun activities like playing\, reading\, rhyming\, and singing\, all while enjoying some social time and play. It’s a fantastic opportunity to support your little one’s development in a lively and engaging environment. See you there! \n 
URL:https://jlsfrc.org/event/baby-toddler-time-3-2/2025-11-06/
LOCATION:San Juan Island Library\, 1010 Guard St\, Friday Harbor\, WA\, 98250\, United States
CATEGORIES:Birth-5
ATTACH;FMTTYPE=image/jpeg:https://jlsfrc.org/wp-content/uploads/2025/03/Baby-Toddler-Time-Event-1.jpg
END:VEVENT
BEGIN:VEVENT
DTSTART;TZID=America/Los_Angeles:20251030T100000
DTEND;TZID=America/Los_Angeles:20251030T100000
DTSTAMP:20260424T075738
CREATED:20250804T163916Z
LAST-MODIFIED:20260304T220207Z
UID:10006730-1761818400-1761818400@jlsfrc.org
SUMMARY:Baby Toddler Time
DESCRIPTION:Join us every Thursday from 10:00am – 11:30am in the San Juan Island Library meeting room. Each week\, we dive into fun activities like playing\, reading\, rhyming\, and singing\, all while enjoying some social time and play. It’s a fantastic opportunity to support your little one’s development in a lively and engaging environment. See you there! \n 
URL:https://jlsfrc.org/event/baby-toddler-time-3-2/2025-10-30/
LOCATION:San Juan Island Library\, 1010 Guard St\, Friday Harbor\, WA\, 98250\, United States
CATEGORIES:Birth-5
ATTACH;FMTTYPE=image/jpeg:https://jlsfrc.org/wp-content/uploads/2025/03/Baby-Toddler-Time-Event-1.jpg
END:VEVENT
BEGIN:VEVENT
DTSTART;TZID=America/Los_Angeles:20251023T100000
DTEND;TZID=America/Los_Angeles:20251023T100000
DTSTAMP:20260424T075738
CREATED:20250804T163916Z
LAST-MODIFIED:20260304T220207Z
UID:10006729-1761213600-1761213600@jlsfrc.org
SUMMARY:Baby Toddler Time
DESCRIPTION:Join us every Thursday from 10:00am – 11:30am in the San Juan Island Library meeting room. Each week\, we dive into fun activities like playing\, reading\, rhyming\, and singing\, all while enjoying some social time and play. It’s a fantastic opportunity to support your little one’s development in a lively and engaging environment. See you there! \n 
URL:https://jlsfrc.org/event/baby-toddler-time-3-2/2025-10-23/
LOCATION:San Juan Island Library\, 1010 Guard St\, Friday Harbor\, WA\, 98250\, United States
CATEGORIES:Birth-5
ATTACH;FMTTYPE=image/jpeg:https://jlsfrc.org/wp-content/uploads/2025/03/Baby-Toddler-Time-Event-1.jpg
END:VEVENT
BEGIN:VEVENT
DTSTART;TZID=America/Los_Angeles:20251016T100000
DTEND;TZID=America/Los_Angeles:20251016T100000
DTSTAMP:20260424T075738
CREATED:20250804T163916Z
LAST-MODIFIED:20260304T220207Z
UID:10006728-1760608800-1760608800@jlsfrc.org
SUMMARY:Baby Toddler Time
DESCRIPTION:Join us every Thursday from 10:00am – 11:30am in the San Juan Island Library meeting room. Each week\, we dive into fun activities like playing\, reading\, rhyming\, and singing\, all while enjoying some social time and play. It’s a fantastic opportunity to support your little one’s development in a lively and engaging environment. See you there! \n 
URL:https://jlsfrc.org/event/baby-toddler-time-3-2/2025-10-16/
LOCATION:San Juan Island Library\, 1010 Guard St\, Friday Harbor\, WA\, 98250\, United States
CATEGORIES:Birth-5
ATTACH;FMTTYPE=image/jpeg:https://jlsfrc.org/wp-content/uploads/2025/03/Baby-Toddler-Time-Event-1.jpg
END:VEVENT
BEGIN:VEVENT
DTSTART;TZID=America/Los_Angeles:20251009T100000
DTEND;TZID=America/Los_Angeles:20251009T100000
DTSTAMP:20260424T075739
CREATED:20250804T163916Z
LAST-MODIFIED:20260304T220207Z
UID:10006727-1760004000-1760004000@jlsfrc.org
SUMMARY:Baby Toddler Time
DESCRIPTION:Join us every Thursday from 10:00am – 11:30am in the San Juan Island Library meeting room. Each week\, we dive into fun activities like playing\, reading\, rhyming\, and singing\, all while enjoying some social time and play. It’s a fantastic opportunity to support your little one’s development in a lively and engaging environment. See you there! \n 
URL:https://jlsfrc.org/event/baby-toddler-time-3-2/2025-10-09/
LOCATION:San Juan Island Library\, 1010 Guard St\, Friday Harbor\, WA\, 98250\, United States
CATEGORIES:Birth-5
ATTACH;FMTTYPE=image/jpeg:https://jlsfrc.org/wp-content/uploads/2025/03/Baby-Toddler-Time-Event-1.jpg
END:VEVENT
BEGIN:VEVENT
DTSTART;TZID=America/Los_Angeles:20251002T100000
DTEND;TZID=America/Los_Angeles:20251002T100000
DTSTAMP:20260424T075739
CREATED:20250804T163916Z
LAST-MODIFIED:20260304T220207Z
UID:10006726-1759399200-1759399200@jlsfrc.org
SUMMARY:Baby Toddler Time
DESCRIPTION:Join us every Thursday from 10:00am – 11:30am in the San Juan Island Library meeting room. Each week\, we dive into fun activities like playing\, reading\, rhyming\, and singing\, all while enjoying some social time and play. It’s a fantastic opportunity to support your little one’s development in a lively and engaging environment. See you there! \n 
URL:https://jlsfrc.org/event/baby-toddler-time-3-2/2025-10-02/
LOCATION:San Juan Island Library\, 1010 Guard St\, Friday Harbor\, WA\, 98250\, United States
CATEGORIES:Birth-5
ATTACH;FMTTYPE=image/jpeg:https://jlsfrc.org/wp-content/uploads/2025/03/Baby-Toddler-Time-Event-1.jpg
END:VEVENT
BEGIN:VEVENT
DTSTART;TZID=America/Los_Angeles:20250925T100000
DTEND;TZID=America/Los_Angeles:20250925T100000
DTSTAMP:20260424T075739
CREATED:20250804T163916Z
LAST-MODIFIED:20260304T220207Z
UID:10006725-1758794400-1758794400@jlsfrc.org
SUMMARY:Baby Toddler Time
DESCRIPTION:Join us every Thursday from 10:00am – 11:30am in the San Juan Island Library meeting room. Each week\, we dive into fun activities like playing\, reading\, rhyming\, and singing\, all while enjoying some social time and play. It’s a fantastic opportunity to support your little one’s development in a lively and engaging environment. See you there! \n 
URL:https://jlsfrc.org/event/baby-toddler-time-3-2/2025-09-25/
LOCATION:San Juan Island Library\, 1010 Guard St\, Friday Harbor\, WA\, 98250\, United States
CATEGORIES:Birth-5
ATTACH;FMTTYPE=image/jpeg:https://jlsfrc.org/wp-content/uploads/2025/03/Baby-Toddler-Time-Event-1.jpg
END:VEVENT
BEGIN:VEVENT
DTSTART;TZID=America/Los_Angeles:20250918T100000
DTEND;TZID=America/Los_Angeles:20250918T100000
DTSTAMP:20260424T075739
CREATED:20250804T163916Z
LAST-MODIFIED:20260304T220207Z
UID:10006724-1758189600-1758189600@jlsfrc.org
SUMMARY:Baby Toddler Time
DESCRIPTION:Join us every Thursday from 10:00am – 11:30am in the San Juan Island Library meeting room. Each week\, we dive into fun activities like playing\, reading\, rhyming\, and singing\, all while enjoying some social time and play. It’s a fantastic opportunity to support your little one’s development in a lively and engaging environment. See you there! \n 
URL:https://jlsfrc.org/event/baby-toddler-time-3-2/2025-09-18/
LOCATION:San Juan Island Library\, 1010 Guard St\, Friday Harbor\, WA\, 98250\, United States
CATEGORIES:Birth-5
ATTACH;FMTTYPE=image/jpeg:https://jlsfrc.org/wp-content/uploads/2025/03/Baby-Toddler-Time-Event-1.jpg
END:VEVENT
BEGIN:VEVENT
DTSTART;TZID=America/Los_Angeles:20250911T100000
DTEND;TZID=America/Los_Angeles:20250911T100000
DTSTAMP:20260424T075739
CREATED:20250804T163916Z
LAST-MODIFIED:20260304T220207Z
UID:10006723-1757584800-1757584800@jlsfrc.org
SUMMARY:Baby Toddler Time
DESCRIPTION:Join us every Thursday from 10:00am – 11:30am in the San Juan Island Library meeting room. Each week\, we dive into fun activities like playing\, reading\, rhyming\, and singing\, all while enjoying some social time and play. It’s a fantastic opportunity to support your little one’s development in a lively and engaging environment. See you there! \n 
URL:https://jlsfrc.org/event/baby-toddler-time-3-2/2025-09-11/
LOCATION:San Juan Island Library\, 1010 Guard St\, Friday Harbor\, WA\, 98250\, United States
CATEGORIES:Birth-5
ATTACH;FMTTYPE=image/jpeg:https://jlsfrc.org/wp-content/uploads/2025/03/Baby-Toddler-Time-Event-1.jpg
END:VEVENT
BEGIN:VEVENT
DTSTART;TZID=America/Los_Angeles:20250904T100000
DTEND;TZID=America/Los_Angeles:20250904T100000
DTSTAMP:20260424T075739
CREATED:20250804T163916Z
LAST-MODIFIED:20260304T220207Z
UID:10006722-1756980000-1756980000@jlsfrc.org
SUMMARY:Baby Toddler Time
DESCRIPTION:Join us every Thursday from 10:00am – 11:30am in the San Juan Island Library meeting room. Each week\, we dive into fun activities like playing\, reading\, rhyming\, and singing\, all while enjoying some social time and play. It’s a fantastic opportunity to support your little one’s development in a lively and engaging environment. See you there! \n 
URL:https://jlsfrc.org/event/baby-toddler-time-3-2/2025-09-04/
LOCATION:San Juan Island Library\, 1010 Guard St\, Friday Harbor\, WA\, 98250\, United States
CATEGORIES:Birth-5
ATTACH;FMTTYPE=image/jpeg:https://jlsfrc.org/wp-content/uploads/2025/03/Baby-Toddler-Time-Event-1.jpg
END:VEVENT
BEGIN:VEVENT
DTSTART;TZID=America/Los_Angeles:20250828T100000
DTEND;TZID=America/Los_Angeles:20250828T100000
DTSTAMP:20260424T075739
CREATED:20250804T163916Z
LAST-MODIFIED:20260304T220207Z
UID:10006718-1756375200-1756375200@jlsfrc.org
SUMMARY:Baby Toddler Time
DESCRIPTION:Join us every Thursday from 10:00am – 11:30am in the San Juan Island Library meeting room. Each week\, we dive into fun activities like playing\, reading\, rhyming\, and singing\, all while enjoying some social time and play. It’s a fantastic opportunity to support your little one’s development in a lively and engaging environment. See you there! \n 
URL:https://jlsfrc.org/event/baby-toddler-time-3-2/2025-08-28/
LOCATION:San Juan Island Library\, 1010 Guard St\, Friday Harbor\, WA\, 98250\, United States
CATEGORIES:Birth-5
ATTACH;FMTTYPE=image/jpeg:https://jlsfrc.org/wp-content/uploads/2025/03/Baby-Toddler-Time-Event-1.jpg
END:VEVENT
BEGIN:VEVENT
DTSTART;TZID=America/Los_Angeles:20250731T100000
DTEND;TZID=America/Los_Angeles:20250731T113000
DTSTAMP:20260424T075739
CREATED:20250610T150707Z
LAST-MODIFIED:20250610T150707Z
UID:10006717-1753956000-1753961400@jlsfrc.org
SUMMARY:Baby Toddler Time
DESCRIPTION:Join us every Thursday from 10:00am – 11:30am in the San Juan Island Library meeting room. Each week\, we dive into fun activities like playing\, reading\, rhyming\, and singing\, all while enjoying some social time and play. It’s a fantastic opportunity to support your little one’s development in a lively and engaging environment. See you there! \n 
URL:https://jlsfrc.org/event/baby-toddler-time-3/2025-07-31/
LOCATION:San Juan Island Library\, 1010 Guard St\, Friday Harbor\, WA\, 98250\, United States
CATEGORIES:Birth-5
ATTACH;FMTTYPE=image/jpeg:https://jlsfrc.org/wp-content/uploads/2025/03/Baby-Toddler-Time-Event-1.jpg
END:VEVENT
BEGIN:VEVENT
DTSTART;TZID=America/Los_Angeles:20250724T100000
DTEND;TZID=America/Los_Angeles:20250724T113000
DTSTAMP:20260424T075739
CREATED:20250610T150707Z
LAST-MODIFIED:20250610T150707Z
UID:10006716-1753351200-1753356600@jlsfrc.org
SUMMARY:Baby Toddler Time
DESCRIPTION:Join us every Thursday from 10:00am – 11:30am in the San Juan Island Library meeting room. Each week\, we dive into fun activities like playing\, reading\, rhyming\, and singing\, all while enjoying some social time and play. It’s a fantastic opportunity to support your little one’s development in a lively and engaging environment. See you there! \n 
URL:https://jlsfrc.org/event/baby-toddler-time-3/2025-07-24/
LOCATION:San Juan Island Library\, 1010 Guard St\, Friday Harbor\, WA\, 98250\, United States
CATEGORIES:Birth-5
ATTACH;FMTTYPE=image/jpeg:https://jlsfrc.org/wp-content/uploads/2025/03/Baby-Toddler-Time-Event-1.jpg
END:VEVENT
BEGIN:VEVENT
DTSTART;TZID=America/Los_Angeles:20250717T100000
DTEND;TZID=America/Los_Angeles:20250717T113000
DTSTAMP:20260424T075739
CREATED:20250610T150707Z
LAST-MODIFIED:20250610T150707Z
UID:10006715-1752746400-1752751800@jlsfrc.org
SUMMARY:Baby Toddler Time
DESCRIPTION:Join us every Thursday from 10:00am – 11:30am in the San Juan Island Library meeting room. Each week\, we dive into fun activities like playing\, reading\, rhyming\, and singing\, all while enjoying some social time and play. It’s a fantastic opportunity to support your little one’s development in a lively and engaging environment. See you there! \n 
URL:https://jlsfrc.org/event/baby-toddler-time-3/2025-07-17/
LOCATION:San Juan Island Library\, 1010 Guard St\, Friday Harbor\, WA\, 98250\, United States
CATEGORIES:Birth-5
ATTACH;FMTTYPE=image/jpeg:https://jlsfrc.org/wp-content/uploads/2025/03/Baby-Toddler-Time-Event-1.jpg
END:VEVENT
BEGIN:VEVENT
DTSTART;TZID=America/Los_Angeles:20250710T100000
DTEND;TZID=America/Los_Angeles:20250710T113000
DTSTAMP:20260424T075739
CREATED:20250610T150707Z
LAST-MODIFIED:20250610T150707Z
UID:10006714-1752141600-1752147000@jlsfrc.org
SUMMARY:Baby Toddler Time
DESCRIPTION:Join us every Thursday from 10:00am – 11:30am in the San Juan Island Library meeting room. Each week\, we dive into fun activities like playing\, reading\, rhyming\, and singing\, all while enjoying some social time and play. It’s a fantastic opportunity to support your little one’s development in a lively and engaging environment. See you there! \n 
URL:https://jlsfrc.org/event/baby-toddler-time-3/2025-07-10/
LOCATION:San Juan Island Library\, 1010 Guard St\, Friday Harbor\, WA\, 98250\, United States
CATEGORIES:Birth-5
ATTACH;FMTTYPE=image/jpeg:https://jlsfrc.org/wp-content/uploads/2025/03/Baby-Toddler-Time-Event-1.jpg
END:VEVENT
BEGIN:VEVENT
DTSTART;TZID=America/Los_Angeles:20250703T100000
DTEND;TZID=America/Los_Angeles:20250703T113000
DTSTAMP:20260424T075739
CREATED:20250610T150707Z
LAST-MODIFIED:20250610T150707Z
UID:10006713-1751536800-1751542200@jlsfrc.org
SUMMARY:Baby Toddler Time
DESCRIPTION:Join us every Thursday from 10:00am – 11:30am in the San Juan Island Library meeting room. Each week\, we dive into fun activities like playing\, reading\, rhyming\, and singing\, all while enjoying some social time and play. It’s a fantastic opportunity to support your little one’s development in a lively and engaging environment. See you there! \n 
URL:https://jlsfrc.org/event/baby-toddler-time-3/2025-07-03/
LOCATION:San Juan Island Library\, 1010 Guard St\, Friday Harbor\, WA\, 98250\, United States
CATEGORIES:Birth-5
ATTACH;FMTTYPE=image/jpeg:https://jlsfrc.org/wp-content/uploads/2025/03/Baby-Toddler-Time-Event-1.jpg
END:VEVENT
BEGIN:VEVENT
DTSTART;TZID=America/Los_Angeles:20250626T100000
DTEND;TZID=America/Los_Angeles:20250626T113000
DTSTAMP:20260424T075739
CREATED:20250610T150707Z
LAST-MODIFIED:20250610T150707Z
UID:10006712-1750932000-1750937400@jlsfrc.org
SUMMARY:Baby Toddler Time
DESCRIPTION:Join us every Thursday from 10:00am – 11:30am in the San Juan Island Library meeting room. Each week\, we dive into fun activities like playing\, reading\, rhyming\, and singing\, all while enjoying some social time and play. It’s a fantastic opportunity to support your little one’s development in a lively and engaging environment. See you there! \n 
URL:https://jlsfrc.org/event/baby-toddler-time-3/2025-06-26/
LOCATION:San Juan Island Library\, 1010 Guard St\, Friday Harbor\, WA\, 98250\, United States
CATEGORIES:Birth-5
ATTACH;FMTTYPE=image/jpeg:https://jlsfrc.org/wp-content/uploads/2025/03/Baby-Toddler-Time-Event-1.jpg
END:VEVENT
BEGIN:VEVENT
DTSTART;TZID=America/Los_Angeles:20250612T100000
DTEND;TZID=America/Los_Angeles:20250612T113000
DTSTAMP:20260424T075739
CREATED:20250307T222636Z
LAST-MODIFIED:20250610T150414Z
UID:10006595-1749722400-1749727800@jlsfrc.org
SUMMARY:Baby Toddler Time
DESCRIPTION:Join us every Thursday from 10:00am – 11:30am in the San Juan Island Library meeting room. Each week\, we dive into fun activities like playing\, reading\, rhyming\, and singing\, all while enjoying some social time and play. It’s a fantastic opportunity to support your little one’s development in a lively and engaging environment. See you there! \nThursdays\, 10:00am \nApril: 3\,17\,24 \nMay 1\, 8\,15\, 22\, 29 \nJune: 5\,12\, 19\, 26
URL:https://jlsfrc.org/event/baby-toddler-time-2/2025-06-12/
LOCATION:San Juan Island Library\, 1010 Guard St\, Friday Harbor\, WA\, 98250\, United States
CATEGORIES:Birth-5
ATTACH;FMTTYPE=image/jpeg:https://jlsfrc.org/wp-content/uploads/2025/03/Baby-Toddler-Time-Event-1.jpg
END:VEVENT
BEGIN:VEVENT
DTSTART;TZID=America/Los_Angeles:20250605T100000
DTEND;TZID=America/Los_Angeles:20250605T113000
DTSTAMP:20260424T075739
CREATED:20250307T222636Z
LAST-MODIFIED:20250610T150414Z
UID:10006594-1749117600-1749123000@jlsfrc.org
SUMMARY:Baby Toddler Time
DESCRIPTION:Join us every Thursday from 10:00am – 11:30am in the San Juan Island Library meeting room. Each week\, we dive into fun activities like playing\, reading\, rhyming\, and singing\, all while enjoying some social time and play. It’s a fantastic opportunity to support your little one’s development in a lively and engaging environment. See you there! \nThursdays\, 10:00am \nApril: 3\,17\,24 \nMay 1\, 8\,15\, 22\, 29 \nJune: 5\,12\, 19\, 26
URL:https://jlsfrc.org/event/baby-toddler-time-2/2025-06-05/
LOCATION:San Juan Island Library\, 1010 Guard St\, Friday Harbor\, WA\, 98250\, United States
CATEGORIES:Birth-5
ATTACH;FMTTYPE=image/jpeg:https://jlsfrc.org/wp-content/uploads/2025/03/Baby-Toddler-Time-Event-1.jpg
END:VEVENT
END:VCALENDAR