BEGIN:VCALENDAR
VERSION:2.0
PRODID:-//Joyce L. Sobel Family Resource Center - ECPv6.15.17.1//NONSGML v1.0//EN
CALSCALE:GREGORIAN
METHOD:PUBLISH
X-ORIGINAL-URL:https://jlsfrc.org
X-WR-CALDESC:Events for Joyce L. Sobel Family Resource Center
REFRESH-INTERVAL;VALUE=DURATION:PT1H
X-Robots-Tag:noindex
X-PUBLISHED-TTL:PT1H
BEGIN:VTIMEZONE
TZID:America/Los_Angeles
BEGIN:DAYLIGHT
TZOFFSETFROM:-0800
TZOFFSETTO:-0700
TZNAME:PDT
DTSTART:20240310T100000
END:DAYLIGHT
BEGIN:STANDARD
TZOFFSETFROM:-0700
TZOFFSETTO:-0800
TZNAME:PST
DTSTART:20241103T090000
END:STANDARD
BEGIN:DAYLIGHT
TZOFFSETFROM:-0800
TZOFFSETTO:-0700
TZNAME:PDT
DTSTART:20250309T100000
END:DAYLIGHT
BEGIN:STANDARD
TZOFFSETFROM:-0700
TZOFFSETTO:-0800
TZNAME:PST
DTSTART:20251102T090000
END:STANDARD
BEGIN:DAYLIGHT
TZOFFSETFROM:-0800
TZOFFSETTO:-0700
TZNAME:PDT
DTSTART:20260308T100000
END:DAYLIGHT
BEGIN:STANDARD
TZOFFSETFROM:-0700
TZOFFSETTO:-0800
TZNAME:PST
DTSTART:20261101T090000
END:STANDARD
END:VTIMEZONE
BEGIN:VEVENT
DTSTART;TZID=America/Los_Angeles:20251008T093000
DTEND;TZID=America/Los_Angeles:20251008T110000
DTSTAMP:20260423T173551
CREATED:20250207T170049Z
LAST-MODIFIED:20260303T190236Z
UID:10006607-1759915800-1759921200@jlsfrc.org
SUMMARY:P2P Coffee Chat Morning Virtual Support Group
DESCRIPTION:Join us for our Parent to Parent (P2P) Coffee Chat Morning Virtual Support Group! Occurs on the second Wednesday of every month\, from 9:30am – 11:00am. \nTo register for the zoom link\, contact Jen DeShon\, P2P Coordinator.\nEmail: p2p@jlsfrc.org or call/text: 360-622-0326.
URL:https://jlsfrc.org/event/p2p-coffee-chat-morning-virtual-support-group/2025-10-08/
LOCATION:Virtual
CATEGORIES:P2P
ATTACH;FMTTYPE=image/jpeg:https://jlsfrc.org/wp-content/uploads/2025/02/Coffee-Chat-Morning-Virtual-Support-Group.jpg
END:VEVENT
BEGIN:VEVENT
DTSTART;TZID=America/Los_Angeles:20250910T093000
DTEND;TZID=America/Los_Angeles:20250910T110000
DTSTAMP:20260423T173551
CREATED:20250207T170049Z
LAST-MODIFIED:20260303T190236Z
UID:10006606-1757496600-1757502000@jlsfrc.org
SUMMARY:P2P Coffee Chat Morning Virtual Support Group
DESCRIPTION:Join us for our Parent to Parent (P2P) Coffee Chat Morning Virtual Support Group! Occurs on the second Wednesday of every month\, from 9:30am – 11:00am. \nTo register for the zoom link\, contact Jen DeShon\, P2P Coordinator.\nEmail: p2p@jlsfrc.org or call/text: 360-622-0326.
URL:https://jlsfrc.org/event/p2p-coffee-chat-morning-virtual-support-group/2025-09-10/
LOCATION:Virtual
CATEGORIES:P2P
ATTACH;FMTTYPE=image/jpeg:https://jlsfrc.org/wp-content/uploads/2025/02/Coffee-Chat-Morning-Virtual-Support-Group.jpg
END:VEVENT
BEGIN:VEVENT
DTSTART;TZID=America/Los_Angeles:20250909T180000
DTEND;TZID=America/Los_Angeles:20250909T193000
DTSTAMP:20260423T173551
CREATED:20250207T165556Z
LAST-MODIFIED:20260303T185400Z
UID:10006612-1757440800-1757446200@jlsfrc.org
SUMMARY:P2P Tea Talk Evening Virtual Support Group
DESCRIPTION:Join us for our Parent to Parent (P2P) Tea Talk Evening Virtual Support Group! Occurs on the second Tuesday of every month\, from 6:00pm – 7:30pm. \nTo register for the zoom link\, contact Jen DeShon\, P2P Coordinator.\nEmail: p2p@jlsfrc.org or call/text: 360-622-0326. \n 
URL:https://jlsfrc.org/event/p2p-tea-talk-evening-virtual-support-group/2025-09-09/
LOCATION:Virtual
CATEGORIES:P2P
ATTACH;FMTTYPE=image/jpeg:https://jlsfrc.org/wp-content/uploads/2025/02/Tea-Talk-Evening-Virtual-Support-Group.jpg
END:VEVENT
BEGIN:VEVENT
DTSTART;TZID=America/Los_Angeles:20250813T093000
DTEND;TZID=America/Los_Angeles:20250813T110000
DTSTAMP:20260423T173551
CREATED:20250207T170049Z
LAST-MODIFIED:20260303T190236Z
UID:10006605-1755077400-1755082800@jlsfrc.org
SUMMARY:P2P Coffee Chat Morning Virtual Support Group
DESCRIPTION:Join us for our Parent to Parent (P2P) Coffee Chat Morning Virtual Support Group! Occurs on the second Wednesday of every month\, from 9:30am – 11:00am. \nTo register for the zoom link\, contact Jen DeShon\, P2P Coordinator.\nEmail: p2p@jlsfrc.org or call/text: 360-622-0326.
URL:https://jlsfrc.org/event/p2p-coffee-chat-morning-virtual-support-group/2025-08-13/
LOCATION:Virtual
CATEGORIES:P2P
ATTACH;FMTTYPE=image/jpeg:https://jlsfrc.org/wp-content/uploads/2025/02/Coffee-Chat-Morning-Virtual-Support-Group.jpg
END:VEVENT
BEGIN:VEVENT
DTSTART;TZID=America/Los_Angeles:20250812T180000
DTEND;TZID=America/Los_Angeles:20250812T193000
DTSTAMP:20260423T173551
CREATED:20250207T165556Z
LAST-MODIFIED:20260303T185400Z
UID:10006611-1755021600-1755027000@jlsfrc.org
SUMMARY:P2P Tea Talk Evening Virtual Support Group
DESCRIPTION:Join us for our Parent to Parent (P2P) Tea Talk Evening Virtual Support Group! Occurs on the second Tuesday of every month\, from 6:00pm – 7:30pm. \nTo register for the zoom link\, contact Jen DeShon\, P2P Coordinator.\nEmail: p2p@jlsfrc.org or call/text: 360-622-0326. \n 
URL:https://jlsfrc.org/event/p2p-tea-talk-evening-virtual-support-group/2025-08-12/
LOCATION:Virtual
CATEGORIES:P2P
ATTACH;FMTTYPE=image/jpeg:https://jlsfrc.org/wp-content/uploads/2025/02/Tea-Talk-Evening-Virtual-Support-Group.jpg
END:VEVENT
BEGIN:VEVENT
DTSTART;TZID=America/Los_Angeles:20250709T093000
DTEND;TZID=America/Los_Angeles:20250709T110000
DTSTAMP:20260423T173551
CREATED:20250207T170049Z
LAST-MODIFIED:20260303T190236Z
UID:10006604-1752053400-1752058800@jlsfrc.org
SUMMARY:P2P Coffee Chat Morning Virtual Support Group
DESCRIPTION:Join us for our Parent to Parent (P2P) Coffee Chat Morning Virtual Support Group! Occurs on the second Wednesday of every month\, from 9:30am – 11:00am. \nTo register for the zoom link\, contact Jen DeShon\, P2P Coordinator.\nEmail: p2p@jlsfrc.org or call/text: 360-622-0326.
URL:https://jlsfrc.org/event/p2p-coffee-chat-morning-virtual-support-group/2025-07-09/
LOCATION:Virtual
CATEGORIES:P2P
ATTACH;FMTTYPE=image/jpeg:https://jlsfrc.org/wp-content/uploads/2025/02/Coffee-Chat-Morning-Virtual-Support-Group.jpg
END:VEVENT
BEGIN:VEVENT
DTSTART;TZID=America/Los_Angeles:20250708T180000
DTEND;TZID=America/Los_Angeles:20250708T193000
DTSTAMP:20260423T173551
CREATED:20250207T165556Z
LAST-MODIFIED:20260303T185400Z
UID:10006610-1751997600-1752003000@jlsfrc.org
SUMMARY:P2P Tea Talk Evening Virtual Support Group
DESCRIPTION:Join us for our Parent to Parent (P2P) Tea Talk Evening Virtual Support Group! Occurs on the second Tuesday of every month\, from 6:00pm – 7:30pm. \nTo register for the zoom link\, contact Jen DeShon\, P2P Coordinator.\nEmail: p2p@jlsfrc.org or call/text: 360-622-0326. \n 
URL:https://jlsfrc.org/event/p2p-tea-talk-evening-virtual-support-group/2025-07-08/
LOCATION:Virtual
CATEGORIES:P2P
ATTACH;FMTTYPE=image/jpeg:https://jlsfrc.org/wp-content/uploads/2025/02/Tea-Talk-Evening-Virtual-Support-Group.jpg
END:VEVENT
BEGIN:VEVENT
DTSTART;TZID=America/Los_Angeles:20250611T093000
DTEND;TZID=America/Los_Angeles:20250611T110000
DTSTAMP:20260423T173551
CREATED:20250207T170049Z
LAST-MODIFIED:20260303T190236Z
UID:10006603-1749634200-1749639600@jlsfrc.org
SUMMARY:P2P Coffee Chat Morning Virtual Support Group
DESCRIPTION:Join us for our Parent to Parent (P2P) Coffee Chat Morning Virtual Support Group! Occurs on the second Wednesday of every month\, from 9:30am – 11:00am. \nTo register for the zoom link\, contact Jen DeShon\, P2P Coordinator.\nEmail: p2p@jlsfrc.org or call/text: 360-622-0326.
URL:https://jlsfrc.org/event/p2p-coffee-chat-morning-virtual-support-group/2025-06-11/
LOCATION:Virtual
CATEGORIES:P2P
ATTACH;FMTTYPE=image/jpeg:https://jlsfrc.org/wp-content/uploads/2025/02/Coffee-Chat-Morning-Virtual-Support-Group.jpg
END:VEVENT
BEGIN:VEVENT
DTSTART;TZID=America/Los_Angeles:20250610T180000
DTEND;TZID=America/Los_Angeles:20250610T193000
DTSTAMP:20260423T173551
CREATED:20250207T165556Z
LAST-MODIFIED:20260303T185400Z
UID:10006609-1749578400-1749583800@jlsfrc.org
SUMMARY:P2P Tea Talk Evening Virtual Support Group
DESCRIPTION:Join us for our Parent to Parent (P2P) Tea Talk Evening Virtual Support Group! Occurs on the second Tuesday of every month\, from 6:00pm – 7:30pm. \nTo register for the zoom link\, contact Jen DeShon\, P2P Coordinator.\nEmail: p2p@jlsfrc.org or call/text: 360-622-0326. \n 
URL:https://jlsfrc.org/event/p2p-tea-talk-evening-virtual-support-group/2025-06-10/
LOCATION:Virtual
CATEGORIES:P2P
ATTACH;FMTTYPE=image/jpeg:https://jlsfrc.org/wp-content/uploads/2025/02/Tea-Talk-Evening-Virtual-Support-Group.jpg
END:VEVENT
BEGIN:VEVENT
DTSTART;TZID=America/Los_Angeles:20250514T093000
DTEND;TZID=America/Los_Angeles:20250514T110000
DTSTAMP:20260423T173551
CREATED:20250207T170049Z
LAST-MODIFIED:20260303T190236Z
UID:10006342-1747215000-1747220400@jlsfrc.org
SUMMARY:P2P Coffee Chat Morning Virtual Support Group
DESCRIPTION:Join us for our Parent to Parent (P2P) Coffee Chat Morning Virtual Support Group! Occurs on the second Wednesday of every month\, from 9:30am – 11:00am. \nTo register for the zoom link\, contact Jen DeShon\, P2P Coordinator.\nEmail: p2p@jlsfrc.org or call/text: 360-622-0326.
URL:https://jlsfrc.org/event/p2p-coffee-chat-morning-virtual-support-group/2025-05-14/
LOCATION:Virtual
CATEGORIES:P2P
ATTACH;FMTTYPE=image/jpeg:https://jlsfrc.org/wp-content/uploads/2025/02/Coffee-Chat-Morning-Virtual-Support-Group.jpg
END:VEVENT
BEGIN:VEVENT
DTSTART;TZID=America/Los_Angeles:20250513T180000
DTEND;TZID=America/Los_Angeles:20250513T193000
DTSTAMP:20260423T173551
CREATED:20250207T165556Z
LAST-MODIFIED:20260303T185400Z
UID:10006338-1747159200-1747164600@jlsfrc.org
SUMMARY:P2P Tea Talk Evening Virtual Support Group
DESCRIPTION:Join us for our Parent to Parent (P2P) Tea Talk Evening Virtual Support Group! Occurs on the second Tuesday of every month\, from 6:00pm – 7:30pm. \nTo register for the zoom link\, contact Jen DeShon\, P2P Coordinator.\nEmail: p2p@jlsfrc.org or call/text: 360-622-0326. \n 
URL:https://jlsfrc.org/event/p2p-tea-talk-evening-virtual-support-group/2025-05-13/
LOCATION:Virtual
CATEGORIES:P2P
ATTACH;FMTTYPE=image/jpeg:https://jlsfrc.org/wp-content/uploads/2025/02/Tea-Talk-Evening-Virtual-Support-Group.jpg
END:VEVENT
BEGIN:VEVENT
DTSTART;TZID=America/Los_Angeles:20250409T093000
DTEND;TZID=America/Los_Angeles:20250409T110000
DTSTAMP:20260423T173551
CREATED:20250207T170049Z
LAST-MODIFIED:20260303T190236Z
UID:10006341-1744191000-1744196400@jlsfrc.org
SUMMARY:P2P Coffee Chat Morning Virtual Support Group
DESCRIPTION:Join us for our Parent to Parent (P2P) Coffee Chat Morning Virtual Support Group! Occurs on the second Wednesday of every month\, from 9:30am – 11:00am. \nTo register for the zoom link\, contact Jen DeShon\, P2P Coordinator.\nEmail: p2p@jlsfrc.org or call/text: 360-622-0326.
URL:https://jlsfrc.org/event/p2p-coffee-chat-morning-virtual-support-group/2025-04-09/
LOCATION:Virtual
CATEGORIES:P2P
ATTACH;FMTTYPE=image/jpeg:https://jlsfrc.org/wp-content/uploads/2025/02/Coffee-Chat-Morning-Virtual-Support-Group.jpg
END:VEVENT
BEGIN:VEVENT
DTSTART;TZID=America/Los_Angeles:20250408T180000
DTEND;TZID=America/Los_Angeles:20250408T193000
DTSTAMP:20260423T173551
CREATED:20250207T165556Z
LAST-MODIFIED:20260303T185400Z
UID:10006337-1744135200-1744140600@jlsfrc.org
SUMMARY:P2P Tea Talk Evening Virtual Support Group
DESCRIPTION:Join us for our Parent to Parent (P2P) Tea Talk Evening Virtual Support Group! Occurs on the second Tuesday of every month\, from 6:00pm – 7:30pm. \nTo register for the zoom link\, contact Jen DeShon\, P2P Coordinator.\nEmail: p2p@jlsfrc.org or call/text: 360-622-0326. \n 
URL:https://jlsfrc.org/event/p2p-tea-talk-evening-virtual-support-group/2025-04-08/
LOCATION:Virtual
CATEGORIES:P2P
ATTACH;FMTTYPE=image/jpeg:https://jlsfrc.org/wp-content/uploads/2025/02/Tea-Talk-Evening-Virtual-Support-Group.jpg
END:VEVENT
BEGIN:VEVENT
DTSTART;TZID=America/Los_Angeles:20250312T093000
DTEND;TZID=America/Los_Angeles:20250312T110000
DTSTAMP:20260423T173551
CREATED:20250207T170049Z
LAST-MODIFIED:20260303T190236Z
UID:10006340-1741771800-1741777200@jlsfrc.org
SUMMARY:P2P Coffee Chat Morning Virtual Support Group
DESCRIPTION:Join us for our Parent to Parent (P2P) Coffee Chat Morning Virtual Support Group! Occurs on the second Wednesday of every month\, from 9:30am – 11:00am. \nTo register for the zoom link\, contact Jen DeShon\, P2P Coordinator.\nEmail: p2p@jlsfrc.org or call/text: 360-622-0326.
URL:https://jlsfrc.org/event/p2p-coffee-chat-morning-virtual-support-group/2025-03-12/
LOCATION:Virtual
CATEGORIES:P2P
ATTACH;FMTTYPE=image/jpeg:https://jlsfrc.org/wp-content/uploads/2025/02/Coffee-Chat-Morning-Virtual-Support-Group.jpg
END:VEVENT
BEGIN:VEVENT
DTSTART;TZID=America/Los_Angeles:20250311T180000
DTEND;TZID=America/Los_Angeles:20250311T193000
DTSTAMP:20260423T173551
CREATED:20250207T165556Z
LAST-MODIFIED:20260303T185400Z
UID:10006336-1741716000-1741721400@jlsfrc.org
SUMMARY:P2P Tea Talk Evening Virtual Support Group
DESCRIPTION:Join us for our Parent to Parent (P2P) Tea Talk Evening Virtual Support Group! Occurs on the second Tuesday of every month\, from 6:00pm – 7:30pm. \nTo register for the zoom link\, contact Jen DeShon\, P2P Coordinator.\nEmail: p2p@jlsfrc.org or call/text: 360-622-0326. \n 
URL:https://jlsfrc.org/event/p2p-tea-talk-evening-virtual-support-group/2025-03-11/
LOCATION:Virtual
CATEGORIES:P2P
ATTACH;FMTTYPE=image/jpeg:https://jlsfrc.org/wp-content/uploads/2025/02/Tea-Talk-Evening-Virtual-Support-Group.jpg
END:VEVENT
BEGIN:VEVENT
DTSTART;TZID=America/Los_Angeles:20250212T093000
DTEND;TZID=America/Los_Angeles:20250212T110000
DTSTAMP:20260423T173551
CREATED:20250207T170049Z
LAST-MODIFIED:20260303T190236Z
UID:10006339-1739352600-1739358000@jlsfrc.org
SUMMARY:P2P Coffee Chat Morning Virtual Support Group
DESCRIPTION:Join us for our Parent to Parent (P2P) Coffee Chat Morning Virtual Support Group! Occurs on the second Wednesday of every month\, from 9:30am – 11:00am. \nTo register for the zoom link\, contact Jen DeShon\, P2P Coordinator.\nEmail: p2p@jlsfrc.org or call/text: 360-622-0326.
URL:https://jlsfrc.org/event/p2p-coffee-chat-morning-virtual-support-group/2025-02-12/
LOCATION:Virtual
CATEGORIES:P2P
ATTACH;FMTTYPE=image/jpeg:https://jlsfrc.org/wp-content/uploads/2025/02/Coffee-Chat-Morning-Virtual-Support-Group.jpg
END:VEVENT
BEGIN:VEVENT
DTSTART;TZID=America/Los_Angeles:20250211T180000
DTEND;TZID=America/Los_Angeles:20250211T193000
DTSTAMP:20260423T173551
CREATED:20250207T165556Z
LAST-MODIFIED:20260303T185400Z
UID:10006335-1739296800-1739302200@jlsfrc.org
SUMMARY:P2P Tea Talk Evening Virtual Support Group
DESCRIPTION:Join us for our Parent to Parent (P2P) Tea Talk Evening Virtual Support Group! Occurs on the second Tuesday of every month\, from 6:00pm – 7:30pm. \nTo register for the zoom link\, contact Jen DeShon\, P2P Coordinator.\nEmail: p2p@jlsfrc.org or call/text: 360-622-0326. \n 
URL:https://jlsfrc.org/event/p2p-tea-talk-evening-virtual-support-group/2025-02-11/
LOCATION:Virtual
CATEGORIES:P2P
ATTACH;FMTTYPE=image/jpeg:https://jlsfrc.org/wp-content/uploads/2025/02/Tea-Talk-Evening-Virtual-Support-Group.jpg
END:VEVENT
END:VCALENDAR